BEGIN:VCALENDAR
VERSION:2.0
PRODID:-//Solanco Neighborhood Ministries - ECPv6.15.20//NONSGML v1.0//EN
CALSCALE:GREGORIAN
METHOD:PUBLISH
X-ORIGINAL-URL:https://solanconeighborhoodministries.org
X-WR-CALDESC:Events for Solanco Neighborhood Ministries
REFRESH-INTERVAL;VALUE=DURATION:PT1H
X-Robots-Tag:noindex
X-PUBLISHED-TTL:PT1H
BEGIN:VTIMEZONE
TZID:America/New_York
BEGIN:DAYLIGHT
TZOFFSETFROM:-0500
TZOFFSETTO:-0400
TZNAME:EDT
DTSTART:20220313T070000
END:DAYLIGHT
BEGIN:STANDARD
TZOFFSETFROM:-0400
TZOFFSETTO:-0500
TZNAME:EST
DTSTART:20221106T060000
END:STANDARD
BEGIN:DAYLIGHT
TZOFFSETFROM:-0500
TZOFFSETTO:-0400
TZNAME:EDT
DTSTART:20230312T070000
END:DAYLIGHT
BEGIN:STANDARD
TZOFFSETFROM:-0400
TZOFFSETTO:-0500
TZNAME:EST
DTSTART:20231105T060000
END:STANDARD
BEGIN:DAYLIGHT
TZOFFSETFROM:-0500
TZOFFSETTO:-0400
TZNAME:EDT
DTSTART:20240310T070000
END:DAYLIGHT
BEGIN:STANDARD
TZOFFSETFROM:-0400
TZOFFSETTO:-0500
TZNAME:EST
DTSTART:20241103T060000
END:STANDARD
END:VTIMEZONE
BEGIN:VEVENT
DTSTART;TZID=America/New_York:20230808T180000
DTEND;TZID=America/New_York:20230808T190000
DTSTAMP:20260419T121545
CREATED:20230626T153916Z
LAST-MODIFIED:20230807T175945Z
UID:10000281-1691517600-1691521200@solanconeighborhoodministries.org
SUMMARY:SUMMER WORKSHOP: Navigating Medical Expenses
DESCRIPTION:Do you struggle navigating medical expenses? We will review local medical assistance programs from where to find the information about the programs to how to apply for assistance. We will also look at how to manage prescription costs. Bring your questions and any tips that you can share with the group to help save money and get the medical services we need without excessive costs when possible \nAll the classes will have a meal and drinks available. Clients must preregister. Different Prizes will be available at each class. Classes will be held at 6pm. Classes will be at Huffnagle Park at the pavilion unless we have bad weather and then it will be held at SNM program room.
URL:https://solanconeighborhoodministries.org/ministry-event/8-8-navigating-medical-expenses/
LOCATION:Huffnagle Park\, Oak Lane\, Quarryville\, PA\, 17566
CATEGORIES:Free
ATTACH;FMTTYPE=image/jpeg:https://solanconeighborhoodministries.org/wp-content/uploads/2023/06/pexels-karolina-grabowska-4386398.jpg
ORGANIZER;CN="SNM Programs":MAILTO:programs@snministries.org
END:VEVENT
END:VCALENDAR