BEGIN:VCALENDAR
VERSION:2.0
PRODID:-//Solanco Neighborhood Ministries - ECPv6.15.20//NONSGML v1.0//EN
CALSCALE:GREGORIAN
METHOD:PUBLISH
X-ORIGINAL-URL:https://solanconeighborhoodministries.org
X-WR-CALDESC:Events for Solanco Neighborhood Ministries
REFRESH-INTERVAL;VALUE=DURATION:PT1H
X-Robots-Tag:noindex
X-PUBLISHED-TTL:PT1H
BEGIN:VTIMEZONE
TZID:America/New_York
BEGIN:DAYLIGHT
TZOFFSETFROM:-0500
TZOFFSETTO:-0400
TZNAME:EDT
DTSTART:20220313T070000
END:DAYLIGHT
BEGIN:STANDARD
TZOFFSETFROM:-0400
TZOFFSETTO:-0500
TZNAME:EST
DTSTART:20221106T060000
END:STANDARD
BEGIN:DAYLIGHT
TZOFFSETFROM:-0500
TZOFFSETTO:-0400
TZNAME:EDT
DTSTART:20230312T070000
END:DAYLIGHT
BEGIN:STANDARD
TZOFFSETFROM:-0400
TZOFFSETTO:-0500
TZNAME:EST
DTSTART:20231105T060000
END:STANDARD
BEGIN:DAYLIGHT
TZOFFSETFROM:-0500
TZOFFSETTO:-0400
TZNAME:EDT
DTSTART:20240310T070000
END:DAYLIGHT
BEGIN:STANDARD
TZOFFSETFROM:-0400
TZOFFSETTO:-0500
TZNAME:EST
DTSTART:20241103T060000
END:STANDARD
END:VTIMEZONE
BEGIN:VTIMEZONE
TZID:UTC
BEGIN:STANDARD
TZOFFSETFROM:+0000
TZOFFSETTO:+0000
TZNAME:UTC
DTSTART:20220101T000000
END:STANDARD
END:VTIMEZONE
BEGIN:VEVENT
DTSTART;TZID=America/New_York:20231025T110000
DTEND;TZID=America/New_York:20231025T120000
DTSTAMP:20260419T091022
CREATED:20230901T162717Z
LAST-MODIFIED:20231024T121655Z
UID:10000336-1698231600-1698235200@solanconeighborhoodministries.org
SUMMARY:Cooking Class Series
DESCRIPTION:***NEW***Cooking Classes:  Everyone from the Community is Welcome to join us for these events\nWe have invited Community Action Partnership (CAP) to come and teach cooking classes this Fall at our location on 14 S Church St in Quarryville.  You will be able to prepare\, cook\, taste\, and bring home some food from these events. More information will be shared closer to the event to those who are registered to attend.\nRegister early. Space is limited.
URL:https://solanconeighborhoodministries.org/ministry-event/102523-cooking-class-series/
LOCATION:Solanco Neighborhood Ministries\, 14 S. Church Street\, Quarryville\, PA\, 17566\, United States
CATEGORIES:Cooking Class
ATTACH;FMTTYPE=image/jpeg:https://solanconeighborhoodministries.org/wp-content/uploads/2023/09/pexels-engin-akyurt-1435904.jpg
ORGANIZER;CN="SNM Programs":MAILTO:programs@snministries.org
END:VEVENT
BEGIN:VEVENT
DTSTART;TZID=UTC:20231025T130000
DTEND;TZID=UTC:20231025T160000
DTSTAMP:20260419T091022
CREATED:20230327T235920Z
LAST-MODIFIED:20230604T183305Z
UID:10000037-1698238800-1698249600@solanconeighborhoodministries.org
SUMMARY:Pastor's Hours
DESCRIPTION:Sometimes\, you just want someone to talk to. Or maybe you are having trouble seeing God in your circumstances. Every Wednesday from 1-4PM a local pastor is on-site and is ready to listen to you and provide you with positive spiritual encouragement. No appointment necessary.
URL:https://solanconeighborhoodministries.org/ministry-event/pastors-hours/2023-10-25/
LOCATION:Solanco Neighborhood Ministries\, 14 S. Church Street\, Quarryville\, PA\, 17566\, United States
CATEGORIES:Free
ATTACH;FMTTYPE=image/png:https://solanconeighborhoodministries.org/wp-content/uploads/2023/03/Bible_FPO-1.png
END:VEVENT
END:VCALENDAR