BEGIN:VCALENDAR
VERSION:2.0
PRODID:-//Solanco Neighborhood Ministries - ECPv6.15.20//NONSGML v1.0//EN
CALSCALE:GREGORIAN
METHOD:PUBLISH
X-WR-CALNAME:Solanco Neighborhood Ministries
X-ORIGINAL-URL:https://solanconeighborhoodministries.org
X-WR-CALDESC:Events for Solanco Neighborhood Ministries
REFRESH-INTERVAL;VALUE=DURATION:PT1H
X-Robots-Tag:noindex
X-PUBLISHED-TTL:PT1H
BEGIN:VTIMEZONE
TZID:America/New_York
BEGIN:DAYLIGHT
TZOFFSETFROM:-0500
TZOFFSETTO:-0400
TZNAME:EDT
DTSTART:20230312T070000
END:DAYLIGHT
BEGIN:STANDARD
TZOFFSETFROM:-0400
TZOFFSETTO:-0500
TZNAME:EST
DTSTART:20231105T060000
END:STANDARD
BEGIN:DAYLIGHT
TZOFFSETFROM:-0500
TZOFFSETTO:-0400
TZNAME:EDT
DTSTART:20240310T070000
END:DAYLIGHT
BEGIN:STANDARD
TZOFFSETFROM:-0400
TZOFFSETTO:-0500
TZNAME:EST
DTSTART:20241103T060000
END:STANDARD
BEGIN:DAYLIGHT
TZOFFSETFROM:-0500
TZOFFSETTO:-0400
TZNAME:EDT
DTSTART:20250309T070000
END:DAYLIGHT
BEGIN:STANDARD
TZOFFSETFROM:-0400
TZOFFSETTO:-0500
TZNAME:EST
DTSTART:20251102T060000
END:STANDARD
END:VTIMEZONE
BEGIN:VEVENT
DTSTART;TZID=America/New_York:20241217T090000
DTEND;TZID=America/New_York:20241217T160000
DTSTAMP:20260419T154154
CREATED:20241119T170153Z
LAST-MODIFIED:20241216T131844Z
UID:10001422-1734426000-1734451200@solanconeighborhoodministries.org
SUMMARY:Christmas Meal Pick up at Solanco Neighborhood Ministries
DESCRIPTION:The year is almost over but not before we celebrate Christmas.  As we have done for many years\, we will be packing Christmas meals and distributing them to those in need in the Solanco community.\nWhy: Jesus commands us to love our neighbor and we show that love by serving others in our community.\nHow: To register click on the blue “Going” button below and fill out the form or call our office at 717-786-4308. \nCost: Free\nWhere: Solanco Neighborhood Ministries\, 14 S Church St Quarryville PA at the rear of the building facing Huffnagle Park\nWho: Anyone in need of help with food for Christmas from our service area (Following zip codes: 17503\, 17509\, 17518\, 17532\, 17536\, 17537\, 17560\, 17563\, 17565\, 17566\, 17568\, 17584\, and 19362 Lancaster side not Oxford or Nottingham in Chester County)\nWhen: December 17th 9am to 4pm
URL:https://solanconeighborhoodministries.org/ministry-event/christmas-meal-pick-up-at-solanco-neighborhood-ministries/
LOCATION:Solanco Neighborhood Ministries\, 14 S. Church Street\, Quarryville\, PA\, 17566\, United States
CATEGORIES:Free
ORGANIZER;CN="SNM Programs":MAILTO:programs@snministries.org
END:VEVENT
END:VCALENDAR