BEGIN:VCALENDAR
VERSION:2.0
PRODID:-//Solanco Neighborhood Ministries - ECPv6.15.20//NONSGML v1.0//EN
CALSCALE:GREGORIAN
METHOD:PUBLISH
X-ORIGINAL-URL:https://solanconeighborhoodministries.org
X-WR-CALDESC:Events for Solanco Neighborhood Ministries
REFRESH-INTERVAL;VALUE=DURATION:PT1H
X-Robots-Tag:noindex
X-PUBLISHED-TTL:PT1H
BEGIN:VTIMEZONE
TZID:America/New_York
BEGIN:DAYLIGHT
TZOFFSETFROM:-0500
TZOFFSETTO:-0400
TZNAME:EDT
DTSTART:20230312T070000
END:DAYLIGHT
BEGIN:STANDARD
TZOFFSETFROM:-0400
TZOFFSETTO:-0500
TZNAME:EST
DTSTART:20231105T060000
END:STANDARD
BEGIN:DAYLIGHT
TZOFFSETFROM:-0500
TZOFFSETTO:-0400
TZNAME:EDT
DTSTART:20240310T070000
END:DAYLIGHT
BEGIN:STANDARD
TZOFFSETFROM:-0400
TZOFFSETTO:-0500
TZNAME:EST
DTSTART:20241103T060000
END:STANDARD
BEGIN:DAYLIGHT
TZOFFSETFROM:-0500
TZOFFSETTO:-0400
TZNAME:EDT
DTSTART:20250309T070000
END:DAYLIGHT
BEGIN:STANDARD
TZOFFSETFROM:-0400
TZOFFSETTO:-0500
TZNAME:EST
DTSTART:20251102T060000
END:STANDARD
END:VTIMEZONE
BEGIN:VTIMEZONE
TZID:UTC
BEGIN:STANDARD
TZOFFSETFROM:+0000
TZOFFSETTO:+0000
TZNAME:UTC
DTSTART:20240101T000000
END:STANDARD
END:VTIMEZONE
BEGIN:VEVENT
DTSTART;TZID=America/New_York:20241229T130000
DTEND;TZID=America/New_York:20241229T160000
DTSTAMP:20260419T193326
CREATED:20241120T133858Z
LAST-MODIFIED:20250103T165456Z
UID:10001430-1735477200-1735488000@solanconeighborhoodministries.org
SUMMARY:View a Train Display in December
DESCRIPTION:You are invited to the “Train Displays in Willow Street” this December 7\,8\,14\,15\,21\,22\,28\,29. Hours are 1pm-4pm. Admission will be by donations of nonperishable food items or cash for the benefit of Solanco Neighborhood Ministries and the Conestoga Area Food Bank.\nThe first display will be at Chris and Justin Trout’s home at 1729 Hans Herr Dr Willow Street PA with parking in their driveway or lawn. They will have 3 layouts including HO Marklin trains and German Buildings\, Lionel Prewar\, American Flyer and Ives Standard gauge plus Lionel Postwar O gauge. They will also have a collection of original Christmas Department Store animated window displays like Watt & Shand used to have years ago.\nThe second display will be presented by Al Strausner\, Matthew Palmeri\, Ben Stiles at West Willow UMC Church at 118 West Willow Rd Willow Street PA with parking in the church parking lot. Handicap accessible by calling 717-917-6922 upon arrival. The layout will have 2 O Gauge trains circling the town of Plasticville and Ben’s Circus. The Plasticville town pieces are vintage 50’s and 60’s buildings from our personal collection and Ben’s circus are a collection of vintage toys\, built kits\, and scratch-built scenes and train cars.\n 
URL:https://solanconeighborhoodministries.org/ministry-event/view-a-train-display-in-december/2024-12-29/
LOCATION:Solanco Neighborhood Ministries\, 14 S. Church Street\, Quarryville\, PA\, 17566\, United States
CATEGORIES:Free
ORGANIZER;CN="SNM Programs":MAILTO:programs@snministries.org
END:VEVENT
BEGIN:VEVENT
DTSTART;TZID=UTC:20250101T130000
DTEND;TZID=UTC:20250101T160000
DTSTAMP:20260419T193326
CREATED:20230327T235920Z
LAST-MODIFIED:20230604T183305Z
UID:10000099-1735736400-1735747200@solanconeighborhoodministries.org
SUMMARY:Pastor's Hours
DESCRIPTION:Sometimes\, you just want someone to talk to. Or maybe you are having trouble seeing God in your circumstances. Every Wednesday from 1-4PM a local pastor is on-site and is ready to listen to you and provide you with positive spiritual encouragement. No appointment necessary.
URL:https://solanconeighborhoodministries.org/ministry-event/pastors-hours/2025-01-01/
LOCATION:Solanco Neighborhood Ministries\, 14 S. Church Street\, Quarryville\, PA\, 17566\, United States
CATEGORIES:Free
ATTACH;FMTTYPE=image/png:https://solanconeighborhoodministries.org/wp-content/uploads/2023/03/Bible_FPO-1.png
END:VEVENT
BEGIN:VEVENT
DTSTART;TZID=UTC:20250108T130000
DTEND;TZID=UTC:20250108T160000
DTSTAMP:20260419T193327
CREATED:20230327T235920Z
LAST-MODIFIED:20230604T183305Z
UID:10000100-1736341200-1736352000@solanconeighborhoodministries.org
SUMMARY:Pastor's Hours
DESCRIPTION:Sometimes\, you just want someone to talk to. Or maybe you are having trouble seeing God in your circumstances. Every Wednesday from 1-4PM a local pastor is on-site and is ready to listen to you and provide you with positive spiritual encouragement. No appointment necessary.
URL:https://solanconeighborhoodministries.org/ministry-event/pastors-hours/2025-01-08/
LOCATION:Solanco Neighborhood Ministries\, 14 S. Church Street\, Quarryville\, PA\, 17566\, United States
CATEGORIES:Free
ATTACH;FMTTYPE=image/png:https://solanconeighborhoodministries.org/wp-content/uploads/2023/03/Bible_FPO-1.png
END:VEVENT
BEGIN:VEVENT
DTSTART;TZID=UTC:20250115T130000
DTEND;TZID=UTC:20250115T160000
DTSTAMP:20260419T193327
CREATED:20230327T235920Z
LAST-MODIFIED:20230604T183305Z
UID:10000101-1736946000-1736956800@solanconeighborhoodministries.org
SUMMARY:Pastor's Hours
DESCRIPTION:Sometimes\, you just want someone to talk to. Or maybe you are having trouble seeing God in your circumstances. Every Wednesday from 1-4PM a local pastor is on-site and is ready to listen to you and provide you with positive spiritual encouragement. No appointment necessary.
URL:https://solanconeighborhoodministries.org/ministry-event/pastors-hours/2025-01-15/
LOCATION:Solanco Neighborhood Ministries\, 14 S. Church Street\, Quarryville\, PA\, 17566\, United States
CATEGORIES:Free
ATTACH;FMTTYPE=image/png:https://solanconeighborhoodministries.org/wp-content/uploads/2023/03/Bible_FPO-1.png
END:VEVENT
BEGIN:VEVENT
DTSTART;TZID=UTC:20250122T130000
DTEND;TZID=UTC:20250122T160000
DTSTAMP:20260419T193327
CREATED:20230327T235920Z
LAST-MODIFIED:20230604T183305Z
UID:10000102-1737550800-1737561600@solanconeighborhoodministries.org
SUMMARY:Pastor's Hours
DESCRIPTION:Sometimes\, you just want someone to talk to. Or maybe you are having trouble seeing God in your circumstances. Every Wednesday from 1-4PM a local pastor is on-site and is ready to listen to you and provide you with positive spiritual encouragement. No appointment necessary.
URL:https://solanconeighborhoodministries.org/ministry-event/pastors-hours/2025-01-22/
LOCATION:Solanco Neighborhood Ministries\, 14 S. Church Street\, Quarryville\, PA\, 17566\, United States
CATEGORIES:Free
ATTACH;FMTTYPE=image/png:https://solanconeighborhoodministries.org/wp-content/uploads/2023/03/Bible_FPO-1.png
END:VEVENT
BEGIN:VEVENT
DTSTART;TZID=UTC:20250129T130000
DTEND;TZID=UTC:20250129T160000
DTSTAMP:20260419T193327
CREATED:20230327T235920Z
LAST-MODIFIED:20230604T183305Z
UID:10000103-1738155600-1738166400@solanconeighborhoodministries.org
SUMMARY:Pastor's Hours
DESCRIPTION:Sometimes\, you just want someone to talk to. Or maybe you are having trouble seeing God in your circumstances. Every Wednesday from 1-4PM a local pastor is on-site and is ready to listen to you and provide you with positive spiritual encouragement. No appointment necessary.
URL:https://solanconeighborhoodministries.org/ministry-event/pastors-hours/2025-01-29/
LOCATION:Solanco Neighborhood Ministries\, 14 S. Church Street\, Quarryville\, PA\, 17566\, United States
CATEGORIES:Free
ATTACH;FMTTYPE=image/png:https://solanconeighborhoodministries.org/wp-content/uploads/2023/03/Bible_FPO-1.png
END:VEVENT
BEGIN:VEVENT
DTSTART;TZID=UTC:20250205T130000
DTEND;TZID=UTC:20250205T160000
DTSTAMP:20260419T193327
CREATED:20230327T235920Z
LAST-MODIFIED:20230604T183305Z
UID:10000104-1738760400-1738771200@solanconeighborhoodministries.org
SUMMARY:Pastor's Hours
DESCRIPTION:Sometimes\, you just want someone to talk to. Or maybe you are having trouble seeing God in your circumstances. Every Wednesday from 1-4PM a local pastor is on-site and is ready to listen to you and provide you with positive spiritual encouragement. No appointment necessary.
URL:https://solanconeighborhoodministries.org/ministry-event/pastors-hours/2025-02-05/
LOCATION:Solanco Neighborhood Ministries\, 14 S. Church Street\, Quarryville\, PA\, 17566\, United States
CATEGORIES:Free
ATTACH;FMTTYPE=image/png:https://solanconeighborhoodministries.org/wp-content/uploads/2023/03/Bible_FPO-1.png
END:VEVENT
BEGIN:VEVENT
DTSTART;TZID=UTC:20250212T130000
DTEND;TZID=UTC:20250212T160000
DTSTAMP:20260419T193327
CREATED:20230327T235920Z
LAST-MODIFIED:20230604T183305Z
UID:10000105-1739365200-1739376000@solanconeighborhoodministries.org
SUMMARY:Pastor's Hours
DESCRIPTION:Sometimes\, you just want someone to talk to. Or maybe you are having trouble seeing God in your circumstances. Every Wednesday from 1-4PM a local pastor is on-site and is ready to listen to you and provide you with positive spiritual encouragement. No appointment necessary.
URL:https://solanconeighborhoodministries.org/ministry-event/pastors-hours/2025-02-12/
LOCATION:Solanco Neighborhood Ministries\, 14 S. Church Street\, Quarryville\, PA\, 17566\, United States
CATEGORIES:Free
ATTACH;FMTTYPE=image/png:https://solanconeighborhoodministries.org/wp-content/uploads/2023/03/Bible_FPO-1.png
END:VEVENT
BEGIN:VEVENT
DTSTART;TZID=UTC:20250219T130000
DTEND;TZID=UTC:20250219T160000
DTSTAMP:20260419T193327
CREATED:20230327T235920Z
LAST-MODIFIED:20230604T183305Z
UID:10000106-1739970000-1739980800@solanconeighborhoodministries.org
SUMMARY:Pastor's Hours
DESCRIPTION:Sometimes\, you just want someone to talk to. Or maybe you are having trouble seeing God in your circumstances. Every Wednesday from 1-4PM a local pastor is on-site and is ready to listen to you and provide you with positive spiritual encouragement. No appointment necessary.
URL:https://solanconeighborhoodministries.org/ministry-event/pastors-hours/2025-02-19/
LOCATION:Solanco Neighborhood Ministries\, 14 S. Church Street\, Quarryville\, PA\, 17566\, United States
CATEGORIES:Free
ATTACH;FMTTYPE=image/png:https://solanconeighborhoodministries.org/wp-content/uploads/2023/03/Bible_FPO-1.png
END:VEVENT
BEGIN:VEVENT
DTSTART;TZID=UTC:20250226T130000
DTEND;TZID=UTC:20250226T160000
DTSTAMP:20260419T193327
CREATED:20230327T235920Z
LAST-MODIFIED:20230604T183305Z
UID:10000107-1740574800-1740585600@solanconeighborhoodministries.org
SUMMARY:Pastor's Hours
DESCRIPTION:Sometimes\, you just want someone to talk to. Or maybe you are having trouble seeing God in your circumstances. Every Wednesday from 1-4PM a local pastor is on-site and is ready to listen to you and provide you with positive spiritual encouragement. No appointment necessary.
URL:https://solanconeighborhoodministries.org/ministry-event/pastors-hours/2025-02-26/
LOCATION:Solanco Neighborhood Ministries\, 14 S. Church Street\, Quarryville\, PA\, 17566\, United States
CATEGORIES:Free
ATTACH;FMTTYPE=image/png:https://solanconeighborhoodministries.org/wp-content/uploads/2023/03/Bible_FPO-1.png
END:VEVENT
BEGIN:VEVENT
DTSTART;TZID=UTC:20250305T130000
DTEND;TZID=UTC:20250305T160000
DTSTAMP:20260419T193327
CREATED:20230327T235920Z
LAST-MODIFIED:20230604T183305Z
UID:10000108-1741179600-1741190400@solanconeighborhoodministries.org
SUMMARY:Pastor's Hours
DESCRIPTION:Sometimes\, you just want someone to talk to. Or maybe you are having trouble seeing God in your circumstances. Every Wednesday from 1-4PM a local pastor is on-site and is ready to listen to you and provide you with positive spiritual encouragement. No appointment necessary.
URL:https://solanconeighborhoodministries.org/ministry-event/pastors-hours/2025-03-05/
LOCATION:Solanco Neighborhood Ministries\, 14 S. Church Street\, Quarryville\, PA\, 17566\, United States
CATEGORIES:Free
ATTACH;FMTTYPE=image/png:https://solanconeighborhoodministries.org/wp-content/uploads/2023/03/Bible_FPO-1.png
END:VEVENT
BEGIN:VEVENT
DTSTART;TZID=UTC:20250312T130000
DTEND;TZID=UTC:20250312T160000
DTSTAMP:20260419T193327
CREATED:20230327T235920Z
LAST-MODIFIED:20230604T183305Z
UID:10000109-1741784400-1741795200@solanconeighborhoodministries.org
SUMMARY:Pastor's Hours
DESCRIPTION:Sometimes\, you just want someone to talk to. Or maybe you are having trouble seeing God in your circumstances. Every Wednesday from 1-4PM a local pastor is on-site and is ready to listen to you and provide you with positive spiritual encouragement. No appointment necessary.
URL:https://solanconeighborhoodministries.org/ministry-event/pastors-hours/2025-03-12/
LOCATION:Solanco Neighborhood Ministries\, 14 S. Church Street\, Quarryville\, PA\, 17566\, United States
CATEGORIES:Free
ATTACH;FMTTYPE=image/png:https://solanconeighborhoodministries.org/wp-content/uploads/2023/03/Bible_FPO-1.png
END:VEVENT
BEGIN:VEVENT
DTSTART;TZID=UTC:20250319T130000
DTEND;TZID=UTC:20250319T160000
DTSTAMP:20260419T193327
CREATED:20230327T235920Z
LAST-MODIFIED:20230604T183305Z
UID:10000110-1742389200-1742400000@solanconeighborhoodministries.org
SUMMARY:Pastor's Hours
DESCRIPTION:Sometimes\, you just want someone to talk to. Or maybe you are having trouble seeing God in your circumstances. Every Wednesday from 1-4PM a local pastor is on-site and is ready to listen to you and provide you with positive spiritual encouragement. No appointment necessary.
URL:https://solanconeighborhoodministries.org/ministry-event/pastors-hours/2025-03-19/
LOCATION:Solanco Neighborhood Ministries\, 14 S. Church Street\, Quarryville\, PA\, 17566\, United States
CATEGORIES:Free
ATTACH;FMTTYPE=image/png:https://solanconeighborhoodministries.org/wp-content/uploads/2023/03/Bible_FPO-1.png
END:VEVENT
BEGIN:VEVENT
DTSTART;TZID=UTC:20250326T130000
DTEND;TZID=UTC:20250326T160000
DTSTAMP:20260419T193327
CREATED:20230327T235920Z
LAST-MODIFIED:20230604T183305Z
UID:10000111-1742994000-1743004800@solanconeighborhoodministries.org
SUMMARY:Pastor's Hours
DESCRIPTION:Sometimes\, you just want someone to talk to. Or maybe you are having trouble seeing God in your circumstances. Every Wednesday from 1-4PM a local pastor is on-site and is ready to listen to you and provide you with positive spiritual encouragement. No appointment necessary.
URL:https://solanconeighborhoodministries.org/ministry-event/pastors-hours/2025-03-26/
LOCATION:Solanco Neighborhood Ministries\, 14 S. Church Street\, Quarryville\, PA\, 17566\, United States
CATEGORIES:Free
ATTACH;FMTTYPE=image/png:https://solanconeighborhoodministries.org/wp-content/uploads/2023/03/Bible_FPO-1.png
END:VEVENT
BEGIN:VEVENT
DTSTART;TZID=UTC:20250402T130000
DTEND;TZID=UTC:20250402T160000
DTSTAMP:20260419T193327
CREATED:20230327T235920Z
LAST-MODIFIED:20230604T183305Z
UID:10000112-1743598800-1743609600@solanconeighborhoodministries.org
SUMMARY:Pastor's Hours
DESCRIPTION:Sometimes\, you just want someone to talk to. Or maybe you are having trouble seeing God in your circumstances. Every Wednesday from 1-4PM a local pastor is on-site and is ready to listen to you and provide you with positive spiritual encouragement. No appointment necessary.
URL:https://solanconeighborhoodministries.org/ministry-event/pastors-hours/2025-04-02/
LOCATION:Solanco Neighborhood Ministries\, 14 S. Church Street\, Quarryville\, PA\, 17566\, United States
CATEGORIES:Free
ATTACH;FMTTYPE=image/png:https://solanconeighborhoodministries.org/wp-content/uploads/2023/03/Bible_FPO-1.png
END:VEVENT
BEGIN:VEVENT
DTSTART;TZID=UTC:20250409T130000
DTEND;TZID=UTC:20250409T160000
DTSTAMP:20260419T193327
CREATED:20230327T235920Z
LAST-MODIFIED:20230604T183305Z
UID:10000113-1744203600-1744214400@solanconeighborhoodministries.org
SUMMARY:Pastor's Hours
DESCRIPTION:Sometimes\, you just want someone to talk to. Or maybe you are having trouble seeing God in your circumstances. Every Wednesday from 1-4PM a local pastor is on-site and is ready to listen to you and provide you with positive spiritual encouragement. No appointment necessary.
URL:https://solanconeighborhoodministries.org/ministry-event/pastors-hours/2025-04-09/
LOCATION:Solanco Neighborhood Ministries\, 14 S. Church Street\, Quarryville\, PA\, 17566\, United States
CATEGORIES:Free
ATTACH;FMTTYPE=image/png:https://solanconeighborhoodministries.org/wp-content/uploads/2023/03/Bible_FPO-1.png
END:VEVENT
BEGIN:VEVENT
DTSTART;TZID=UTC:20250416T130000
DTEND;TZID=UTC:20250416T160000
DTSTAMP:20260419T193327
CREATED:20230327T235920Z
LAST-MODIFIED:20230604T183305Z
UID:10000114-1744808400-1744819200@solanconeighborhoodministries.org
SUMMARY:Pastor's Hours
DESCRIPTION:Sometimes\, you just want someone to talk to. Or maybe you are having trouble seeing God in your circumstances. Every Wednesday from 1-4PM a local pastor is on-site and is ready to listen to you and provide you with positive spiritual encouragement. No appointment necessary.
URL:https://solanconeighborhoodministries.org/ministry-event/pastors-hours/2025-04-16/
LOCATION:Solanco Neighborhood Ministries\, 14 S. Church Street\, Quarryville\, PA\, 17566\, United States
CATEGORIES:Free
ATTACH;FMTTYPE=image/png:https://solanconeighborhoodministries.org/wp-content/uploads/2023/03/Bible_FPO-1.png
END:VEVENT
BEGIN:VEVENT
DTSTART;TZID=UTC:20250423T130000
DTEND;TZID=UTC:20250423T160000
DTSTAMP:20260419T193327
CREATED:20230327T235920Z
LAST-MODIFIED:20230604T183305Z
UID:10000115-1745413200-1745424000@solanconeighborhoodministries.org
SUMMARY:Pastor's Hours
DESCRIPTION:Sometimes\, you just want someone to talk to. Or maybe you are having trouble seeing God in your circumstances. Every Wednesday from 1-4PM a local pastor is on-site and is ready to listen to you and provide you with positive spiritual encouragement. No appointment necessary.
URL:https://solanconeighborhoodministries.org/ministry-event/pastors-hours/2025-04-23/
LOCATION:Solanco Neighborhood Ministries\, 14 S. Church Street\, Quarryville\, PA\, 17566\, United States
CATEGORIES:Free
ATTACH;FMTTYPE=image/png:https://solanconeighborhoodministries.org/wp-content/uploads/2023/03/Bible_FPO-1.png
END:VEVENT
BEGIN:VEVENT
DTSTART;TZID=UTC:20250430T130000
DTEND;TZID=UTC:20250430T160000
DTSTAMP:20260419T193327
CREATED:20230327T235920Z
LAST-MODIFIED:20230604T183305Z
UID:10000116-1746018000-1746028800@solanconeighborhoodministries.org
SUMMARY:Pastor's Hours
DESCRIPTION:Sometimes\, you just want someone to talk to. Or maybe you are having trouble seeing God in your circumstances. Every Wednesday from 1-4PM a local pastor is on-site and is ready to listen to you and provide you with positive spiritual encouragement. No appointment necessary.
URL:https://solanconeighborhoodministries.org/ministry-event/pastors-hours/2025-04-30/
LOCATION:Solanco Neighborhood Ministries\, 14 S. Church Street\, Quarryville\, PA\, 17566\, United States
CATEGORIES:Free
ATTACH;FMTTYPE=image/png:https://solanconeighborhoodministries.org/wp-content/uploads/2023/03/Bible_FPO-1.png
END:VEVENT
BEGIN:VEVENT
DTSTART;TZID=UTC:20250507T130000
DTEND;TZID=UTC:20250507T160000
DTSTAMP:20260419T193327
CREATED:20230327T235920Z
LAST-MODIFIED:20230604T183305Z
UID:10000117-1746622800-1746633600@solanconeighborhoodministries.org
SUMMARY:Pastor's Hours
DESCRIPTION:Sometimes\, you just want someone to talk to. Or maybe you are having trouble seeing God in your circumstances. Every Wednesday from 1-4PM a local pastor is on-site and is ready to listen to you and provide you with positive spiritual encouragement. No appointment necessary.
URL:https://solanconeighborhoodministries.org/ministry-event/pastors-hours/2025-05-07/
LOCATION:Solanco Neighborhood Ministries\, 14 S. Church Street\, Quarryville\, PA\, 17566\, United States
CATEGORIES:Free
ATTACH;FMTTYPE=image/png:https://solanconeighborhoodministries.org/wp-content/uploads/2023/03/Bible_FPO-1.png
END:VEVENT
BEGIN:VEVENT
DTSTART;TZID=UTC:20250514T130000
DTEND;TZID=UTC:20250514T160000
DTSTAMP:20260419T193327
CREATED:20230327T235920Z
LAST-MODIFIED:20230604T183305Z
UID:10000118-1747227600-1747238400@solanconeighborhoodministries.org
SUMMARY:Pastor's Hours
DESCRIPTION:Sometimes\, you just want someone to talk to. Or maybe you are having trouble seeing God in your circumstances. Every Wednesday from 1-4PM a local pastor is on-site and is ready to listen to you and provide you with positive spiritual encouragement. No appointment necessary.
URL:https://solanconeighborhoodministries.org/ministry-event/pastors-hours/2025-05-14/
LOCATION:Solanco Neighborhood Ministries\, 14 S. Church Street\, Quarryville\, PA\, 17566\, United States
CATEGORIES:Free
ATTACH;FMTTYPE=image/png:https://solanconeighborhoodministries.org/wp-content/uploads/2023/03/Bible_FPO-1.png
END:VEVENT
BEGIN:VEVENT
DTSTART;TZID=UTC:20250521T130000
DTEND;TZID=UTC:20250521T160000
DTSTAMP:20260419T193327
CREATED:20230327T235920Z
LAST-MODIFIED:20230604T183305Z
UID:10000119-1747832400-1747843200@solanconeighborhoodministries.org
SUMMARY:Pastor's Hours
DESCRIPTION:Sometimes\, you just want someone to talk to. Or maybe you are having trouble seeing God in your circumstances. Every Wednesday from 1-4PM a local pastor is on-site and is ready to listen to you and provide you with positive spiritual encouragement. No appointment necessary.
URL:https://solanconeighborhoodministries.org/ministry-event/pastors-hours/2025-05-21/
LOCATION:Solanco Neighborhood Ministries\, 14 S. Church Street\, Quarryville\, PA\, 17566\, United States
CATEGORIES:Free
ATTACH;FMTTYPE=image/png:https://solanconeighborhoodministries.org/wp-content/uploads/2023/03/Bible_FPO-1.png
END:VEVENT
BEGIN:VEVENT
DTSTART;TZID=UTC:20250528T130000
DTEND;TZID=UTC:20250528T160000
DTSTAMP:20260419T193327
CREATED:20230327T235920Z
LAST-MODIFIED:20230604T183305Z
UID:10000120-1748437200-1748448000@solanconeighborhoodministries.org
SUMMARY:Pastor's Hours
DESCRIPTION:Sometimes\, you just want someone to talk to. Or maybe you are having trouble seeing God in your circumstances. Every Wednesday from 1-4PM a local pastor is on-site and is ready to listen to you and provide you with positive spiritual encouragement. No appointment necessary.
URL:https://solanconeighborhoodministries.org/ministry-event/pastors-hours/2025-05-28/
LOCATION:Solanco Neighborhood Ministries\, 14 S. Church Street\, Quarryville\, PA\, 17566\, United States
CATEGORIES:Free
ATTACH;FMTTYPE=image/png:https://solanconeighborhoodministries.org/wp-content/uploads/2023/03/Bible_FPO-1.png
END:VEVENT
BEGIN:VEVENT
DTSTART;TZID=UTC:20250604T130000
DTEND;TZID=UTC:20250604T160000
DTSTAMP:20260419T193327
CREATED:20230327T235920Z
LAST-MODIFIED:20230604T183305Z
UID:10000121-1749042000-1749052800@solanconeighborhoodministries.org
SUMMARY:Pastor's Hours
DESCRIPTION:Sometimes\, you just want someone to talk to. Or maybe you are having trouble seeing God in your circumstances. Every Wednesday from 1-4PM a local pastor is on-site and is ready to listen to you and provide you with positive spiritual encouragement. No appointment necessary.
URL:https://solanconeighborhoodministries.org/ministry-event/pastors-hours/2025-06-04/
LOCATION:Solanco Neighborhood Ministries\, 14 S. Church Street\, Quarryville\, PA\, 17566\, United States
CATEGORIES:Free
ATTACH;FMTTYPE=image/png:https://solanconeighborhoodministries.org/wp-content/uploads/2023/03/Bible_FPO-1.png
END:VEVENT
BEGIN:VEVENT
DTSTART;TZID=UTC:20250611T130000
DTEND;TZID=UTC:20250611T160000
DTSTAMP:20260419T193327
CREATED:20230327T235920Z
LAST-MODIFIED:20230604T183305Z
UID:10000122-1749646800-1749657600@solanconeighborhoodministries.org
SUMMARY:Pastor's Hours
DESCRIPTION:Sometimes\, you just want someone to talk to. Or maybe you are having trouble seeing God in your circumstances. Every Wednesday from 1-4PM a local pastor is on-site and is ready to listen to you and provide you with positive spiritual encouragement. No appointment necessary.
URL:https://solanconeighborhoodministries.org/ministry-event/pastors-hours/2025-06-11/
LOCATION:Solanco Neighborhood Ministries\, 14 S. Church Street\, Quarryville\, PA\, 17566\, United States
CATEGORIES:Free
ATTACH;FMTTYPE=image/png:https://solanconeighborhoodministries.org/wp-content/uploads/2023/03/Bible_FPO-1.png
END:VEVENT
BEGIN:VEVENT
DTSTART;TZID=UTC:20250618T130000
DTEND;TZID=UTC:20250618T160000
DTSTAMP:20260419T193327
CREATED:20230327T235920Z
LAST-MODIFIED:20230604T183305Z
UID:10000123-1750251600-1750262400@solanconeighborhoodministries.org
SUMMARY:Pastor's Hours
DESCRIPTION:Sometimes\, you just want someone to talk to. Or maybe you are having trouble seeing God in your circumstances. Every Wednesday from 1-4PM a local pastor is on-site and is ready to listen to you and provide you with positive spiritual encouragement. No appointment necessary.
URL:https://solanconeighborhoodministries.org/ministry-event/pastors-hours/2025-06-18/
LOCATION:Solanco Neighborhood Ministries\, 14 S. Church Street\, Quarryville\, PA\, 17566\, United States
CATEGORIES:Free
ATTACH;FMTTYPE=image/png:https://solanconeighborhoodministries.org/wp-content/uploads/2023/03/Bible_FPO-1.png
END:VEVENT
BEGIN:VEVENT
DTSTART;TZID=UTC:20250625T130000
DTEND;TZID=UTC:20250625T160000
DTSTAMP:20260419T193327
CREATED:20230327T235920Z
LAST-MODIFIED:20230604T183305Z
UID:10000124-1750856400-1750867200@solanconeighborhoodministries.org
SUMMARY:Pastor's Hours
DESCRIPTION:Sometimes\, you just want someone to talk to. Or maybe you are having trouble seeing God in your circumstances. Every Wednesday from 1-4PM a local pastor is on-site and is ready to listen to you and provide you with positive spiritual encouragement. No appointment necessary.
URL:https://solanconeighborhoodministries.org/ministry-event/pastors-hours/2025-06-25/
LOCATION:Solanco Neighborhood Ministries\, 14 S. Church Street\, Quarryville\, PA\, 17566\, United States
CATEGORIES:Free
ATTACH;FMTTYPE=image/png:https://solanconeighborhoodministries.org/wp-content/uploads/2023/03/Bible_FPO-1.png
END:VEVENT
BEGIN:VEVENT
DTSTART;TZID=UTC:20250702T130000
DTEND;TZID=UTC:20250702T160000
DTSTAMP:20260419T193327
CREATED:20230327T235920Z
LAST-MODIFIED:20230604T183305Z
UID:10000125-1751461200-1751472000@solanconeighborhoodministries.org
SUMMARY:Pastor's Hours
DESCRIPTION:Sometimes\, you just want someone to talk to. Or maybe you are having trouble seeing God in your circumstances. Every Wednesday from 1-4PM a local pastor is on-site and is ready to listen to you and provide you with positive spiritual encouragement. No appointment necessary.
URL:https://solanconeighborhoodministries.org/ministry-event/pastors-hours/2025-07-02/
LOCATION:Solanco Neighborhood Ministries\, 14 S. Church Street\, Quarryville\, PA\, 17566\, United States
CATEGORIES:Free
ATTACH;FMTTYPE=image/png:https://solanconeighborhoodministries.org/wp-content/uploads/2023/03/Bible_FPO-1.png
END:VEVENT
BEGIN:VEVENT
DTSTART;TZID=UTC:20250709T130000
DTEND;TZID=UTC:20250709T160000
DTSTAMP:20260419T193327
CREATED:20230327T235920Z
LAST-MODIFIED:20230604T183305Z
UID:10000126-1752066000-1752076800@solanconeighborhoodministries.org
SUMMARY:Pastor's Hours
DESCRIPTION:Sometimes\, you just want someone to talk to. Or maybe you are having trouble seeing God in your circumstances. Every Wednesday from 1-4PM a local pastor is on-site and is ready to listen to you and provide you with positive spiritual encouragement. No appointment necessary.
URL:https://solanconeighborhoodministries.org/ministry-event/pastors-hours/2025-07-09/
LOCATION:Solanco Neighborhood Ministries\, 14 S. Church Street\, Quarryville\, PA\, 17566\, United States
CATEGORIES:Free
ATTACH;FMTTYPE=image/png:https://solanconeighborhoodministries.org/wp-content/uploads/2023/03/Bible_FPO-1.png
END:VEVENT
BEGIN:VEVENT
DTSTART;TZID=UTC:20250716T130000
DTEND;TZID=UTC:20250716T160000
DTSTAMP:20260419T193327
CREATED:20230327T235920Z
LAST-MODIFIED:20230604T183305Z
UID:10000127-1752670800-1752681600@solanconeighborhoodministries.org
SUMMARY:Pastor's Hours
DESCRIPTION:Sometimes\, you just want someone to talk to. Or maybe you are having trouble seeing God in your circumstances. Every Wednesday from 1-4PM a local pastor is on-site and is ready to listen to you and provide you with positive spiritual encouragement. No appointment necessary.
URL:https://solanconeighborhoodministries.org/ministry-event/pastors-hours/2025-07-16/
LOCATION:Solanco Neighborhood Ministries\, 14 S. Church Street\, Quarryville\, PA\, 17566\, United States
CATEGORIES:Free
ATTACH;FMTTYPE=image/png:https://solanconeighborhoodministries.org/wp-content/uploads/2023/03/Bible_FPO-1.png
END:VEVENT
END:VCALENDAR