BEGIN:VCALENDAR
VERSION:2.0
PRODID:-//Solanco Neighborhood Ministries - ECPv6.15.20//NONSGML v1.0//EN
CALSCALE:GREGORIAN
METHOD:PUBLISH
X-ORIGINAL-URL:https://solanconeighborhoodministries.org
X-WR-CALDESC:Events for Solanco Neighborhood Ministries
REFRESH-INTERVAL;VALUE=DURATION:PT1H
X-Robots-Tag:noindex
X-PUBLISHED-TTL:PT1H
BEGIN:VTIMEZONE
TZID:America/New_York
BEGIN:DAYLIGHT
TZOFFSETFROM:-0500
TZOFFSETTO:-0400
TZNAME:EDT
DTSTART:20250309T070000
END:DAYLIGHT
BEGIN:STANDARD
TZOFFSETFROM:-0400
TZOFFSETTO:-0500
TZNAME:EST
DTSTART:20251102T060000
END:STANDARD
BEGIN:DAYLIGHT
TZOFFSETFROM:-0500
TZOFFSETTO:-0400
TZNAME:EDT
DTSTART:20260308T070000
END:DAYLIGHT
BEGIN:STANDARD
TZOFFSETFROM:-0400
TZOFFSETTO:-0500
TZNAME:EST
DTSTART:20261101T060000
END:STANDARD
BEGIN:DAYLIGHT
TZOFFSETFROM:-0500
TZOFFSETTO:-0400
TZNAME:EDT
DTSTART:20270314T070000
END:DAYLIGHT
BEGIN:STANDARD
TZOFFSETFROM:-0400
TZOFFSETTO:-0500
TZNAME:EST
DTSTART:20271107T060000
END:STANDARD
BEGIN:DAYLIGHT
TZOFFSETFROM:-0500
TZOFFSETTO:-0400
TZNAME:EDT
DTSTART:20280312T070000
END:DAYLIGHT
BEGIN:STANDARD
TZOFFSETFROM:-0400
TZOFFSETTO:-0500
TZNAME:EST
DTSTART:20281105T060000
END:STANDARD
BEGIN:DAYLIGHT
TZOFFSETFROM:-0500
TZOFFSETTO:-0400
TZNAME:EDT
DTSTART:20290311T070000
END:DAYLIGHT
BEGIN:STANDARD
TZOFFSETFROM:-0400
TZOFFSETTO:-0500
TZNAME:EST
DTSTART:20291104T060000
END:STANDARD
END:VTIMEZONE
BEGIN:VEVENT
DTSTART;TZID=America/New_York:20260521T173000
DTEND;TZID=America/New_York:20260521T180000
DTSTAMP:20260420T140905
CREATED:20240131T191552Z
LAST-MODIFIED:20240131T191552Z
UID:10000911-1779384600-1779386400@solanconeighborhoodministries.org
SUMMARY:Ascension Lutheran Church Take Out Meal
DESCRIPTION:Community Meal Every Tuesday at 5:30pm – 6:00pm\nAscension Lutheran Church\n600 E Penn Grant Road\nWillow Street\, PA 17584\nOpen to the community at no charge\nNo RSVP Required
URL:https://solanconeighborhoodministries.org/ministry-event/ascension-lutheran-church-take-out-meal/2026-05-21/
LOCATION:Ascension Lutheran Church\, 600 East Penn Grant Road\, Willow Street\, 17584\, United States
CATEGORIES:Free Event
ORGANIZER;CN="SNM Programs":MAILTO:programs@snministries.org
END:VEVENT
BEGIN:VEVENT
DTSTART;TZID=America/New_York:20260618T173000
DTEND;TZID=America/New_York:20260618T180000
DTSTAMP:20260420T140905
CREATED:20240131T191552Z
LAST-MODIFIED:20240131T191552Z
UID:10000912-1781803800-1781805600@solanconeighborhoodministries.org
SUMMARY:Ascension Lutheran Church Take Out Meal
DESCRIPTION:Community Meal Every Tuesday at 5:30pm – 6:00pm\nAscension Lutheran Church\n600 E Penn Grant Road\nWillow Street\, PA 17584\nOpen to the community at no charge\nNo RSVP Required
URL:https://solanconeighborhoodministries.org/ministry-event/ascension-lutheran-church-take-out-meal/2026-06-18/
LOCATION:Ascension Lutheran Church\, 600 East Penn Grant Road\, Willow Street\, 17584\, United States
CATEGORIES:Free Event
ORGANIZER;CN="SNM Programs":MAILTO:programs@snministries.org
END:VEVENT
BEGIN:VEVENT
DTSTART;TZID=America/New_York:20260716T173000
DTEND;TZID=America/New_York:20260716T180000
DTSTAMP:20260420T140905
CREATED:20240131T191552Z
LAST-MODIFIED:20240131T191552Z
UID:10000913-1784223000-1784224800@solanconeighborhoodministries.org
SUMMARY:Ascension Lutheran Church Take Out Meal
DESCRIPTION:Community Meal Every Tuesday at 5:30pm – 6:00pm\nAscension Lutheran Church\n600 E Penn Grant Road\nWillow Street\, PA 17584\nOpen to the community at no charge\nNo RSVP Required
URL:https://solanconeighborhoodministries.org/ministry-event/ascension-lutheran-church-take-out-meal/2026-07-16/
LOCATION:Ascension Lutheran Church\, 600 East Penn Grant Road\, Willow Street\, 17584\, United States
CATEGORIES:Free Event
ORGANIZER;CN="SNM Programs":MAILTO:programs@snministries.org
END:VEVENT
BEGIN:VEVENT
DTSTART;TZID=America/New_York:20260820T173000
DTEND;TZID=America/New_York:20260820T180000
DTSTAMP:20260420T140905
CREATED:20240131T191552Z
LAST-MODIFIED:20240131T191552Z
UID:10000914-1787247000-1787248800@solanconeighborhoodministries.org
SUMMARY:Ascension Lutheran Church Take Out Meal
DESCRIPTION:Community Meal Every Tuesday at 5:30pm – 6:00pm\nAscension Lutheran Church\n600 E Penn Grant Road\nWillow Street\, PA 17584\nOpen to the community at no charge\nNo RSVP Required
URL:https://solanconeighborhoodministries.org/ministry-event/ascension-lutheran-church-take-out-meal/2026-08-20/
LOCATION:Ascension Lutheran Church\, 600 East Penn Grant Road\, Willow Street\, 17584\, United States
CATEGORIES:Free Event
ORGANIZER;CN="SNM Programs":MAILTO:programs@snministries.org
END:VEVENT
BEGIN:VEVENT
DTSTART;TZID=America/New_York:20260917T173000
DTEND;TZID=America/New_York:20260917T180000
DTSTAMP:20260420T140905
CREATED:20240131T191552Z
LAST-MODIFIED:20240131T191552Z
UID:10000915-1789666200-1789668000@solanconeighborhoodministries.org
SUMMARY:Ascension Lutheran Church Take Out Meal
DESCRIPTION:Community Meal Every Tuesday at 5:30pm – 6:00pm\nAscension Lutheran Church\n600 E Penn Grant Road\nWillow Street\, PA 17584\nOpen to the community at no charge\nNo RSVP Required
URL:https://solanconeighborhoodministries.org/ministry-event/ascension-lutheran-church-take-out-meal/2026-09-17/
LOCATION:Ascension Lutheran Church\, 600 East Penn Grant Road\, Willow Street\, 17584\, United States
CATEGORIES:Free Event
ORGANIZER;CN="SNM Programs":MAILTO:programs@snministries.org
END:VEVENT
BEGIN:VEVENT
DTSTART;TZID=America/New_York:20261015T173000
DTEND;TZID=America/New_York:20261015T180000
DTSTAMP:20260420T140905
CREATED:20240131T191552Z
LAST-MODIFIED:20240131T191552Z
UID:10000916-1792085400-1792087200@solanconeighborhoodministries.org
SUMMARY:Ascension Lutheran Church Take Out Meal
DESCRIPTION:Community Meal Every Tuesday at 5:30pm – 6:00pm\nAscension Lutheran Church\n600 E Penn Grant Road\nWillow Street\, PA 17584\nOpen to the community at no charge\nNo RSVP Required
URL:https://solanconeighborhoodministries.org/ministry-event/ascension-lutheran-church-take-out-meal/2026-10-15/
LOCATION:Ascension Lutheran Church\, 600 East Penn Grant Road\, Willow Street\, 17584\, United States
CATEGORIES:Free Event
ORGANIZER;CN="SNM Programs":MAILTO:programs@snministries.org
END:VEVENT
BEGIN:VEVENT
DTSTART;TZID=America/New_York:20261119T173000
DTEND;TZID=America/New_York:20261119T180000
DTSTAMP:20260420T140905
CREATED:20240131T191552Z
LAST-MODIFIED:20240131T191552Z
UID:10000917-1795109400-1795111200@solanconeighborhoodministries.org
SUMMARY:Ascension Lutheran Church Take Out Meal
DESCRIPTION:Community Meal Every Tuesday at 5:30pm – 6:00pm\nAscension Lutheran Church\n600 E Penn Grant Road\nWillow Street\, PA 17584\nOpen to the community at no charge\nNo RSVP Required
URL:https://solanconeighborhoodministries.org/ministry-event/ascension-lutheran-church-take-out-meal/2026-11-19/
LOCATION:Ascension Lutheran Church\, 600 East Penn Grant Road\, Willow Street\, 17584\, United States
CATEGORIES:Free Event
ORGANIZER;CN="SNM Programs":MAILTO:programs@snministries.org
END:VEVENT
BEGIN:VEVENT
DTSTART;TZID=America/New_York:20261217T173000
DTEND;TZID=America/New_York:20261217T180000
DTSTAMP:20260420T140905
CREATED:20240131T191552Z
LAST-MODIFIED:20240131T191552Z
UID:10000918-1797528600-1797530400@solanconeighborhoodministries.org
SUMMARY:Ascension Lutheran Church Take Out Meal
DESCRIPTION:Community Meal Every Tuesday at 5:30pm – 6:00pm\nAscension Lutheran Church\n600 E Penn Grant Road\nWillow Street\, PA 17584\nOpen to the community at no charge\nNo RSVP Required
URL:https://solanconeighborhoodministries.org/ministry-event/ascension-lutheran-church-take-out-meal/2026-12-17/
LOCATION:Ascension Lutheran Church\, 600 East Penn Grant Road\, Willow Street\, 17584\, United States
CATEGORIES:Free Event
ORGANIZER;CN="SNM Programs":MAILTO:programs@snministries.org
END:VEVENT
BEGIN:VEVENT
DTSTART;TZID=America/New_York:20270121T173000
DTEND;TZID=America/New_York:20270121T180000
DTSTAMP:20260420T140905
CREATED:20240131T191552Z
LAST-MODIFIED:20240131T191552Z
UID:10000919-1800552600-1800554400@solanconeighborhoodministries.org
SUMMARY:Ascension Lutheran Church Take Out Meal
DESCRIPTION:Community Meal Every Tuesday at 5:30pm – 6:00pm\nAscension Lutheran Church\n600 E Penn Grant Road\nWillow Street\, PA 17584\nOpen to the community at no charge\nNo RSVP Required
URL:https://solanconeighborhoodministries.org/ministry-event/ascension-lutheran-church-take-out-meal/2027-01-21/
LOCATION:Ascension Lutheran Church\, 600 East Penn Grant Road\, Willow Street\, 17584\, United States
CATEGORIES:Free Event
ORGANIZER;CN="SNM Programs":MAILTO:programs@snministries.org
END:VEVENT
BEGIN:VEVENT
DTSTART;TZID=America/New_York:20270218T173000
DTEND;TZID=America/New_York:20270218T180000
DTSTAMP:20260420T140905
CREATED:20240131T191552Z
LAST-MODIFIED:20240131T191552Z
UID:10000920-1802971800-1802973600@solanconeighborhoodministries.org
SUMMARY:Ascension Lutheran Church Take Out Meal
DESCRIPTION:Community Meal Every Tuesday at 5:30pm – 6:00pm\nAscension Lutheran Church\n600 E Penn Grant Road\nWillow Street\, PA 17584\nOpen to the community at no charge\nNo RSVP Required
URL:https://solanconeighborhoodministries.org/ministry-event/ascension-lutheran-church-take-out-meal/2027-02-18/
LOCATION:Ascension Lutheran Church\, 600 East Penn Grant Road\, Willow Street\, 17584\, United States
CATEGORIES:Free Event
ORGANIZER;CN="SNM Programs":MAILTO:programs@snministries.org
END:VEVENT
BEGIN:VEVENT
DTSTART;TZID=America/New_York:20270318T173000
DTEND;TZID=America/New_York:20270318T180000
DTSTAMP:20260420T140905
CREATED:20240131T191552Z
LAST-MODIFIED:20240131T191552Z
UID:10000921-1805391000-1805392800@solanconeighborhoodministries.org
SUMMARY:Ascension Lutheran Church Take Out Meal
DESCRIPTION:Community Meal Every Tuesday at 5:30pm – 6:00pm\nAscension Lutheran Church\n600 E Penn Grant Road\nWillow Street\, PA 17584\nOpen to the community at no charge\nNo RSVP Required
URL:https://solanconeighborhoodministries.org/ministry-event/ascension-lutheran-church-take-out-meal/2027-03-18/
LOCATION:Ascension Lutheran Church\, 600 East Penn Grant Road\, Willow Street\, 17584\, United States
CATEGORIES:Free Event
ORGANIZER;CN="SNM Programs":MAILTO:programs@snministries.org
END:VEVENT
BEGIN:VEVENT
DTSTART;TZID=America/New_York:20270415T173000
DTEND;TZID=America/New_York:20270415T180000
DTSTAMP:20260420T140905
CREATED:20240131T191552Z
LAST-MODIFIED:20240131T191552Z
UID:10000922-1807810200-1807812000@solanconeighborhoodministries.org
SUMMARY:Ascension Lutheran Church Take Out Meal
DESCRIPTION:Community Meal Every Tuesday at 5:30pm – 6:00pm\nAscension Lutheran Church\n600 E Penn Grant Road\nWillow Street\, PA 17584\nOpen to the community at no charge\nNo RSVP Required
URL:https://solanconeighborhoodministries.org/ministry-event/ascension-lutheran-church-take-out-meal/2027-04-15/
LOCATION:Ascension Lutheran Church\, 600 East Penn Grant Road\, Willow Street\, 17584\, United States
CATEGORIES:Free Event
ORGANIZER;CN="SNM Programs":MAILTO:programs@snministries.org
END:VEVENT
BEGIN:VEVENT
DTSTART;TZID=America/New_York:20270520T173000
DTEND;TZID=America/New_York:20270520T180000
DTSTAMP:20260420T140905
CREATED:20240131T191552Z
LAST-MODIFIED:20240131T191552Z
UID:10000923-1810834200-1810836000@solanconeighborhoodministries.org
SUMMARY:Ascension Lutheran Church Take Out Meal
DESCRIPTION:Community Meal Every Tuesday at 5:30pm – 6:00pm\nAscension Lutheran Church\n600 E Penn Grant Road\nWillow Street\, PA 17584\nOpen to the community at no charge\nNo RSVP Required
URL:https://solanconeighborhoodministries.org/ministry-event/ascension-lutheran-church-take-out-meal/2027-05-20/
LOCATION:Ascension Lutheran Church\, 600 East Penn Grant Road\, Willow Street\, 17584\, United States
CATEGORIES:Free Event
ORGANIZER;CN="SNM Programs":MAILTO:programs@snministries.org
END:VEVENT
BEGIN:VEVENT
DTSTART;TZID=America/New_York:20270617T173000
DTEND;TZID=America/New_York:20270617T180000
DTSTAMP:20260420T140905
CREATED:20240131T191552Z
LAST-MODIFIED:20240131T191552Z
UID:10000924-1813253400-1813255200@solanconeighborhoodministries.org
SUMMARY:Ascension Lutheran Church Take Out Meal
DESCRIPTION:Community Meal Every Tuesday at 5:30pm – 6:00pm\nAscension Lutheran Church\n600 E Penn Grant Road\nWillow Street\, PA 17584\nOpen to the community at no charge\nNo RSVP Required
URL:https://solanconeighborhoodministries.org/ministry-event/ascension-lutheran-church-take-out-meal/2027-06-17/
LOCATION:Ascension Lutheran Church\, 600 East Penn Grant Road\, Willow Street\, 17584\, United States
CATEGORIES:Free Event
ORGANIZER;CN="SNM Programs":MAILTO:programs@snministries.org
END:VEVENT
BEGIN:VEVENT
DTSTART;TZID=America/New_York:20270715T173000
DTEND;TZID=America/New_York:20270715T180000
DTSTAMP:20260420T140905
CREATED:20240131T191552Z
LAST-MODIFIED:20240131T191552Z
UID:10000925-1815672600-1815674400@solanconeighborhoodministries.org
SUMMARY:Ascension Lutheran Church Take Out Meal
DESCRIPTION:Community Meal Every Tuesday at 5:30pm – 6:00pm\nAscension Lutheran Church\n600 E Penn Grant Road\nWillow Street\, PA 17584\nOpen to the community at no charge\nNo RSVP Required
URL:https://solanconeighborhoodministries.org/ministry-event/ascension-lutheran-church-take-out-meal/2027-07-15/
LOCATION:Ascension Lutheran Church\, 600 East Penn Grant Road\, Willow Street\, 17584\, United States
CATEGORIES:Free Event
ORGANIZER;CN="SNM Programs":MAILTO:programs@snministries.org
END:VEVENT
BEGIN:VEVENT
DTSTART;TZID=America/New_York:20270819T173000
DTEND;TZID=America/New_York:20270819T180000
DTSTAMP:20260420T140905
CREATED:20240131T191552Z
LAST-MODIFIED:20240131T191552Z
UID:10000926-1818696600-1818698400@solanconeighborhoodministries.org
SUMMARY:Ascension Lutheran Church Take Out Meal
DESCRIPTION:Community Meal Every Tuesday at 5:30pm – 6:00pm\nAscension Lutheran Church\n600 E Penn Grant Road\nWillow Street\, PA 17584\nOpen to the community at no charge\nNo RSVP Required
URL:https://solanconeighborhoodministries.org/ministry-event/ascension-lutheran-church-take-out-meal/2027-08-19/
LOCATION:Ascension Lutheran Church\, 600 East Penn Grant Road\, Willow Street\, 17584\, United States
CATEGORIES:Free Event
ORGANIZER;CN="SNM Programs":MAILTO:programs@snministries.org
END:VEVENT
BEGIN:VEVENT
DTSTART;TZID=America/New_York:20270916T173000
DTEND;TZID=America/New_York:20270916T180000
DTSTAMP:20260420T140905
CREATED:20240131T191552Z
LAST-MODIFIED:20240131T191552Z
UID:10000927-1821115800-1821117600@solanconeighborhoodministries.org
SUMMARY:Ascension Lutheran Church Take Out Meal
DESCRIPTION:Community Meal Every Tuesday at 5:30pm – 6:00pm\nAscension Lutheran Church\n600 E Penn Grant Road\nWillow Street\, PA 17584\nOpen to the community at no charge\nNo RSVP Required
URL:https://solanconeighborhoodministries.org/ministry-event/ascension-lutheran-church-take-out-meal/2027-09-16/
LOCATION:Ascension Lutheran Church\, 600 East Penn Grant Road\, Willow Street\, 17584\, United States
CATEGORIES:Free Event
ORGANIZER;CN="SNM Programs":MAILTO:programs@snministries.org
END:VEVENT
BEGIN:VEVENT
DTSTART;TZID=America/New_York:20271021T173000
DTEND;TZID=America/New_York:20271021T180000
DTSTAMP:20260420T140905
CREATED:20240131T191552Z
LAST-MODIFIED:20240131T191552Z
UID:10000928-1824139800-1824141600@solanconeighborhoodministries.org
SUMMARY:Ascension Lutheran Church Take Out Meal
DESCRIPTION:Community Meal Every Tuesday at 5:30pm – 6:00pm\nAscension Lutheran Church\n600 E Penn Grant Road\nWillow Street\, PA 17584\nOpen to the community at no charge\nNo RSVP Required
URL:https://solanconeighborhoodministries.org/ministry-event/ascension-lutheran-church-take-out-meal/2027-10-21/
LOCATION:Ascension Lutheran Church\, 600 East Penn Grant Road\, Willow Street\, 17584\, United States
CATEGORIES:Free Event
ORGANIZER;CN="SNM Programs":MAILTO:programs@snministries.org
END:VEVENT
BEGIN:VEVENT
DTSTART;TZID=America/New_York:20271118T173000
DTEND;TZID=America/New_York:20271118T180000
DTSTAMP:20260420T140905
CREATED:20240131T191552Z
LAST-MODIFIED:20240131T191552Z
UID:10000929-1826559000-1826560800@solanconeighborhoodministries.org
SUMMARY:Ascension Lutheran Church Take Out Meal
DESCRIPTION:Community Meal Every Tuesday at 5:30pm – 6:00pm\nAscension Lutheran Church\n600 E Penn Grant Road\nWillow Street\, PA 17584\nOpen to the community at no charge\nNo RSVP Required
URL:https://solanconeighborhoodministries.org/ministry-event/ascension-lutheran-church-take-out-meal/2027-11-18/
LOCATION:Ascension Lutheran Church\, 600 East Penn Grant Road\, Willow Street\, 17584\, United States
CATEGORIES:Free Event
ORGANIZER;CN="SNM Programs":MAILTO:programs@snministries.org
END:VEVENT
BEGIN:VEVENT
DTSTART;TZID=America/New_York:20271216T173000
DTEND;TZID=America/New_York:20271216T180000
DTSTAMP:20260420T140905
CREATED:20240131T191552Z
LAST-MODIFIED:20240131T191552Z
UID:10000930-1828978200-1828980000@solanconeighborhoodministries.org
SUMMARY:Ascension Lutheran Church Take Out Meal
DESCRIPTION:Community Meal Every Tuesday at 5:30pm – 6:00pm\nAscension Lutheran Church\n600 E Penn Grant Road\nWillow Street\, PA 17584\nOpen to the community at no charge\nNo RSVP Required
URL:https://solanconeighborhoodministries.org/ministry-event/ascension-lutheran-church-take-out-meal/2027-12-16/
LOCATION:Ascension Lutheran Church\, 600 East Penn Grant Road\, Willow Street\, 17584\, United States
CATEGORIES:Free Event
ORGANIZER;CN="SNM Programs":MAILTO:programs@snministries.org
END:VEVENT
BEGIN:VEVENT
DTSTART;TZID=America/New_York:20280120T173000
DTEND;TZID=America/New_York:20280120T180000
DTSTAMP:20260420T140905
CREATED:20240131T191552Z
LAST-MODIFIED:20240131T191552Z
UID:10000931-1832002200-1832004000@solanconeighborhoodministries.org
SUMMARY:Ascension Lutheran Church Take Out Meal
DESCRIPTION:Community Meal Every Tuesday at 5:30pm – 6:00pm\nAscension Lutheran Church\n600 E Penn Grant Road\nWillow Street\, PA 17584\nOpen to the community at no charge\nNo RSVP Required
URL:https://solanconeighborhoodministries.org/ministry-event/ascension-lutheran-church-take-out-meal/2028-01-20/
LOCATION:Ascension Lutheran Church\, 600 East Penn Grant Road\, Willow Street\, 17584\, United States
CATEGORIES:Free Event
ORGANIZER;CN="SNM Programs":MAILTO:programs@snministries.org
END:VEVENT
BEGIN:VEVENT
DTSTART;TZID=America/New_York:20280217T173000
DTEND;TZID=America/New_York:20280217T180000
DTSTAMP:20260420T140905
CREATED:20240131T191552Z
LAST-MODIFIED:20240131T191552Z
UID:10000932-1834421400-1834423200@solanconeighborhoodministries.org
SUMMARY:Ascension Lutheran Church Take Out Meal
DESCRIPTION:Community Meal Every Tuesday at 5:30pm – 6:00pm\nAscension Lutheran Church\n600 E Penn Grant Road\nWillow Street\, PA 17584\nOpen to the community at no charge\nNo RSVP Required
URL:https://solanconeighborhoodministries.org/ministry-event/ascension-lutheran-church-take-out-meal/2028-02-17/
LOCATION:Ascension Lutheran Church\, 600 East Penn Grant Road\, Willow Street\, 17584\, United States
CATEGORIES:Free Event
ORGANIZER;CN="SNM Programs":MAILTO:programs@snministries.org
END:VEVENT
BEGIN:VEVENT
DTSTART;TZID=America/New_York:20280316T173000
DTEND;TZID=America/New_York:20280316T180000
DTSTAMP:20260420T140905
CREATED:20240131T191552Z
LAST-MODIFIED:20240131T191552Z
UID:10000933-1836840600-1836842400@solanconeighborhoodministries.org
SUMMARY:Ascension Lutheran Church Take Out Meal
DESCRIPTION:Community Meal Every Tuesday at 5:30pm – 6:00pm\nAscension Lutheran Church\n600 E Penn Grant Road\nWillow Street\, PA 17584\nOpen to the community at no charge\nNo RSVP Required
URL:https://solanconeighborhoodministries.org/ministry-event/ascension-lutheran-church-take-out-meal/2028-03-16/
LOCATION:Ascension Lutheran Church\, 600 East Penn Grant Road\, Willow Street\, 17584\, United States
CATEGORIES:Free Event
ORGANIZER;CN="SNM Programs":MAILTO:programs@snministries.org
END:VEVENT
BEGIN:VEVENT
DTSTART;TZID=America/New_York:20280420T173000
DTEND;TZID=America/New_York:20280420T180000
DTSTAMP:20260420T140905
CREATED:20240131T191552Z
LAST-MODIFIED:20240131T191552Z
UID:10000934-1839864600-1839866400@solanconeighborhoodministries.org
SUMMARY:Ascension Lutheran Church Take Out Meal
DESCRIPTION:Community Meal Every Tuesday at 5:30pm – 6:00pm\nAscension Lutheran Church\n600 E Penn Grant Road\nWillow Street\, PA 17584\nOpen to the community at no charge\nNo RSVP Required
URL:https://solanconeighborhoodministries.org/ministry-event/ascension-lutheran-church-take-out-meal/2028-04-20/
LOCATION:Ascension Lutheran Church\, 600 East Penn Grant Road\, Willow Street\, 17584\, United States
CATEGORIES:Free Event
ORGANIZER;CN="SNM Programs":MAILTO:programs@snministries.org
END:VEVENT
BEGIN:VEVENT
DTSTART;TZID=America/New_York:20280518T173000
DTEND;TZID=America/New_York:20280518T180000
DTSTAMP:20260420T140905
CREATED:20240131T191552Z
LAST-MODIFIED:20240131T191552Z
UID:10000935-1842283800-1842285600@solanconeighborhoodministries.org
SUMMARY:Ascension Lutheran Church Take Out Meal
DESCRIPTION:Community Meal Every Tuesday at 5:30pm – 6:00pm\nAscension Lutheran Church\n600 E Penn Grant Road\nWillow Street\, PA 17584\nOpen to the community at no charge\nNo RSVP Required
URL:https://solanconeighborhoodministries.org/ministry-event/ascension-lutheran-church-take-out-meal/2028-05-18/
LOCATION:Ascension Lutheran Church\, 600 East Penn Grant Road\, Willow Street\, 17584\, United States
CATEGORIES:Free Event
ORGANIZER;CN="SNM Programs":MAILTO:programs@snministries.org
END:VEVENT
BEGIN:VEVENT
DTSTART;TZID=America/New_York:20280615T173000
DTEND;TZID=America/New_York:20280615T180000
DTSTAMP:20260420T140905
CREATED:20240131T191552Z
LAST-MODIFIED:20240131T191552Z
UID:10000936-1844703000-1844704800@solanconeighborhoodministries.org
SUMMARY:Ascension Lutheran Church Take Out Meal
DESCRIPTION:Community Meal Every Tuesday at 5:30pm – 6:00pm\nAscension Lutheran Church\n600 E Penn Grant Road\nWillow Street\, PA 17584\nOpen to the community at no charge\nNo RSVP Required
URL:https://solanconeighborhoodministries.org/ministry-event/ascension-lutheran-church-take-out-meal/2028-06-15/
LOCATION:Ascension Lutheran Church\, 600 East Penn Grant Road\, Willow Street\, 17584\, United States
CATEGORIES:Free Event
ORGANIZER;CN="SNM Programs":MAILTO:programs@snministries.org
END:VEVENT
BEGIN:VEVENT
DTSTART;TZID=America/New_York:20280720T173000
DTEND;TZID=America/New_York:20280720T180000
DTSTAMP:20260420T140905
CREATED:20240131T191552Z
LAST-MODIFIED:20240131T191552Z
UID:10000937-1847727000-1847728800@solanconeighborhoodministries.org
SUMMARY:Ascension Lutheran Church Take Out Meal
DESCRIPTION:Community Meal Every Tuesday at 5:30pm – 6:00pm\nAscension Lutheran Church\n600 E Penn Grant Road\nWillow Street\, PA 17584\nOpen to the community at no charge\nNo RSVP Required
URL:https://solanconeighborhoodministries.org/ministry-event/ascension-lutheran-church-take-out-meal/2028-07-20/
LOCATION:Ascension Lutheran Church\, 600 East Penn Grant Road\, Willow Street\, 17584\, United States
CATEGORIES:Free Event
ORGANIZER;CN="SNM Programs":MAILTO:programs@snministries.org
END:VEVENT
BEGIN:VEVENT
DTSTART;TZID=America/New_York:20280817T173000
DTEND;TZID=America/New_York:20280817T180000
DTSTAMP:20260420T140905
CREATED:20240131T191552Z
LAST-MODIFIED:20240131T191552Z
UID:10000938-1850146200-1850148000@solanconeighborhoodministries.org
SUMMARY:Ascension Lutheran Church Take Out Meal
DESCRIPTION:Community Meal Every Tuesday at 5:30pm – 6:00pm\nAscension Lutheran Church\n600 E Penn Grant Road\nWillow Street\, PA 17584\nOpen to the community at no charge\nNo RSVP Required
URL:https://solanconeighborhoodministries.org/ministry-event/ascension-lutheran-church-take-out-meal/2028-08-17/
LOCATION:Ascension Lutheran Church\, 600 East Penn Grant Road\, Willow Street\, 17584\, United States
CATEGORIES:Free Event
ORGANIZER;CN="SNM Programs":MAILTO:programs@snministries.org
END:VEVENT
BEGIN:VEVENT
DTSTART;TZID=America/New_York:20280921T173000
DTEND;TZID=America/New_York:20280921T180000
DTSTAMP:20260420T140905
CREATED:20240131T191552Z
LAST-MODIFIED:20240131T191552Z
UID:10000939-1853170200-1853172000@solanconeighborhoodministries.org
SUMMARY:Ascension Lutheran Church Take Out Meal
DESCRIPTION:Community Meal Every Tuesday at 5:30pm – 6:00pm\nAscension Lutheran Church\n600 E Penn Grant Road\nWillow Street\, PA 17584\nOpen to the community at no charge\nNo RSVP Required
URL:https://solanconeighborhoodministries.org/ministry-event/ascension-lutheran-church-take-out-meal/2028-09-21/
LOCATION:Ascension Lutheran Church\, 600 East Penn Grant Road\, Willow Street\, 17584\, United States
CATEGORIES:Free Event
ORGANIZER;CN="SNM Programs":MAILTO:programs@snministries.org
END:VEVENT
BEGIN:VEVENT
DTSTART;TZID=America/New_York:20281019T173000
DTEND;TZID=America/New_York:20281019T180000
DTSTAMP:20260420T140905
CREATED:20240131T191552Z
LAST-MODIFIED:20240131T191552Z
UID:10000940-1855589400-1855591200@solanconeighborhoodministries.org
SUMMARY:Ascension Lutheran Church Take Out Meal
DESCRIPTION:Community Meal Every Tuesday at 5:30pm – 6:00pm\nAscension Lutheran Church\n600 E Penn Grant Road\nWillow Street\, PA 17584\nOpen to the community at no charge\nNo RSVP Required
URL:https://solanconeighborhoodministries.org/ministry-event/ascension-lutheran-church-take-out-meal/2028-10-19/
LOCATION:Ascension Lutheran Church\, 600 East Penn Grant Road\, Willow Street\, 17584\, United States
CATEGORIES:Free Event
ORGANIZER;CN="SNM Programs":MAILTO:programs@snministries.org
END:VEVENT
END:VCALENDAR