BEGIN:VCALENDAR
VERSION:2.0
PRODID:-//Solanco Neighborhood Ministries - ECPv6.15.20//NONSGML v1.0//EN
CALSCALE:GREGORIAN
METHOD:PUBLISH
X-ORIGINAL-URL:https://solanconeighborhoodministries.org
X-WR-CALDESC:Events for Solanco Neighborhood Ministries
REFRESH-INTERVAL;VALUE=DURATION:PT1H
X-Robots-Tag:noindex
X-PUBLISHED-TTL:PT1H
BEGIN:VTIMEZONE
TZID:America/New_York
BEGIN:DAYLIGHT
TZOFFSETFROM:-0500
TZOFFSETTO:-0400
TZNAME:EDT
DTSTART:20230312T070000
END:DAYLIGHT
BEGIN:STANDARD
TZOFFSETFROM:-0400
TZOFFSETTO:-0500
TZNAME:EST
DTSTART:20231105T060000
END:STANDARD
BEGIN:DAYLIGHT
TZOFFSETFROM:-0500
TZOFFSETTO:-0400
TZNAME:EDT
DTSTART:20240310T070000
END:DAYLIGHT
BEGIN:STANDARD
TZOFFSETFROM:-0400
TZOFFSETTO:-0500
TZNAME:EST
DTSTART:20241103T060000
END:STANDARD
BEGIN:DAYLIGHT
TZOFFSETFROM:-0500
TZOFFSETTO:-0400
TZNAME:EDT
DTSTART:20250309T070000
END:DAYLIGHT
BEGIN:STANDARD
TZOFFSETFROM:-0400
TZOFFSETTO:-0500
TZNAME:EST
DTSTART:20251102T060000
END:STANDARD
BEGIN:DAYLIGHT
TZOFFSETFROM:-0500
TZOFFSETTO:-0400
TZNAME:EDT
DTSTART:20260308T070000
END:DAYLIGHT
BEGIN:STANDARD
TZOFFSETFROM:-0400
TZOFFSETTO:-0500
TZNAME:EST
DTSTART:20261101T060000
END:STANDARD
END:VTIMEZONE
BEGIN:VEVENT
DTSTART;TZID=America/New_York:20250417T173000
DTEND;TZID=America/New_York:20250417T180000
DTSTAMP:20260422T062952
CREATED:20240131T191552Z
LAST-MODIFIED:20240131T191552Z
UID:10000898-1744911000-1744912800@solanconeighborhoodministries.org
SUMMARY:Ascension Lutheran Church Take Out Meal
DESCRIPTION:Community Meal Every Tuesday at 5:30pm – 6:00pm\nAscension Lutheran Church\n600 E Penn Grant Road\nWillow Street\, PA 17584\nOpen to the community at no charge\nNo RSVP Required
URL:https://solanconeighborhoodministries.org/ministry-event/ascension-lutheran-church-take-out-meal/2025-04-17/
LOCATION:Ascension Lutheran Church\, 600 East Penn Grant Road\, Willow Street\, 17584\, United States
CATEGORIES:Free Event
ORGANIZER;CN="SNM Programs":MAILTO:programs@snministries.org
END:VEVENT
BEGIN:VEVENT
DTSTART;TZID=America/New_York:20250320T173000
DTEND;TZID=America/New_York:20250320T180000
DTSTAMP:20260422T062952
CREATED:20240131T191552Z
LAST-MODIFIED:20240131T191552Z
UID:10000897-1742491800-1742493600@solanconeighborhoodministries.org
SUMMARY:Ascension Lutheran Church Take Out Meal
DESCRIPTION:Community Meal Every Tuesday at 5:30pm – 6:00pm\nAscension Lutheran Church\n600 E Penn Grant Road\nWillow Street\, PA 17584\nOpen to the community at no charge\nNo RSVP Required
URL:https://solanconeighborhoodministries.org/ministry-event/ascension-lutheran-church-take-out-meal/2025-03-20/
LOCATION:Ascension Lutheran Church\, 600 East Penn Grant Road\, Willow Street\, 17584\, United States
CATEGORIES:Free Event
ORGANIZER;CN="SNM Programs":MAILTO:programs@snministries.org
END:VEVENT
BEGIN:VEVENT
DTSTART;TZID=America/New_York:20250220T173000
DTEND;TZID=America/New_York:20250220T180000
DTSTAMP:20260422T062952
CREATED:20240131T191552Z
LAST-MODIFIED:20240131T191552Z
UID:10000896-1740072600-1740074400@solanconeighborhoodministries.org
SUMMARY:Ascension Lutheran Church Take Out Meal
DESCRIPTION:Community Meal Every Tuesday at 5:30pm – 6:00pm\nAscension Lutheran Church\n600 E Penn Grant Road\nWillow Street\, PA 17584\nOpen to the community at no charge\nNo RSVP Required
URL:https://solanconeighborhoodministries.org/ministry-event/ascension-lutheran-church-take-out-meal/2025-02-20/
LOCATION:Ascension Lutheran Church\, 600 East Penn Grant Road\, Willow Street\, 17584\, United States
CATEGORIES:Free Event
ORGANIZER;CN="SNM Programs":MAILTO:programs@snministries.org
END:VEVENT
BEGIN:VEVENT
DTSTART;TZID=America/New_York:20250116T173000
DTEND;TZID=America/New_York:20250116T180000
DTSTAMP:20260422T062952
CREATED:20240131T191552Z
LAST-MODIFIED:20240131T191552Z
UID:10000895-1737048600-1737050400@solanconeighborhoodministries.org
SUMMARY:Ascension Lutheran Church Take Out Meal
DESCRIPTION:Community Meal Every Tuesday at 5:30pm – 6:00pm\nAscension Lutheran Church\n600 E Penn Grant Road\nWillow Street\, PA 17584\nOpen to the community at no charge\nNo RSVP Required
URL:https://solanconeighborhoodministries.org/ministry-event/ascension-lutheran-church-take-out-meal/2025-01-16/
LOCATION:Ascension Lutheran Church\, 600 East Penn Grant Road\, Willow Street\, 17584\, United States
CATEGORIES:Free Event
ORGANIZER;CN="SNM Programs":MAILTO:programs@snministries.org
END:VEVENT
BEGIN:VEVENT
DTSTART;TZID=America/New_York:20241219T173000
DTEND;TZID=America/New_York:20241219T180000
DTSTAMP:20260422T062952
CREATED:20240131T191552Z
LAST-MODIFIED:20240131T191552Z
UID:10000894-1734629400-1734631200@solanconeighborhoodministries.org
SUMMARY:Ascension Lutheran Church Take Out Meal
DESCRIPTION:Community Meal Every Tuesday at 5:30pm – 6:00pm\nAscension Lutheran Church\n600 E Penn Grant Road\nWillow Street\, PA 17584\nOpen to the community at no charge\nNo RSVP Required
URL:https://solanconeighborhoodministries.org/ministry-event/ascension-lutheran-church-take-out-meal/2024-12-19/
LOCATION:Ascension Lutheran Church\, 600 East Penn Grant Road\, Willow Street\, 17584\, United States
CATEGORIES:Free Event
ORGANIZER;CN="SNM Programs":MAILTO:programs@snministries.org
END:VEVENT
BEGIN:VEVENT
DTSTART;TZID=America/New_York:20241121T173000
DTEND;TZID=America/New_York:20241121T180000
DTSTAMP:20260422T062952
CREATED:20240131T191552Z
LAST-MODIFIED:20240131T191552Z
UID:10000893-1732210200-1732212000@solanconeighborhoodministries.org
SUMMARY:Ascension Lutheran Church Take Out Meal
DESCRIPTION:Community Meal Every Tuesday at 5:30pm – 6:00pm\nAscension Lutheran Church\n600 E Penn Grant Road\nWillow Street\, PA 17584\nOpen to the community at no charge\nNo RSVP Required
URL:https://solanconeighborhoodministries.org/ministry-event/ascension-lutheran-church-take-out-meal/2024-11-21/
LOCATION:Ascension Lutheran Church\, 600 East Penn Grant Road\, Willow Street\, 17584\, United States
CATEGORIES:Free Event
ORGANIZER;CN="SNM Programs":MAILTO:programs@snministries.org
END:VEVENT
BEGIN:VEVENT
DTSTART;TZID=America/New_York:20241017T173000
DTEND;TZID=America/New_York:20241017T180000
DTSTAMP:20260422T062952
CREATED:20240131T191552Z
LAST-MODIFIED:20240131T191552Z
UID:10000892-1729186200-1729188000@solanconeighborhoodministries.org
SUMMARY:Ascension Lutheran Church Take Out Meal
DESCRIPTION:Community Meal Every Tuesday at 5:30pm – 6:00pm\nAscension Lutheran Church\n600 E Penn Grant Road\nWillow Street\, PA 17584\nOpen to the community at no charge\nNo RSVP Required
URL:https://solanconeighborhoodministries.org/ministry-event/ascension-lutheran-church-take-out-meal/2024-10-17/
LOCATION:Ascension Lutheran Church\, 600 East Penn Grant Road\, Willow Street\, 17584\, United States
CATEGORIES:Free Event
ORGANIZER;CN="SNM Programs":MAILTO:programs@snministries.org
END:VEVENT
BEGIN:VEVENT
DTSTART;TZID=America/New_York:20240919T173000
DTEND;TZID=America/New_York:20240919T180000
DTSTAMP:20260422T062952
CREATED:20240131T191552Z
LAST-MODIFIED:20240131T191552Z
UID:10000891-1726767000-1726768800@solanconeighborhoodministries.org
SUMMARY:Ascension Lutheran Church Take Out Meal
DESCRIPTION:Community Meal Every Tuesday at 5:30pm – 6:00pm\nAscension Lutheran Church\n600 E Penn Grant Road\nWillow Street\, PA 17584\nOpen to the community at no charge\nNo RSVP Required
URL:https://solanconeighborhoodministries.org/ministry-event/ascension-lutheran-church-take-out-meal/2024-09-19/
LOCATION:Ascension Lutheran Church\, 600 East Penn Grant Road\, Willow Street\, 17584\, United States
CATEGORIES:Free Event
ORGANIZER;CN="SNM Programs":MAILTO:programs@snministries.org
END:VEVENT
BEGIN:VEVENT
DTSTART;TZID=America/New_York:20240815T173000
DTEND;TZID=America/New_York:20240815T180000
DTSTAMP:20260422T062952
CREATED:20240131T191552Z
LAST-MODIFIED:20240131T191552Z
UID:10000890-1723743000-1723744800@solanconeighborhoodministries.org
SUMMARY:Ascension Lutheran Church Take Out Meal
DESCRIPTION:Community Meal Every Tuesday at 5:30pm – 6:00pm\nAscension Lutheran Church\n600 E Penn Grant Road\nWillow Street\, PA 17584\nOpen to the community at no charge\nNo RSVP Required
URL:https://solanconeighborhoodministries.org/ministry-event/ascension-lutheran-church-take-out-meal/2024-08-15/
LOCATION:Ascension Lutheran Church\, 600 East Penn Grant Road\, Willow Street\, 17584\, United States
CATEGORIES:Free Event
ORGANIZER;CN="SNM Programs":MAILTO:programs@snministries.org
END:VEVENT
BEGIN:VEVENT
DTSTART;TZID=America/New_York:20240718T173000
DTEND;TZID=America/New_York:20240718T180000
DTSTAMP:20260422T062952
CREATED:20240131T191552Z
LAST-MODIFIED:20240131T191552Z
UID:10000889-1721323800-1721325600@solanconeighborhoodministries.org
SUMMARY:Ascension Lutheran Church Take Out Meal
DESCRIPTION:Community Meal Every Tuesday at 5:30pm – 6:00pm\nAscension Lutheran Church\n600 E Penn Grant Road\nWillow Street\, PA 17584\nOpen to the community at no charge\nNo RSVP Required
URL:https://solanconeighborhoodministries.org/ministry-event/ascension-lutheran-church-take-out-meal/2024-07-18/
LOCATION:Ascension Lutheran Church\, 600 East Penn Grant Road\, Willow Street\, 17584\, United States
CATEGORIES:Free Event
ORGANIZER;CN="SNM Programs":MAILTO:programs@snministries.org
END:VEVENT
BEGIN:VEVENT
DTSTART;TZID=America/New_York:20240620T173000
DTEND;TZID=America/New_York:20240620T180000
DTSTAMP:20260422T062952
CREATED:20240131T191552Z
LAST-MODIFIED:20240131T191552Z
UID:10000888-1718904600-1718906400@solanconeighborhoodministries.org
SUMMARY:Ascension Lutheran Church Take Out Meal
DESCRIPTION:Community Meal Every Tuesday at 5:30pm – 6:00pm\nAscension Lutheran Church\n600 E Penn Grant Road\nWillow Street\, PA 17584\nOpen to the community at no charge\nNo RSVP Required
URL:https://solanconeighborhoodministries.org/ministry-event/ascension-lutheran-church-take-out-meal/2024-06-20/
LOCATION:Ascension Lutheran Church\, 600 East Penn Grant Road\, Willow Street\, 17584\, United States
CATEGORIES:Free Event
ORGANIZER;CN="SNM Programs":MAILTO:programs@snministries.org
END:VEVENT
BEGIN:VEVENT
DTSTART;TZID=America/New_York:20240516T173000
DTEND;TZID=America/New_York:20240516T180000
DTSTAMP:20260422T062952
CREATED:20240131T191552Z
LAST-MODIFIED:20240131T191552Z
UID:10000887-1715880600-1715882400@solanconeighborhoodministries.org
SUMMARY:Ascension Lutheran Church Take Out Meal
DESCRIPTION:Community Meal Every Tuesday at 5:30pm – 6:00pm\nAscension Lutheran Church\n600 E Penn Grant Road\nWillow Street\, PA 17584\nOpen to the community at no charge\nNo RSVP Required
URL:https://solanconeighborhoodministries.org/ministry-event/ascension-lutheran-church-take-out-meal/2024-05-16/
LOCATION:Ascension Lutheran Church\, 600 East Penn Grant Road\, Willow Street\, 17584\, United States
CATEGORIES:Free Event
ORGANIZER;CN="SNM Programs":MAILTO:programs@snministries.org
END:VEVENT
BEGIN:VEVENT
DTSTART;TZID=America/New_York:20240418T173000
DTEND;TZID=America/New_York:20240418T180000
DTSTAMP:20260422T062952
CREATED:20240131T191552Z
LAST-MODIFIED:20240131T191552Z
UID:10000886-1713461400-1713463200@solanconeighborhoodministries.org
SUMMARY:Ascension Lutheran Church Take Out Meal
DESCRIPTION:Community Meal Every Tuesday at 5:30pm – 6:00pm\nAscension Lutheran Church\n600 E Penn Grant Road\nWillow Street\, PA 17584\nOpen to the community at no charge\nNo RSVP Required
URL:https://solanconeighborhoodministries.org/ministry-event/ascension-lutheran-church-take-out-meal/2024-04-18/
LOCATION:Ascension Lutheran Church\, 600 East Penn Grant Road\, Willow Street\, 17584\, United States
CATEGORIES:Free Event
ORGANIZER;CN="SNM Programs":MAILTO:programs@snministries.org
END:VEVENT
BEGIN:VEVENT
DTSTART;TZID=America/New_York:20240321T173000
DTEND;TZID=America/New_York:20240321T180000
DTSTAMP:20260422T062952
CREATED:20240131T191552Z
LAST-MODIFIED:20240131T191552Z
UID:10000885-1711042200-1711044000@solanconeighborhoodministries.org
SUMMARY:Ascension Lutheran Church Take Out Meal
DESCRIPTION:Community Meal Every Tuesday at 5:30pm – 6:00pm\nAscension Lutheran Church\n600 E Penn Grant Road\nWillow Street\, PA 17584\nOpen to the community at no charge\nNo RSVP Required
URL:https://solanconeighborhoodministries.org/ministry-event/ascension-lutheran-church-take-out-meal/2024-03-21/
LOCATION:Ascension Lutheran Church\, 600 East Penn Grant Road\, Willow Street\, 17584\, United States
CATEGORIES:Free Event
ORGANIZER;CN="SNM Programs":MAILTO:programs@snministries.org
END:VEVENT
BEGIN:VEVENT
DTSTART;TZID=America/New_York:20240215T173000
DTEND;TZID=America/New_York:20240215T180000
DTSTAMP:20260422T062952
CREATED:20240131T191552Z
LAST-MODIFIED:20240131T191552Z
UID:10000884-1708018200-1708020000@solanconeighborhoodministries.org
SUMMARY:Ascension Lutheran Church Take Out Meal
DESCRIPTION:Community Meal Every Tuesday at 5:30pm – 6:00pm\nAscension Lutheran Church\n600 E Penn Grant Road\nWillow Street\, PA 17584\nOpen to the community at no charge\nNo RSVP Required
URL:https://solanconeighborhoodministries.org/ministry-event/ascension-lutheran-church-take-out-meal/2024-02-15/
LOCATION:Ascension Lutheran Church\, 600 East Penn Grant Road\, Willow Street\, 17584\, United States
CATEGORIES:Free Event
ORGANIZER;CN="SNM Programs":MAILTO:programs@snministries.org
END:VEVENT
END:VCALENDAR