BEGIN:VCALENDAR
VERSION:2.0
PRODID:-//Solanco Neighborhood Ministries - ECPv6.15.20//NONSGML v1.0//EN
CALSCALE:GREGORIAN
METHOD:PUBLISH
X-WR-CALNAME:Solanco Neighborhood Ministries
X-ORIGINAL-URL:https://solanconeighborhoodministries.org
X-WR-CALDESC:Events for Solanco Neighborhood Ministries
REFRESH-INTERVAL;VALUE=DURATION:PT1H
X-Robots-Tag:noindex
X-PUBLISHED-TTL:PT1H
BEGIN:VTIMEZONE
TZID:America/New_York
BEGIN:DAYLIGHT
TZOFFSETFROM:-0500
TZOFFSETTO:-0400
TZNAME:EDT
DTSTART:20270314T070000
END:DAYLIGHT
BEGIN:STANDARD
TZOFFSETFROM:-0400
TZOFFSETTO:-0500
TZNAME:EST
DTSTART:20271107T060000
END:STANDARD
BEGIN:DAYLIGHT
TZOFFSETFROM:-0500
TZOFFSETTO:-0400
TZNAME:EDT
DTSTART:20280312T070000
END:DAYLIGHT
BEGIN:STANDARD
TZOFFSETFROM:-0400
TZOFFSETTO:-0500
TZNAME:EST
DTSTART:20281105T060000
END:STANDARD
BEGIN:DAYLIGHT
TZOFFSETFROM:-0500
TZOFFSETTO:-0400
TZNAME:EDT
DTSTART:20290311T070000
END:DAYLIGHT
BEGIN:STANDARD
TZOFFSETFROM:-0400
TZOFFSETTO:-0500
TZNAME:EST
DTSTART:20291104T060000
END:STANDARD
END:VTIMEZONE
BEGIN:VEVENT
DTSTART;TZID=America/New_York:20280516T170000
DTEND;TZID=America/New_York:20280516T190000
DTSTAMP:20260419T191304
CREATED:20240131T190902Z
LAST-MODIFIED:20240131T190902Z
UID:10000585-1842109200-1842116400@solanconeighborhoodministries.org
SUMMARY:Wesley Church Community Meal
DESCRIPTION:Community Meal Every Tuesday at 5:00pm – 7:00pm\nWesley Church\n1104 Kirkwood Pike\nQuarryville\, PA 17566\nOpen to the community at no charge\nNo RSVP Required
URL:https://solanconeighborhoodministries.org/ministry-event/wesley-church-community-meal/2028-05-16/
LOCATION:Wesley Church\, 1104 Kirkwood Pike\, Quarryville\, PA\, 17566\, United States
CATEGORIES:Free Event
ORGANIZER;CN="SNM Programs":MAILTO:programs@snministries.org
END:VEVENT
BEGIN:VEVENT
DTSTART;TZID=America/New_York:20280523T170000
DTEND;TZID=America/New_York:20280523T190000
DTSTAMP:20260419T191304
CREATED:20240131T190902Z
LAST-MODIFIED:20240131T190902Z
UID:10000586-1842714000-1842721200@solanconeighborhoodministries.org
SUMMARY:Wesley Church Community Meal
DESCRIPTION:Community Meal Every Tuesday at 5:00pm – 7:00pm\nWesley Church\n1104 Kirkwood Pike\nQuarryville\, PA 17566\nOpen to the community at no charge\nNo RSVP Required
URL:https://solanconeighborhoodministries.org/ministry-event/wesley-church-community-meal/2028-05-23/
LOCATION:Wesley Church\, 1104 Kirkwood Pike\, Quarryville\, PA\, 17566\, United States
CATEGORIES:Free Event
ORGANIZER;CN="SNM Programs":MAILTO:programs@snministries.org
END:VEVENT
BEGIN:VEVENT
DTSTART;TZID=America/New_York:20280530T170000
DTEND;TZID=America/New_York:20280530T190000
DTSTAMP:20260419T191304
CREATED:20240131T190902Z
LAST-MODIFIED:20240131T190902Z
UID:10000587-1843318800-1843326000@solanconeighborhoodministries.org
SUMMARY:Wesley Church Community Meal
DESCRIPTION:Community Meal Every Tuesday at 5:00pm – 7:00pm\nWesley Church\n1104 Kirkwood Pike\nQuarryville\, PA 17566\nOpen to the community at no charge\nNo RSVP Required
URL:https://solanconeighborhoodministries.org/ministry-event/wesley-church-community-meal/2028-05-30/
LOCATION:Wesley Church\, 1104 Kirkwood Pike\, Quarryville\, PA\, 17566\, United States
CATEGORIES:Free Event
ORGANIZER;CN="SNM Programs":MAILTO:programs@snministries.org
END:VEVENT
BEGIN:VEVENT
DTSTART;TZID=America/New_York:20280606T170000
DTEND;TZID=America/New_York:20280606T190000
DTSTAMP:20260419T191304
CREATED:20240131T190902Z
LAST-MODIFIED:20240131T190902Z
UID:10000588-1843923600-1843930800@solanconeighborhoodministries.org
SUMMARY:Wesley Church Community Meal
DESCRIPTION:Community Meal Every Tuesday at 5:00pm – 7:00pm\nWesley Church\n1104 Kirkwood Pike\nQuarryville\, PA 17566\nOpen to the community at no charge\nNo RSVP Required
URL:https://solanconeighborhoodministries.org/ministry-event/wesley-church-community-meal/2028-06-06/
LOCATION:Wesley Church\, 1104 Kirkwood Pike\, Quarryville\, PA\, 17566\, United States
CATEGORIES:Free Event
ORGANIZER;CN="SNM Programs":MAILTO:programs@snministries.org
END:VEVENT
BEGIN:VEVENT
DTSTART;TZID=America/New_York:20280613T170000
DTEND;TZID=America/New_York:20280613T190000
DTSTAMP:20260419T191304
CREATED:20240131T190902Z
LAST-MODIFIED:20240131T190902Z
UID:10000589-1844528400-1844535600@solanconeighborhoodministries.org
SUMMARY:Wesley Church Community Meal
DESCRIPTION:Community Meal Every Tuesday at 5:00pm – 7:00pm\nWesley Church\n1104 Kirkwood Pike\nQuarryville\, PA 17566\nOpen to the community at no charge\nNo RSVP Required
URL:https://solanconeighborhoodministries.org/ministry-event/wesley-church-community-meal/2028-06-13/
LOCATION:Wesley Church\, 1104 Kirkwood Pike\, Quarryville\, PA\, 17566\, United States
CATEGORIES:Free Event
ORGANIZER;CN="SNM Programs":MAILTO:programs@snministries.org
END:VEVENT
BEGIN:VEVENT
DTSTART;TZID=America/New_York:20280620T170000
DTEND;TZID=America/New_York:20280620T190000
DTSTAMP:20260419T191304
CREATED:20240131T190902Z
LAST-MODIFIED:20240131T190902Z
UID:10000590-1845133200-1845140400@solanconeighborhoodministries.org
SUMMARY:Wesley Church Community Meal
DESCRIPTION:Community Meal Every Tuesday at 5:00pm – 7:00pm\nWesley Church\n1104 Kirkwood Pike\nQuarryville\, PA 17566\nOpen to the community at no charge\nNo RSVP Required
URL:https://solanconeighborhoodministries.org/ministry-event/wesley-church-community-meal/2028-06-20/
LOCATION:Wesley Church\, 1104 Kirkwood Pike\, Quarryville\, PA\, 17566\, United States
CATEGORIES:Free Event
ORGANIZER;CN="SNM Programs":MAILTO:programs@snministries.org
END:VEVENT
BEGIN:VEVENT
DTSTART;TZID=America/New_York:20280627T170000
DTEND;TZID=America/New_York:20280627T190000
DTSTAMP:20260419T191304
CREATED:20240131T190902Z
LAST-MODIFIED:20240131T190902Z
UID:10000591-1845738000-1845745200@solanconeighborhoodministries.org
SUMMARY:Wesley Church Community Meal
DESCRIPTION:Community Meal Every Tuesday at 5:00pm – 7:00pm\nWesley Church\n1104 Kirkwood Pike\nQuarryville\, PA 17566\nOpen to the community at no charge\nNo RSVP Required
URL:https://solanconeighborhoodministries.org/ministry-event/wesley-church-community-meal/2028-06-27/
LOCATION:Wesley Church\, 1104 Kirkwood Pike\, Quarryville\, PA\, 17566\, United States
CATEGORIES:Free Event
ORGANIZER;CN="SNM Programs":MAILTO:programs@snministries.org
END:VEVENT
BEGIN:VEVENT
DTSTART;TZID=America/New_York:20280704T170000
DTEND;TZID=America/New_York:20280704T190000
DTSTAMP:20260419T191304
CREATED:20240131T190902Z
LAST-MODIFIED:20240131T190902Z
UID:10000592-1846342800-1846350000@solanconeighborhoodministries.org
SUMMARY:Wesley Church Community Meal
DESCRIPTION:Community Meal Every Tuesday at 5:00pm – 7:00pm\nWesley Church\n1104 Kirkwood Pike\nQuarryville\, PA 17566\nOpen to the community at no charge\nNo RSVP Required
URL:https://solanconeighborhoodministries.org/ministry-event/wesley-church-community-meal/2028-07-04/
LOCATION:Wesley Church\, 1104 Kirkwood Pike\, Quarryville\, PA\, 17566\, United States
CATEGORIES:Free Event
ORGANIZER;CN="SNM Programs":MAILTO:programs@snministries.org
END:VEVENT
BEGIN:VEVENT
DTSTART;TZID=America/New_York:20280711T170000
DTEND;TZID=America/New_York:20280711T190000
DTSTAMP:20260419T191304
CREATED:20240131T190902Z
LAST-MODIFIED:20240131T190902Z
UID:10000593-1846947600-1846954800@solanconeighborhoodministries.org
SUMMARY:Wesley Church Community Meal
DESCRIPTION:Community Meal Every Tuesday at 5:00pm – 7:00pm\nWesley Church\n1104 Kirkwood Pike\nQuarryville\, PA 17566\nOpen to the community at no charge\nNo RSVP Required
URL:https://solanconeighborhoodministries.org/ministry-event/wesley-church-community-meal/2028-07-11/
LOCATION:Wesley Church\, 1104 Kirkwood Pike\, Quarryville\, PA\, 17566\, United States
CATEGORIES:Free Event
ORGANIZER;CN="SNM Programs":MAILTO:programs@snministries.org
END:VEVENT
BEGIN:VEVENT
DTSTART;TZID=America/New_York:20280718T170000
DTEND;TZID=America/New_York:20280718T190000
DTSTAMP:20260419T191304
CREATED:20240131T190902Z
LAST-MODIFIED:20240131T190902Z
UID:10000594-1847552400-1847559600@solanconeighborhoodministries.org
SUMMARY:Wesley Church Community Meal
DESCRIPTION:Community Meal Every Tuesday at 5:00pm – 7:00pm\nWesley Church\n1104 Kirkwood Pike\nQuarryville\, PA 17566\nOpen to the community at no charge\nNo RSVP Required
URL:https://solanconeighborhoodministries.org/ministry-event/wesley-church-community-meal/2028-07-18/
LOCATION:Wesley Church\, 1104 Kirkwood Pike\, Quarryville\, PA\, 17566\, United States
CATEGORIES:Free Event
ORGANIZER;CN="SNM Programs":MAILTO:programs@snministries.org
END:VEVENT
BEGIN:VEVENT
DTSTART;TZID=America/New_York:20280725T170000
DTEND;TZID=America/New_York:20280725T190000
DTSTAMP:20260419T191304
CREATED:20240131T190902Z
LAST-MODIFIED:20240131T190902Z
UID:10000595-1848157200-1848164400@solanconeighborhoodministries.org
SUMMARY:Wesley Church Community Meal
DESCRIPTION:Community Meal Every Tuesday at 5:00pm – 7:00pm\nWesley Church\n1104 Kirkwood Pike\nQuarryville\, PA 17566\nOpen to the community at no charge\nNo RSVP Required
URL:https://solanconeighborhoodministries.org/ministry-event/wesley-church-community-meal/2028-07-25/
LOCATION:Wesley Church\, 1104 Kirkwood Pike\, Quarryville\, PA\, 17566\, United States
CATEGORIES:Free Event
ORGANIZER;CN="SNM Programs":MAILTO:programs@snministries.org
END:VEVENT
BEGIN:VEVENT
DTSTART;TZID=America/New_York:20280801T170000
DTEND;TZID=America/New_York:20280801T190000
DTSTAMP:20260419T191304
CREATED:20240131T190902Z
LAST-MODIFIED:20240131T190902Z
UID:10000596-1848762000-1848769200@solanconeighborhoodministries.org
SUMMARY:Wesley Church Community Meal
DESCRIPTION:Community Meal Every Tuesday at 5:00pm – 7:00pm\nWesley Church\n1104 Kirkwood Pike\nQuarryville\, PA 17566\nOpen to the community at no charge\nNo RSVP Required
URL:https://solanconeighborhoodministries.org/ministry-event/wesley-church-community-meal/2028-08-01/
LOCATION:Wesley Church\, 1104 Kirkwood Pike\, Quarryville\, PA\, 17566\, United States
CATEGORIES:Free Event
ORGANIZER;CN="SNM Programs":MAILTO:programs@snministries.org
END:VEVENT
BEGIN:VEVENT
DTSTART;TZID=America/New_York:20280808T170000
DTEND;TZID=America/New_York:20280808T190000
DTSTAMP:20260419T191304
CREATED:20240131T190902Z
LAST-MODIFIED:20240131T190902Z
UID:10000597-1849366800-1849374000@solanconeighborhoodministries.org
SUMMARY:Wesley Church Community Meal
DESCRIPTION:Community Meal Every Tuesday at 5:00pm – 7:00pm\nWesley Church\n1104 Kirkwood Pike\nQuarryville\, PA 17566\nOpen to the community at no charge\nNo RSVP Required
URL:https://solanconeighborhoodministries.org/ministry-event/wesley-church-community-meal/2028-08-08/
LOCATION:Wesley Church\, 1104 Kirkwood Pike\, Quarryville\, PA\, 17566\, United States
CATEGORIES:Free Event
ORGANIZER;CN="SNM Programs":MAILTO:programs@snministries.org
END:VEVENT
BEGIN:VEVENT
DTSTART;TZID=America/New_York:20280815T170000
DTEND;TZID=America/New_York:20280815T190000
DTSTAMP:20260419T191304
CREATED:20240131T190902Z
LAST-MODIFIED:20240131T190902Z
UID:10000598-1849971600-1849978800@solanconeighborhoodministries.org
SUMMARY:Wesley Church Community Meal
DESCRIPTION:Community Meal Every Tuesday at 5:00pm – 7:00pm\nWesley Church\n1104 Kirkwood Pike\nQuarryville\, PA 17566\nOpen to the community at no charge\nNo RSVP Required
URL:https://solanconeighborhoodministries.org/ministry-event/wesley-church-community-meal/2028-08-15/
LOCATION:Wesley Church\, 1104 Kirkwood Pike\, Quarryville\, PA\, 17566\, United States
CATEGORIES:Free Event
ORGANIZER;CN="SNM Programs":MAILTO:programs@snministries.org
END:VEVENT
BEGIN:VEVENT
DTSTART;TZID=America/New_York:20280822T170000
DTEND;TZID=America/New_York:20280822T190000
DTSTAMP:20260419T191304
CREATED:20240131T190902Z
LAST-MODIFIED:20240131T190902Z
UID:10000599-1850576400-1850583600@solanconeighborhoodministries.org
SUMMARY:Wesley Church Community Meal
DESCRIPTION:Community Meal Every Tuesday at 5:00pm – 7:00pm\nWesley Church\n1104 Kirkwood Pike\nQuarryville\, PA 17566\nOpen to the community at no charge\nNo RSVP Required
URL:https://solanconeighborhoodministries.org/ministry-event/wesley-church-community-meal/2028-08-22/
LOCATION:Wesley Church\, 1104 Kirkwood Pike\, Quarryville\, PA\, 17566\, United States
CATEGORIES:Free Event
ORGANIZER;CN="SNM Programs":MAILTO:programs@snministries.org
END:VEVENT
BEGIN:VEVENT
DTSTART;TZID=America/New_York:20280829T170000
DTEND;TZID=America/New_York:20280829T190000
DTSTAMP:20260419T191304
CREATED:20240131T190902Z
LAST-MODIFIED:20240131T190902Z
UID:10000600-1851181200-1851188400@solanconeighborhoodministries.org
SUMMARY:Wesley Church Community Meal
DESCRIPTION:Community Meal Every Tuesday at 5:00pm – 7:00pm\nWesley Church\n1104 Kirkwood Pike\nQuarryville\, PA 17566\nOpen to the community at no charge\nNo RSVP Required
URL:https://solanconeighborhoodministries.org/ministry-event/wesley-church-community-meal/2028-08-29/
LOCATION:Wesley Church\, 1104 Kirkwood Pike\, Quarryville\, PA\, 17566\, United States
CATEGORIES:Free Event
ORGANIZER;CN="SNM Programs":MAILTO:programs@snministries.org
END:VEVENT
BEGIN:VEVENT
DTSTART;TZID=America/New_York:20280905T170000
DTEND;TZID=America/New_York:20280905T190000
DTSTAMP:20260419T191304
CREATED:20240131T190902Z
LAST-MODIFIED:20240131T190902Z
UID:10000601-1851786000-1851793200@solanconeighborhoodministries.org
SUMMARY:Wesley Church Community Meal
DESCRIPTION:Community Meal Every Tuesday at 5:00pm – 7:00pm\nWesley Church\n1104 Kirkwood Pike\nQuarryville\, PA 17566\nOpen to the community at no charge\nNo RSVP Required
URL:https://solanconeighborhoodministries.org/ministry-event/wesley-church-community-meal/2028-09-05/
LOCATION:Wesley Church\, 1104 Kirkwood Pike\, Quarryville\, PA\, 17566\, United States
CATEGORIES:Free Event
ORGANIZER;CN="SNM Programs":MAILTO:programs@snministries.org
END:VEVENT
BEGIN:VEVENT
DTSTART;TZID=America/New_York:20280912T170000
DTEND;TZID=America/New_York:20280912T190000
DTSTAMP:20260419T191304
CREATED:20240131T190902Z
LAST-MODIFIED:20240131T190902Z
UID:10000602-1852390800-1852398000@solanconeighborhoodministries.org
SUMMARY:Wesley Church Community Meal
DESCRIPTION:Community Meal Every Tuesday at 5:00pm – 7:00pm\nWesley Church\n1104 Kirkwood Pike\nQuarryville\, PA 17566\nOpen to the community at no charge\nNo RSVP Required
URL:https://solanconeighborhoodministries.org/ministry-event/wesley-church-community-meal/2028-09-12/
LOCATION:Wesley Church\, 1104 Kirkwood Pike\, Quarryville\, PA\, 17566\, United States
CATEGORIES:Free Event
ORGANIZER;CN="SNM Programs":MAILTO:programs@snministries.org
END:VEVENT
BEGIN:VEVENT
DTSTART;TZID=America/New_York:20280919T170000
DTEND;TZID=America/New_York:20280919T190000
DTSTAMP:20260419T191304
CREATED:20240131T190902Z
LAST-MODIFIED:20240131T190902Z
UID:10000603-1852995600-1853002800@solanconeighborhoodministries.org
SUMMARY:Wesley Church Community Meal
DESCRIPTION:Community Meal Every Tuesday at 5:00pm – 7:00pm\nWesley Church\n1104 Kirkwood Pike\nQuarryville\, PA 17566\nOpen to the community at no charge\nNo RSVP Required
URL:https://solanconeighborhoodministries.org/ministry-event/wesley-church-community-meal/2028-09-19/
LOCATION:Wesley Church\, 1104 Kirkwood Pike\, Quarryville\, PA\, 17566\, United States
CATEGORIES:Free Event
ORGANIZER;CN="SNM Programs":MAILTO:programs@snministries.org
END:VEVENT
BEGIN:VEVENT
DTSTART;TZID=America/New_York:20280926T170000
DTEND;TZID=America/New_York:20280926T190000
DTSTAMP:20260419T191304
CREATED:20240131T190902Z
LAST-MODIFIED:20240131T190902Z
UID:10000604-1853600400-1853607600@solanconeighborhoodministries.org
SUMMARY:Wesley Church Community Meal
DESCRIPTION:Community Meal Every Tuesday at 5:00pm – 7:00pm\nWesley Church\n1104 Kirkwood Pike\nQuarryville\, PA 17566\nOpen to the community at no charge\nNo RSVP Required
URL:https://solanconeighborhoodministries.org/ministry-event/wesley-church-community-meal/2028-09-26/
LOCATION:Wesley Church\, 1104 Kirkwood Pike\, Quarryville\, PA\, 17566\, United States
CATEGORIES:Free Event
ORGANIZER;CN="SNM Programs":MAILTO:programs@snministries.org
END:VEVENT
BEGIN:VEVENT
DTSTART;TZID=America/New_York:20281003T170000
DTEND;TZID=America/New_York:20281003T190000
DTSTAMP:20260419T191304
CREATED:20240131T190902Z
LAST-MODIFIED:20240131T190902Z
UID:10000605-1854205200-1854212400@solanconeighborhoodministries.org
SUMMARY:Wesley Church Community Meal
DESCRIPTION:Community Meal Every Tuesday at 5:00pm – 7:00pm\nWesley Church\n1104 Kirkwood Pike\nQuarryville\, PA 17566\nOpen to the community at no charge\nNo RSVP Required
URL:https://solanconeighborhoodministries.org/ministry-event/wesley-church-community-meal/2028-10-03/
LOCATION:Wesley Church\, 1104 Kirkwood Pike\, Quarryville\, PA\, 17566\, United States
CATEGORIES:Free Event
ORGANIZER;CN="SNM Programs":MAILTO:programs@snministries.org
END:VEVENT
BEGIN:VEVENT
DTSTART;TZID=America/New_York:20281010T170000
DTEND;TZID=America/New_York:20281010T190000
DTSTAMP:20260419T191304
CREATED:20240131T190902Z
LAST-MODIFIED:20240131T190902Z
UID:10000606-1854810000-1854817200@solanconeighborhoodministries.org
SUMMARY:Wesley Church Community Meal
DESCRIPTION:Community Meal Every Tuesday at 5:00pm – 7:00pm\nWesley Church\n1104 Kirkwood Pike\nQuarryville\, PA 17566\nOpen to the community at no charge\nNo RSVP Required
URL:https://solanconeighborhoodministries.org/ministry-event/wesley-church-community-meal/2028-10-10/
LOCATION:Wesley Church\, 1104 Kirkwood Pike\, Quarryville\, PA\, 17566\, United States
CATEGORIES:Free Event
ORGANIZER;CN="SNM Programs":MAILTO:programs@snministries.org
END:VEVENT
BEGIN:VEVENT
DTSTART;TZID=America/New_York:20281017T170000
DTEND;TZID=America/New_York:20281017T190000
DTSTAMP:20260419T191304
CREATED:20240131T190902Z
LAST-MODIFIED:20240131T190902Z
UID:10000607-1855414800-1855422000@solanconeighborhoodministries.org
SUMMARY:Wesley Church Community Meal
DESCRIPTION:Community Meal Every Tuesday at 5:00pm – 7:00pm\nWesley Church\n1104 Kirkwood Pike\nQuarryville\, PA 17566\nOpen to the community at no charge\nNo RSVP Required
URL:https://solanconeighborhoodministries.org/ministry-event/wesley-church-community-meal/2028-10-17/
LOCATION:Wesley Church\, 1104 Kirkwood Pike\, Quarryville\, PA\, 17566\, United States
CATEGORIES:Free Event
ORGANIZER;CN="SNM Programs":MAILTO:programs@snministries.org
END:VEVENT
BEGIN:VEVENT
DTSTART;TZID=America/New_York:20281024T170000
DTEND;TZID=America/New_York:20281024T190000
DTSTAMP:20260419T191304
CREATED:20240131T190902Z
LAST-MODIFIED:20240131T190902Z
UID:10000608-1856019600-1856026800@solanconeighborhoodministries.org
SUMMARY:Wesley Church Community Meal
DESCRIPTION:Community Meal Every Tuesday at 5:00pm – 7:00pm\nWesley Church\n1104 Kirkwood Pike\nQuarryville\, PA 17566\nOpen to the community at no charge\nNo RSVP Required
URL:https://solanconeighborhoodministries.org/ministry-event/wesley-church-community-meal/2028-10-24/
LOCATION:Wesley Church\, 1104 Kirkwood Pike\, Quarryville\, PA\, 17566\, United States
CATEGORIES:Free Event
ORGANIZER;CN="SNM Programs":MAILTO:programs@snministries.org
END:VEVENT
BEGIN:VEVENT
DTSTART;TZID=America/New_York:20281031T170000
DTEND;TZID=America/New_York:20281031T190000
DTSTAMP:20260419T191304
CREATED:20240131T190902Z
LAST-MODIFIED:20240131T190902Z
UID:10000609-1856624400-1856631600@solanconeighborhoodministries.org
SUMMARY:Wesley Church Community Meal
DESCRIPTION:Community Meal Every Tuesday at 5:00pm – 7:00pm\nWesley Church\n1104 Kirkwood Pike\nQuarryville\, PA 17566\nOpen to the community at no charge\nNo RSVP Required
URL:https://solanconeighborhoodministries.org/ministry-event/wesley-church-community-meal/2028-10-31/
LOCATION:Wesley Church\, 1104 Kirkwood Pike\, Quarryville\, PA\, 17566\, United States
CATEGORIES:Free Event
ORGANIZER;CN="SNM Programs":MAILTO:programs@snministries.org
END:VEVENT
BEGIN:VEVENT
DTSTART;TZID=America/New_York:20281107T170000
DTEND;TZID=America/New_York:20281107T190000
DTSTAMP:20260419T191304
CREATED:20240131T190902Z
LAST-MODIFIED:20240131T190902Z
UID:10000610-1857229200-1857236400@solanconeighborhoodministries.org
SUMMARY:Wesley Church Community Meal
DESCRIPTION:Community Meal Every Tuesday at 5:00pm – 7:00pm\nWesley Church\n1104 Kirkwood Pike\nQuarryville\, PA 17566\nOpen to the community at no charge\nNo RSVP Required
URL:https://solanconeighborhoodministries.org/ministry-event/wesley-church-community-meal/2028-11-07/
LOCATION:Wesley Church\, 1104 Kirkwood Pike\, Quarryville\, PA\, 17566\, United States
CATEGORIES:Free Event
ORGANIZER;CN="SNM Programs":MAILTO:programs@snministries.org
END:VEVENT
BEGIN:VEVENT
DTSTART;TZID=America/New_York:20281114T170000
DTEND;TZID=America/New_York:20281114T190000
DTSTAMP:20260419T191304
CREATED:20240131T190902Z
LAST-MODIFIED:20240131T190902Z
UID:10000611-1857834000-1857841200@solanconeighborhoodministries.org
SUMMARY:Wesley Church Community Meal
DESCRIPTION:Community Meal Every Tuesday at 5:00pm – 7:00pm\nWesley Church\n1104 Kirkwood Pike\nQuarryville\, PA 17566\nOpen to the community at no charge\nNo RSVP Required
URL:https://solanconeighborhoodministries.org/ministry-event/wesley-church-community-meal/2028-11-14/
LOCATION:Wesley Church\, 1104 Kirkwood Pike\, Quarryville\, PA\, 17566\, United States
CATEGORIES:Free Event
ORGANIZER;CN="SNM Programs":MAILTO:programs@snministries.org
END:VEVENT
BEGIN:VEVENT
DTSTART;TZID=America/New_York:20281121T170000
DTEND;TZID=America/New_York:20281121T190000
DTSTAMP:20260419T191304
CREATED:20240131T190902Z
LAST-MODIFIED:20240131T190902Z
UID:10000612-1858438800-1858446000@solanconeighborhoodministries.org
SUMMARY:Wesley Church Community Meal
DESCRIPTION:Community Meal Every Tuesday at 5:00pm – 7:00pm\nWesley Church\n1104 Kirkwood Pike\nQuarryville\, PA 17566\nOpen to the community at no charge\nNo RSVP Required
URL:https://solanconeighborhoodministries.org/ministry-event/wesley-church-community-meal/2028-11-21/
LOCATION:Wesley Church\, 1104 Kirkwood Pike\, Quarryville\, PA\, 17566\, United States
CATEGORIES:Free Event
ORGANIZER;CN="SNM Programs":MAILTO:programs@snministries.org
END:VEVENT
BEGIN:VEVENT
DTSTART;TZID=America/New_York:20281128T170000
DTEND;TZID=America/New_York:20281128T190000
DTSTAMP:20260419T191304
CREATED:20240131T190902Z
LAST-MODIFIED:20240131T190902Z
UID:10000613-1859043600-1859050800@solanconeighborhoodministries.org
SUMMARY:Wesley Church Community Meal
DESCRIPTION:Community Meal Every Tuesday at 5:00pm – 7:00pm\nWesley Church\n1104 Kirkwood Pike\nQuarryville\, PA 17566\nOpen to the community at no charge\nNo RSVP Required
URL:https://solanconeighborhoodministries.org/ministry-event/wesley-church-community-meal/2028-11-28/
LOCATION:Wesley Church\, 1104 Kirkwood Pike\, Quarryville\, PA\, 17566\, United States
CATEGORIES:Free Event
ORGANIZER;CN="SNM Programs":MAILTO:programs@snministries.org
END:VEVENT
BEGIN:VEVENT
DTSTART;TZID=America/New_York:20281205T170000
DTEND;TZID=America/New_York:20281205T190000
DTSTAMP:20260419T191304
CREATED:20240131T190902Z
LAST-MODIFIED:20240131T190902Z
UID:10000614-1859648400-1859655600@solanconeighborhoodministries.org
SUMMARY:Wesley Church Community Meal
DESCRIPTION:Community Meal Every Tuesday at 5:00pm – 7:00pm\nWesley Church\n1104 Kirkwood Pike\nQuarryville\, PA 17566\nOpen to the community at no charge\nNo RSVP Required
URL:https://solanconeighborhoodministries.org/ministry-event/wesley-church-community-meal/2028-12-05/
LOCATION:Wesley Church\, 1104 Kirkwood Pike\, Quarryville\, PA\, 17566\, United States
CATEGORIES:Free Event
ORGANIZER;CN="SNM Programs":MAILTO:programs@snministries.org
END:VEVENT
END:VCALENDAR