BEGIN:VCALENDAR
VERSION:2.0
PRODID:-//Solanco Neighborhood Ministries - ECPv6.15.20//NONSGML v1.0//EN
CALSCALE:GREGORIAN
METHOD:PUBLISH
X-ORIGINAL-URL:https://solanconeighborhoodministries.org
X-WR-CALDESC:Events for Solanco Neighborhood Ministries
REFRESH-INTERVAL;VALUE=DURATION:PT1H
X-Robots-Tag:noindex
X-PUBLISHED-TTL:PT1H
BEGIN:VTIMEZONE
TZID:America/New_York
BEGIN:DAYLIGHT
TZOFFSETFROM:-0500
TZOFFSETTO:-0400
TZNAME:EDT
DTSTART:20240310T070000
END:DAYLIGHT
BEGIN:STANDARD
TZOFFSETFROM:-0400
TZOFFSETTO:-0500
TZNAME:EST
DTSTART:20241103T060000
END:STANDARD
BEGIN:DAYLIGHT
TZOFFSETFROM:-0500
TZOFFSETTO:-0400
TZNAME:EDT
DTSTART:20250309T070000
END:DAYLIGHT
BEGIN:STANDARD
TZOFFSETFROM:-0400
TZOFFSETTO:-0500
TZNAME:EST
DTSTART:20251102T060000
END:STANDARD
BEGIN:DAYLIGHT
TZOFFSETFROM:-0500
TZOFFSETTO:-0400
TZNAME:EDT
DTSTART:20260308T070000
END:DAYLIGHT
BEGIN:STANDARD
TZOFFSETFROM:-0400
TZOFFSETTO:-0500
TZNAME:EST
DTSTART:20261101T060000
END:STANDARD
END:VTIMEZONE
BEGIN:VEVENT
DTSTART;TZID=America/New_York:20251028T170000
DTEND;TZID=America/New_York:20251028T190000
DTSTAMP:20260419T092934
CREATED:20240131T190902Z
LAST-MODIFIED:20240131T190902Z
UID:10000452-1761670800-1761678000@solanconeighborhoodministries.org
SUMMARY:Wesley Church Community Meal
DESCRIPTION:Community Meal Every Tuesday at 5:00pm – 7:00pm\nWesley Church\n1104 Kirkwood Pike\nQuarryville\, PA 17566\nOpen to the community at no charge\nNo RSVP Required
URL:https://solanconeighborhoodministries.org/ministry-event/wesley-church-community-meal/2025-10-28/
LOCATION:Wesley Church\, 1104 Kirkwood Pike\, Quarryville\, PA\, 17566\, United States
CATEGORIES:Free Event
ORGANIZER;CN="SNM Programs":MAILTO:programs@snministries.org
END:VEVENT
BEGIN:VEVENT
DTSTART;TZID=America/New_York:20251021T170000
DTEND;TZID=America/New_York:20251021T190000
DTSTAMP:20260419T092934
CREATED:20240131T190902Z
LAST-MODIFIED:20240131T190902Z
UID:10000451-1761066000-1761073200@solanconeighborhoodministries.org
SUMMARY:Wesley Church Community Meal
DESCRIPTION:Community Meal Every Tuesday at 5:00pm – 7:00pm\nWesley Church\n1104 Kirkwood Pike\nQuarryville\, PA 17566\nOpen to the community at no charge\nNo RSVP Required
URL:https://solanconeighborhoodministries.org/ministry-event/wesley-church-community-meal/2025-10-21/
LOCATION:Wesley Church\, 1104 Kirkwood Pike\, Quarryville\, PA\, 17566\, United States
CATEGORIES:Free Event
ORGANIZER;CN="SNM Programs":MAILTO:programs@snministries.org
END:VEVENT
BEGIN:VEVENT
DTSTART;TZID=America/New_York:20251014T170000
DTEND;TZID=America/New_York:20251014T190000
DTSTAMP:20260419T092934
CREATED:20240131T190902Z
LAST-MODIFIED:20240131T190902Z
UID:10000450-1760461200-1760468400@solanconeighborhoodministries.org
SUMMARY:Wesley Church Community Meal
DESCRIPTION:Community Meal Every Tuesday at 5:00pm – 7:00pm\nWesley Church\n1104 Kirkwood Pike\nQuarryville\, PA 17566\nOpen to the community at no charge\nNo RSVP Required
URL:https://solanconeighborhoodministries.org/ministry-event/wesley-church-community-meal/2025-10-14/
LOCATION:Wesley Church\, 1104 Kirkwood Pike\, Quarryville\, PA\, 17566\, United States
CATEGORIES:Free Event
ORGANIZER;CN="SNM Programs":MAILTO:programs@snministries.org
END:VEVENT
BEGIN:VEVENT
DTSTART;TZID=America/New_York:20251007T170000
DTEND;TZID=America/New_York:20251007T190000
DTSTAMP:20260419T092934
CREATED:20240131T190902Z
LAST-MODIFIED:20240131T190902Z
UID:10000449-1759856400-1759863600@solanconeighborhoodministries.org
SUMMARY:Wesley Church Community Meal
DESCRIPTION:Community Meal Every Tuesday at 5:00pm – 7:00pm\nWesley Church\n1104 Kirkwood Pike\nQuarryville\, PA 17566\nOpen to the community at no charge\nNo RSVP Required
URL:https://solanconeighborhoodministries.org/ministry-event/wesley-church-community-meal/2025-10-07/
LOCATION:Wesley Church\, 1104 Kirkwood Pike\, Quarryville\, PA\, 17566\, United States
CATEGORIES:Free Event
ORGANIZER;CN="SNM Programs":MAILTO:programs@snministries.org
END:VEVENT
BEGIN:VEVENT
DTSTART;TZID=America/New_York:20250930T170000
DTEND;TZID=America/New_York:20250930T190000
DTSTAMP:20260419T092934
CREATED:20240131T190902Z
LAST-MODIFIED:20240131T190902Z
UID:10000448-1759251600-1759258800@solanconeighborhoodministries.org
SUMMARY:Wesley Church Community Meal
DESCRIPTION:Community Meal Every Tuesday at 5:00pm – 7:00pm\nWesley Church\n1104 Kirkwood Pike\nQuarryville\, PA 17566\nOpen to the community at no charge\nNo RSVP Required
URL:https://solanconeighborhoodministries.org/ministry-event/wesley-church-community-meal/2025-09-30/
LOCATION:Wesley Church\, 1104 Kirkwood Pike\, Quarryville\, PA\, 17566\, United States
CATEGORIES:Free Event
ORGANIZER;CN="SNM Programs":MAILTO:programs@snministries.org
END:VEVENT
BEGIN:VEVENT
DTSTART;TZID=America/New_York:20250923T170000
DTEND;TZID=America/New_York:20250923T190000
DTSTAMP:20260419T092934
CREATED:20240131T190902Z
LAST-MODIFIED:20240131T190902Z
UID:10000447-1758646800-1758654000@solanconeighborhoodministries.org
SUMMARY:Wesley Church Community Meal
DESCRIPTION:Community Meal Every Tuesday at 5:00pm – 7:00pm\nWesley Church\n1104 Kirkwood Pike\nQuarryville\, PA 17566\nOpen to the community at no charge\nNo RSVP Required
URL:https://solanconeighborhoodministries.org/ministry-event/wesley-church-community-meal/2025-09-23/
LOCATION:Wesley Church\, 1104 Kirkwood Pike\, Quarryville\, PA\, 17566\, United States
CATEGORIES:Free Event
ORGANIZER;CN="SNM Programs":MAILTO:programs@snministries.org
END:VEVENT
BEGIN:VEVENT
DTSTART;TZID=America/New_York:20250916T170000
DTEND;TZID=America/New_York:20250916T190000
DTSTAMP:20260419T092934
CREATED:20240131T190902Z
LAST-MODIFIED:20240131T190902Z
UID:10000446-1758042000-1758049200@solanconeighborhoodministries.org
SUMMARY:Wesley Church Community Meal
DESCRIPTION:Community Meal Every Tuesday at 5:00pm – 7:00pm\nWesley Church\n1104 Kirkwood Pike\nQuarryville\, PA 17566\nOpen to the community at no charge\nNo RSVP Required
URL:https://solanconeighborhoodministries.org/ministry-event/wesley-church-community-meal/2025-09-16/
LOCATION:Wesley Church\, 1104 Kirkwood Pike\, Quarryville\, PA\, 17566\, United States
CATEGORIES:Free Event
ORGANIZER;CN="SNM Programs":MAILTO:programs@snministries.org
END:VEVENT
BEGIN:VEVENT
DTSTART;TZID=America/New_York:20250909T170000
DTEND;TZID=America/New_York:20250909T190000
DTSTAMP:20260419T092934
CREATED:20240131T190902Z
LAST-MODIFIED:20240131T190902Z
UID:10000445-1757437200-1757444400@solanconeighborhoodministries.org
SUMMARY:Wesley Church Community Meal
DESCRIPTION:Community Meal Every Tuesday at 5:00pm – 7:00pm\nWesley Church\n1104 Kirkwood Pike\nQuarryville\, PA 17566\nOpen to the community at no charge\nNo RSVP Required
URL:https://solanconeighborhoodministries.org/ministry-event/wesley-church-community-meal/2025-09-09/
LOCATION:Wesley Church\, 1104 Kirkwood Pike\, Quarryville\, PA\, 17566\, United States
CATEGORIES:Free Event
ORGANIZER;CN="SNM Programs":MAILTO:programs@snministries.org
END:VEVENT
BEGIN:VEVENT
DTSTART;TZID=America/New_York:20250902T170000
DTEND;TZID=America/New_York:20250902T190000
DTSTAMP:20260419T092934
CREATED:20240131T190902Z
LAST-MODIFIED:20240131T190902Z
UID:10000444-1756832400-1756839600@solanconeighborhoodministries.org
SUMMARY:Wesley Church Community Meal
DESCRIPTION:Community Meal Every Tuesday at 5:00pm – 7:00pm\nWesley Church\n1104 Kirkwood Pike\nQuarryville\, PA 17566\nOpen to the community at no charge\nNo RSVP Required
URL:https://solanconeighborhoodministries.org/ministry-event/wesley-church-community-meal/2025-09-02/
LOCATION:Wesley Church\, 1104 Kirkwood Pike\, Quarryville\, PA\, 17566\, United States
CATEGORIES:Free Event
ORGANIZER;CN="SNM Programs":MAILTO:programs@snministries.org
END:VEVENT
BEGIN:VEVENT
DTSTART;TZID=America/New_York:20250826T170000
DTEND;TZID=America/New_York:20250826T190000
DTSTAMP:20260419T092934
CREATED:20240131T190902Z
LAST-MODIFIED:20240131T190902Z
UID:10000443-1756227600-1756234800@solanconeighborhoodministries.org
SUMMARY:Wesley Church Community Meal
DESCRIPTION:Community Meal Every Tuesday at 5:00pm – 7:00pm\nWesley Church\n1104 Kirkwood Pike\nQuarryville\, PA 17566\nOpen to the community at no charge\nNo RSVP Required
URL:https://solanconeighborhoodministries.org/ministry-event/wesley-church-community-meal/2025-08-26/
LOCATION:Wesley Church\, 1104 Kirkwood Pike\, Quarryville\, PA\, 17566\, United States
CATEGORIES:Free Event
ORGANIZER;CN="SNM Programs":MAILTO:programs@snministries.org
END:VEVENT
BEGIN:VEVENT
DTSTART;TZID=America/New_York:20250819T170000
DTEND;TZID=America/New_York:20250819T190000
DTSTAMP:20260419T092934
CREATED:20240131T190902Z
LAST-MODIFIED:20240131T190902Z
UID:10000442-1755622800-1755630000@solanconeighborhoodministries.org
SUMMARY:Wesley Church Community Meal
DESCRIPTION:Community Meal Every Tuesday at 5:00pm – 7:00pm\nWesley Church\n1104 Kirkwood Pike\nQuarryville\, PA 17566\nOpen to the community at no charge\nNo RSVP Required
URL:https://solanconeighborhoodministries.org/ministry-event/wesley-church-community-meal/2025-08-19/
LOCATION:Wesley Church\, 1104 Kirkwood Pike\, Quarryville\, PA\, 17566\, United States
CATEGORIES:Free Event
ORGANIZER;CN="SNM Programs":MAILTO:programs@snministries.org
END:VEVENT
BEGIN:VEVENT
DTSTART;TZID=America/New_York:20250812T170000
DTEND;TZID=America/New_York:20250812T190000
DTSTAMP:20260419T092934
CREATED:20240131T190902Z
LAST-MODIFIED:20240131T190902Z
UID:10000441-1755018000-1755025200@solanconeighborhoodministries.org
SUMMARY:Wesley Church Community Meal
DESCRIPTION:Community Meal Every Tuesday at 5:00pm – 7:00pm\nWesley Church\n1104 Kirkwood Pike\nQuarryville\, PA 17566\nOpen to the community at no charge\nNo RSVP Required
URL:https://solanconeighborhoodministries.org/ministry-event/wesley-church-community-meal/2025-08-12/
LOCATION:Wesley Church\, 1104 Kirkwood Pike\, Quarryville\, PA\, 17566\, United States
CATEGORIES:Free Event
ORGANIZER;CN="SNM Programs":MAILTO:programs@snministries.org
END:VEVENT
BEGIN:VEVENT
DTSTART;TZID=America/New_York:20250805T170000
DTEND;TZID=America/New_York:20250805T190000
DTSTAMP:20260419T092934
CREATED:20240131T190902Z
LAST-MODIFIED:20240131T190902Z
UID:10000440-1754413200-1754420400@solanconeighborhoodministries.org
SUMMARY:Wesley Church Community Meal
DESCRIPTION:Community Meal Every Tuesday at 5:00pm – 7:00pm\nWesley Church\n1104 Kirkwood Pike\nQuarryville\, PA 17566\nOpen to the community at no charge\nNo RSVP Required
URL:https://solanconeighborhoodministries.org/ministry-event/wesley-church-community-meal/2025-08-05/
LOCATION:Wesley Church\, 1104 Kirkwood Pike\, Quarryville\, PA\, 17566\, United States
CATEGORIES:Free Event
ORGANIZER;CN="SNM Programs":MAILTO:programs@snministries.org
END:VEVENT
BEGIN:VEVENT
DTSTART;TZID=America/New_York:20250729T170000
DTEND;TZID=America/New_York:20250729T190000
DTSTAMP:20260419T092934
CREATED:20240131T190902Z
LAST-MODIFIED:20240131T190902Z
UID:10000439-1753808400-1753815600@solanconeighborhoodministries.org
SUMMARY:Wesley Church Community Meal
DESCRIPTION:Community Meal Every Tuesday at 5:00pm – 7:00pm\nWesley Church\n1104 Kirkwood Pike\nQuarryville\, PA 17566\nOpen to the community at no charge\nNo RSVP Required
URL:https://solanconeighborhoodministries.org/ministry-event/wesley-church-community-meal/2025-07-29/
LOCATION:Wesley Church\, 1104 Kirkwood Pike\, Quarryville\, PA\, 17566\, United States
CATEGORIES:Free Event
ORGANIZER;CN="SNM Programs":MAILTO:programs@snministries.org
END:VEVENT
BEGIN:VEVENT
DTSTART;TZID=America/New_York:20250722T170000
DTEND;TZID=America/New_York:20250722T190000
DTSTAMP:20260419T092934
CREATED:20240131T190902Z
LAST-MODIFIED:20240131T190902Z
UID:10000438-1753203600-1753210800@solanconeighborhoodministries.org
SUMMARY:Wesley Church Community Meal
DESCRIPTION:Community Meal Every Tuesday at 5:00pm – 7:00pm\nWesley Church\n1104 Kirkwood Pike\nQuarryville\, PA 17566\nOpen to the community at no charge\nNo RSVP Required
URL:https://solanconeighborhoodministries.org/ministry-event/wesley-church-community-meal/2025-07-22/
LOCATION:Wesley Church\, 1104 Kirkwood Pike\, Quarryville\, PA\, 17566\, United States
CATEGORIES:Free Event
ORGANIZER;CN="SNM Programs":MAILTO:programs@snministries.org
END:VEVENT
BEGIN:VEVENT
DTSTART;TZID=America/New_York:20250715T170000
DTEND;TZID=America/New_York:20250715T190000
DTSTAMP:20260419T092934
CREATED:20240131T190902Z
LAST-MODIFIED:20240131T190902Z
UID:10000437-1752598800-1752606000@solanconeighborhoodministries.org
SUMMARY:Wesley Church Community Meal
DESCRIPTION:Community Meal Every Tuesday at 5:00pm – 7:00pm\nWesley Church\n1104 Kirkwood Pike\nQuarryville\, PA 17566\nOpen to the community at no charge\nNo RSVP Required
URL:https://solanconeighborhoodministries.org/ministry-event/wesley-church-community-meal/2025-07-15/
LOCATION:Wesley Church\, 1104 Kirkwood Pike\, Quarryville\, PA\, 17566\, United States
CATEGORIES:Free Event
ORGANIZER;CN="SNM Programs":MAILTO:programs@snministries.org
END:VEVENT
BEGIN:VEVENT
DTSTART;TZID=America/New_York:20250708T170000
DTEND;TZID=America/New_York:20250708T190000
DTSTAMP:20260419T092934
CREATED:20240131T190902Z
LAST-MODIFIED:20240131T190902Z
UID:10000436-1751994000-1752001200@solanconeighborhoodministries.org
SUMMARY:Wesley Church Community Meal
DESCRIPTION:Community Meal Every Tuesday at 5:00pm – 7:00pm\nWesley Church\n1104 Kirkwood Pike\nQuarryville\, PA 17566\nOpen to the community at no charge\nNo RSVP Required
URL:https://solanconeighborhoodministries.org/ministry-event/wesley-church-community-meal/2025-07-08/
LOCATION:Wesley Church\, 1104 Kirkwood Pike\, Quarryville\, PA\, 17566\, United States
CATEGORIES:Free Event
ORGANIZER;CN="SNM Programs":MAILTO:programs@snministries.org
END:VEVENT
BEGIN:VEVENT
DTSTART;TZID=America/New_York:20250701T170000
DTEND;TZID=America/New_York:20250701T190000
DTSTAMP:20260419T092934
CREATED:20240131T190902Z
LAST-MODIFIED:20240131T190902Z
UID:10000435-1751389200-1751396400@solanconeighborhoodministries.org
SUMMARY:Wesley Church Community Meal
DESCRIPTION:Community Meal Every Tuesday at 5:00pm – 7:00pm\nWesley Church\n1104 Kirkwood Pike\nQuarryville\, PA 17566\nOpen to the community at no charge\nNo RSVP Required
URL:https://solanconeighborhoodministries.org/ministry-event/wesley-church-community-meal/2025-07-01/
LOCATION:Wesley Church\, 1104 Kirkwood Pike\, Quarryville\, PA\, 17566\, United States
CATEGORIES:Free Event
ORGANIZER;CN="SNM Programs":MAILTO:programs@snministries.org
END:VEVENT
BEGIN:VEVENT
DTSTART;TZID=America/New_York:20250624T170000
DTEND;TZID=America/New_York:20250624T190000
DTSTAMP:20260419T092934
CREATED:20240131T190902Z
LAST-MODIFIED:20240131T190902Z
UID:10000434-1750784400-1750791600@solanconeighborhoodministries.org
SUMMARY:Wesley Church Community Meal
DESCRIPTION:Community Meal Every Tuesday at 5:00pm – 7:00pm\nWesley Church\n1104 Kirkwood Pike\nQuarryville\, PA 17566\nOpen to the community at no charge\nNo RSVP Required
URL:https://solanconeighborhoodministries.org/ministry-event/wesley-church-community-meal/2025-06-24/
LOCATION:Wesley Church\, 1104 Kirkwood Pike\, Quarryville\, PA\, 17566\, United States
CATEGORIES:Free Event
ORGANIZER;CN="SNM Programs":MAILTO:programs@snministries.org
END:VEVENT
BEGIN:VEVENT
DTSTART;TZID=America/New_York:20250617T170000
DTEND;TZID=America/New_York:20250617T190000
DTSTAMP:20260419T092934
CREATED:20240131T190902Z
LAST-MODIFIED:20240131T190902Z
UID:10000433-1750179600-1750186800@solanconeighborhoodministries.org
SUMMARY:Wesley Church Community Meal
DESCRIPTION:Community Meal Every Tuesday at 5:00pm – 7:00pm\nWesley Church\n1104 Kirkwood Pike\nQuarryville\, PA 17566\nOpen to the community at no charge\nNo RSVP Required
URL:https://solanconeighborhoodministries.org/ministry-event/wesley-church-community-meal/2025-06-17/
LOCATION:Wesley Church\, 1104 Kirkwood Pike\, Quarryville\, PA\, 17566\, United States
CATEGORIES:Free Event
ORGANIZER;CN="SNM Programs":MAILTO:programs@snministries.org
END:VEVENT
BEGIN:VEVENT
DTSTART;TZID=America/New_York:20250610T170000
DTEND;TZID=America/New_York:20250610T190000
DTSTAMP:20260419T092934
CREATED:20240131T190902Z
LAST-MODIFIED:20240131T190902Z
UID:10000432-1749574800-1749582000@solanconeighborhoodministries.org
SUMMARY:Wesley Church Community Meal
DESCRIPTION:Community Meal Every Tuesday at 5:00pm – 7:00pm\nWesley Church\n1104 Kirkwood Pike\nQuarryville\, PA 17566\nOpen to the community at no charge\nNo RSVP Required
URL:https://solanconeighborhoodministries.org/ministry-event/wesley-church-community-meal/2025-06-10/
LOCATION:Wesley Church\, 1104 Kirkwood Pike\, Quarryville\, PA\, 17566\, United States
CATEGORIES:Free Event
ORGANIZER;CN="SNM Programs":MAILTO:programs@snministries.org
END:VEVENT
BEGIN:VEVENT
DTSTART;TZID=America/New_York:20250603T170000
DTEND;TZID=America/New_York:20250603T190000
DTSTAMP:20260419T092934
CREATED:20240131T190902Z
LAST-MODIFIED:20240131T190902Z
UID:10000431-1748970000-1748977200@solanconeighborhoodministries.org
SUMMARY:Wesley Church Community Meal
DESCRIPTION:Community Meal Every Tuesday at 5:00pm – 7:00pm\nWesley Church\n1104 Kirkwood Pike\nQuarryville\, PA 17566\nOpen to the community at no charge\nNo RSVP Required
URL:https://solanconeighborhoodministries.org/ministry-event/wesley-church-community-meal/2025-06-03/
LOCATION:Wesley Church\, 1104 Kirkwood Pike\, Quarryville\, PA\, 17566\, United States
CATEGORIES:Free Event
ORGANIZER;CN="SNM Programs":MAILTO:programs@snministries.org
END:VEVENT
BEGIN:VEVENT
DTSTART;TZID=America/New_York:20250527T170000
DTEND;TZID=America/New_York:20250527T190000
DTSTAMP:20260419T092934
CREATED:20240131T190902Z
LAST-MODIFIED:20240131T190902Z
UID:10000430-1748365200-1748372400@solanconeighborhoodministries.org
SUMMARY:Wesley Church Community Meal
DESCRIPTION:Community Meal Every Tuesday at 5:00pm – 7:00pm\nWesley Church\n1104 Kirkwood Pike\nQuarryville\, PA 17566\nOpen to the community at no charge\nNo RSVP Required
URL:https://solanconeighborhoodministries.org/ministry-event/wesley-church-community-meal/2025-05-27/
LOCATION:Wesley Church\, 1104 Kirkwood Pike\, Quarryville\, PA\, 17566\, United States
CATEGORIES:Free Event
ORGANIZER;CN="SNM Programs":MAILTO:programs@snministries.org
END:VEVENT
BEGIN:VEVENT
DTSTART;TZID=America/New_York:20250520T170000
DTEND;TZID=America/New_York:20250520T190000
DTSTAMP:20260419T092934
CREATED:20240131T190902Z
LAST-MODIFIED:20240131T190902Z
UID:10000429-1747760400-1747767600@solanconeighborhoodministries.org
SUMMARY:Wesley Church Community Meal
DESCRIPTION:Community Meal Every Tuesday at 5:00pm – 7:00pm\nWesley Church\n1104 Kirkwood Pike\nQuarryville\, PA 17566\nOpen to the community at no charge\nNo RSVP Required
URL:https://solanconeighborhoodministries.org/ministry-event/wesley-church-community-meal/2025-05-20/
LOCATION:Wesley Church\, 1104 Kirkwood Pike\, Quarryville\, PA\, 17566\, United States
CATEGORIES:Free Event
ORGANIZER;CN="SNM Programs":MAILTO:programs@snministries.org
END:VEVENT
BEGIN:VEVENT
DTSTART;TZID=America/New_York:20250513T170000
DTEND;TZID=America/New_York:20250513T190000
DTSTAMP:20260419T092934
CREATED:20240131T190902Z
LAST-MODIFIED:20240131T190902Z
UID:10000428-1747155600-1747162800@solanconeighborhoodministries.org
SUMMARY:Wesley Church Community Meal
DESCRIPTION:Community Meal Every Tuesday at 5:00pm – 7:00pm\nWesley Church\n1104 Kirkwood Pike\nQuarryville\, PA 17566\nOpen to the community at no charge\nNo RSVP Required
URL:https://solanconeighborhoodministries.org/ministry-event/wesley-church-community-meal/2025-05-13/
LOCATION:Wesley Church\, 1104 Kirkwood Pike\, Quarryville\, PA\, 17566\, United States
CATEGORIES:Free Event
ORGANIZER;CN="SNM Programs":MAILTO:programs@snministries.org
END:VEVENT
BEGIN:VEVENT
DTSTART;TZID=America/New_York:20250506T170000
DTEND;TZID=America/New_York:20250506T190000
DTSTAMP:20260419T092934
CREATED:20240131T190902Z
LAST-MODIFIED:20240131T190902Z
UID:10000427-1746550800-1746558000@solanconeighborhoodministries.org
SUMMARY:Wesley Church Community Meal
DESCRIPTION:Community Meal Every Tuesday at 5:00pm – 7:00pm\nWesley Church\n1104 Kirkwood Pike\nQuarryville\, PA 17566\nOpen to the community at no charge\nNo RSVP Required
URL:https://solanconeighborhoodministries.org/ministry-event/wesley-church-community-meal/2025-05-06/
LOCATION:Wesley Church\, 1104 Kirkwood Pike\, Quarryville\, PA\, 17566\, United States
CATEGORIES:Free Event
ORGANIZER;CN="SNM Programs":MAILTO:programs@snministries.org
END:VEVENT
BEGIN:VEVENT
DTSTART;TZID=America/New_York:20250429T170000
DTEND;TZID=America/New_York:20250429T190000
DTSTAMP:20260419T092934
CREATED:20240131T190902Z
LAST-MODIFIED:20240131T190902Z
UID:10000426-1745946000-1745953200@solanconeighborhoodministries.org
SUMMARY:Wesley Church Community Meal
DESCRIPTION:Community Meal Every Tuesday at 5:00pm – 7:00pm\nWesley Church\n1104 Kirkwood Pike\nQuarryville\, PA 17566\nOpen to the community at no charge\nNo RSVP Required
URL:https://solanconeighborhoodministries.org/ministry-event/wesley-church-community-meal/2025-04-29/
LOCATION:Wesley Church\, 1104 Kirkwood Pike\, Quarryville\, PA\, 17566\, United States
CATEGORIES:Free Event
ORGANIZER;CN="SNM Programs":MAILTO:programs@snministries.org
END:VEVENT
BEGIN:VEVENT
DTSTART;TZID=America/New_York:20250422T170000
DTEND;TZID=America/New_York:20250422T190000
DTSTAMP:20260419T092934
CREATED:20240131T190902Z
LAST-MODIFIED:20240131T190902Z
UID:10000425-1745341200-1745348400@solanconeighborhoodministries.org
SUMMARY:Wesley Church Community Meal
DESCRIPTION:Community Meal Every Tuesday at 5:00pm – 7:00pm\nWesley Church\n1104 Kirkwood Pike\nQuarryville\, PA 17566\nOpen to the community at no charge\nNo RSVP Required
URL:https://solanconeighborhoodministries.org/ministry-event/wesley-church-community-meal/2025-04-22/
LOCATION:Wesley Church\, 1104 Kirkwood Pike\, Quarryville\, PA\, 17566\, United States
CATEGORIES:Free Event
ORGANIZER;CN="SNM Programs":MAILTO:programs@snministries.org
END:VEVENT
BEGIN:VEVENT
DTSTART;TZID=America/New_York:20250415T170000
DTEND;TZID=America/New_York:20250415T190000
DTSTAMP:20260419T092934
CREATED:20240131T190902Z
LAST-MODIFIED:20240131T190902Z
UID:10000424-1744736400-1744743600@solanconeighborhoodministries.org
SUMMARY:Wesley Church Community Meal
DESCRIPTION:Community Meal Every Tuesday at 5:00pm – 7:00pm\nWesley Church\n1104 Kirkwood Pike\nQuarryville\, PA 17566\nOpen to the community at no charge\nNo RSVP Required
URL:https://solanconeighborhoodministries.org/ministry-event/wesley-church-community-meal/2025-04-15/
LOCATION:Wesley Church\, 1104 Kirkwood Pike\, Quarryville\, PA\, 17566\, United States
CATEGORIES:Free Event
ORGANIZER;CN="SNM Programs":MAILTO:programs@snministries.org
END:VEVENT
BEGIN:VEVENT
DTSTART;TZID=America/New_York:20250408T170000
DTEND;TZID=America/New_York:20250408T190000
DTSTAMP:20260419T092934
CREATED:20240131T190902Z
LAST-MODIFIED:20240131T190902Z
UID:10000423-1744131600-1744138800@solanconeighborhoodministries.org
SUMMARY:Wesley Church Community Meal
DESCRIPTION:Community Meal Every Tuesday at 5:00pm – 7:00pm\nWesley Church\n1104 Kirkwood Pike\nQuarryville\, PA 17566\nOpen to the community at no charge\nNo RSVP Required
URL:https://solanconeighborhoodministries.org/ministry-event/wesley-church-community-meal/2025-04-08/
LOCATION:Wesley Church\, 1104 Kirkwood Pike\, Quarryville\, PA\, 17566\, United States
CATEGORIES:Free Event
ORGANIZER;CN="SNM Programs":MAILTO:programs@snministries.org
END:VEVENT
END:VCALENDAR