BEGIN:VCALENDAR
VERSION:2.0
PRODID:-//Solanco Neighborhood Ministries - ECPv6.15.20//NONSGML v1.0//EN
CALSCALE:GREGORIAN
METHOD:PUBLISH
X-ORIGINAL-URL:https://solanconeighborhoodministries.org
X-WR-CALDESC:Events for Solanco Neighborhood Ministries
REFRESH-INTERVAL;VALUE=DURATION:PT1H
X-Robots-Tag:noindex
X-PUBLISHED-TTL:PT1H
BEGIN:VTIMEZONE
TZID:America/New_York
BEGIN:DAYLIGHT
TZOFFSETFROM:-0500
TZOFFSETTO:-0400
TZNAME:EDT
DTSTART:20250309T070000
END:DAYLIGHT
BEGIN:STANDARD
TZOFFSETFROM:-0400
TZOFFSETTO:-0500
TZNAME:EST
DTSTART:20251102T060000
END:STANDARD
BEGIN:DAYLIGHT
TZOFFSETFROM:-0500
TZOFFSETTO:-0400
TZNAME:EDT
DTSTART:20260308T070000
END:DAYLIGHT
BEGIN:STANDARD
TZOFFSETFROM:-0400
TZOFFSETTO:-0500
TZNAME:EST
DTSTART:20261101T060000
END:STANDARD
BEGIN:DAYLIGHT
TZOFFSETFROM:-0500
TZOFFSETTO:-0400
TZNAME:EDT
DTSTART:20270314T070000
END:DAYLIGHT
BEGIN:STANDARD
TZOFFSETFROM:-0400
TZOFFSETTO:-0500
TZNAME:EST
DTSTART:20271107T060000
END:STANDARD
BEGIN:DAYLIGHT
TZOFFSETFROM:-0500
TZOFFSETTO:-0400
TZNAME:EDT
DTSTART:20280312T070000
END:DAYLIGHT
BEGIN:STANDARD
TZOFFSETFROM:-0400
TZOFFSETTO:-0500
TZNAME:EST
DTSTART:20281105T060000
END:STANDARD
END:VTIMEZONE
BEGIN:VEVENT
DTSTART;TZID=America/New_York:20261229T170000
DTEND;TZID=America/New_York:20261229T190000
DTSTAMP:20260419T091026
CREATED:20240131T190902Z
LAST-MODIFIED:20240131T190902Z
UID:10000513-1798563600-1798570800@solanconeighborhoodministries.org
SUMMARY:Wesley Church Community Meal
DESCRIPTION:Community Meal Every Tuesday at 5:00pm – 7:00pm\nWesley Church\n1104 Kirkwood Pike\nQuarryville\, PA 17566\nOpen to the community at no charge\nNo RSVP Required
URL:https://solanconeighborhoodministries.org/ministry-event/wesley-church-community-meal/2026-12-29/
LOCATION:Wesley Church\, 1104 Kirkwood Pike\, Quarryville\, PA\, 17566\, United States
CATEGORIES:Free Event
ORGANIZER;CN="SNM Programs":MAILTO:programs@snministries.org
END:VEVENT
BEGIN:VEVENT
DTSTART;TZID=America/New_York:20270105T170000
DTEND;TZID=America/New_York:20270105T190000
DTSTAMP:20260419T091026
CREATED:20240131T190902Z
LAST-MODIFIED:20240131T190902Z
UID:10000514-1799168400-1799175600@solanconeighborhoodministries.org
SUMMARY:Wesley Church Community Meal
DESCRIPTION:Community Meal Every Tuesday at 5:00pm – 7:00pm\nWesley Church\n1104 Kirkwood Pike\nQuarryville\, PA 17566\nOpen to the community at no charge\nNo RSVP Required
URL:https://solanconeighborhoodministries.org/ministry-event/wesley-church-community-meal/2027-01-05/
LOCATION:Wesley Church\, 1104 Kirkwood Pike\, Quarryville\, PA\, 17566\, United States
CATEGORIES:Free Event
ORGANIZER;CN="SNM Programs":MAILTO:programs@snministries.org
END:VEVENT
BEGIN:VEVENT
DTSTART;TZID=America/New_York:20270112T170000
DTEND;TZID=America/New_York:20270112T190000
DTSTAMP:20260419T091026
CREATED:20240131T190902Z
LAST-MODIFIED:20240131T190902Z
UID:10000515-1799773200-1799780400@solanconeighborhoodministries.org
SUMMARY:Wesley Church Community Meal
DESCRIPTION:Community Meal Every Tuesday at 5:00pm – 7:00pm\nWesley Church\n1104 Kirkwood Pike\nQuarryville\, PA 17566\nOpen to the community at no charge\nNo RSVP Required
URL:https://solanconeighborhoodministries.org/ministry-event/wesley-church-community-meal/2027-01-12/
LOCATION:Wesley Church\, 1104 Kirkwood Pike\, Quarryville\, PA\, 17566\, United States
CATEGORIES:Free Event
ORGANIZER;CN="SNM Programs":MAILTO:programs@snministries.org
END:VEVENT
BEGIN:VEVENT
DTSTART;TZID=America/New_York:20270119T170000
DTEND;TZID=America/New_York:20270119T190000
DTSTAMP:20260419T091026
CREATED:20240131T190902Z
LAST-MODIFIED:20240131T190902Z
UID:10000516-1800378000-1800385200@solanconeighborhoodministries.org
SUMMARY:Wesley Church Community Meal
DESCRIPTION:Community Meal Every Tuesday at 5:00pm – 7:00pm\nWesley Church\n1104 Kirkwood Pike\nQuarryville\, PA 17566\nOpen to the community at no charge\nNo RSVP Required
URL:https://solanconeighborhoodministries.org/ministry-event/wesley-church-community-meal/2027-01-19/
LOCATION:Wesley Church\, 1104 Kirkwood Pike\, Quarryville\, PA\, 17566\, United States
CATEGORIES:Free Event
ORGANIZER;CN="SNM Programs":MAILTO:programs@snministries.org
END:VEVENT
BEGIN:VEVENT
DTSTART;TZID=America/New_York:20270126T170000
DTEND;TZID=America/New_York:20270126T190000
DTSTAMP:20260419T091026
CREATED:20240131T190902Z
LAST-MODIFIED:20240131T190902Z
UID:10000517-1800982800-1800990000@solanconeighborhoodministries.org
SUMMARY:Wesley Church Community Meal
DESCRIPTION:Community Meal Every Tuesday at 5:00pm – 7:00pm\nWesley Church\n1104 Kirkwood Pike\nQuarryville\, PA 17566\nOpen to the community at no charge\nNo RSVP Required
URL:https://solanconeighborhoodministries.org/ministry-event/wesley-church-community-meal/2027-01-26/
LOCATION:Wesley Church\, 1104 Kirkwood Pike\, Quarryville\, PA\, 17566\, United States
CATEGORIES:Free Event
ORGANIZER;CN="SNM Programs":MAILTO:programs@snministries.org
END:VEVENT
BEGIN:VEVENT
DTSTART;TZID=America/New_York:20270202T170000
DTEND;TZID=America/New_York:20270202T190000
DTSTAMP:20260419T091026
CREATED:20240131T190902Z
LAST-MODIFIED:20240131T190902Z
UID:10000518-1801587600-1801594800@solanconeighborhoodministries.org
SUMMARY:Wesley Church Community Meal
DESCRIPTION:Community Meal Every Tuesday at 5:00pm – 7:00pm\nWesley Church\n1104 Kirkwood Pike\nQuarryville\, PA 17566\nOpen to the community at no charge\nNo RSVP Required
URL:https://solanconeighborhoodministries.org/ministry-event/wesley-church-community-meal/2027-02-02/
LOCATION:Wesley Church\, 1104 Kirkwood Pike\, Quarryville\, PA\, 17566\, United States
CATEGORIES:Free Event
ORGANIZER;CN="SNM Programs":MAILTO:programs@snministries.org
END:VEVENT
BEGIN:VEVENT
DTSTART;TZID=America/New_York:20270209T170000
DTEND;TZID=America/New_York:20270209T190000
DTSTAMP:20260419T091026
CREATED:20240131T190902Z
LAST-MODIFIED:20240131T190902Z
UID:10000519-1802192400-1802199600@solanconeighborhoodministries.org
SUMMARY:Wesley Church Community Meal
DESCRIPTION:Community Meal Every Tuesday at 5:00pm – 7:00pm\nWesley Church\n1104 Kirkwood Pike\nQuarryville\, PA 17566\nOpen to the community at no charge\nNo RSVP Required
URL:https://solanconeighborhoodministries.org/ministry-event/wesley-church-community-meal/2027-02-09/
LOCATION:Wesley Church\, 1104 Kirkwood Pike\, Quarryville\, PA\, 17566\, United States
CATEGORIES:Free Event
ORGANIZER;CN="SNM Programs":MAILTO:programs@snministries.org
END:VEVENT
BEGIN:VEVENT
DTSTART;TZID=America/New_York:20270216T170000
DTEND;TZID=America/New_York:20270216T190000
DTSTAMP:20260419T091026
CREATED:20240131T190902Z
LAST-MODIFIED:20240131T190902Z
UID:10000520-1802797200-1802804400@solanconeighborhoodministries.org
SUMMARY:Wesley Church Community Meal
DESCRIPTION:Community Meal Every Tuesday at 5:00pm – 7:00pm\nWesley Church\n1104 Kirkwood Pike\nQuarryville\, PA 17566\nOpen to the community at no charge\nNo RSVP Required
URL:https://solanconeighborhoodministries.org/ministry-event/wesley-church-community-meal/2027-02-16/
LOCATION:Wesley Church\, 1104 Kirkwood Pike\, Quarryville\, PA\, 17566\, United States
CATEGORIES:Free Event
ORGANIZER;CN="SNM Programs":MAILTO:programs@snministries.org
END:VEVENT
BEGIN:VEVENT
DTSTART;TZID=America/New_York:20270223T170000
DTEND;TZID=America/New_York:20270223T190000
DTSTAMP:20260419T091026
CREATED:20240131T190902Z
LAST-MODIFIED:20240131T190902Z
UID:10000521-1803402000-1803409200@solanconeighborhoodministries.org
SUMMARY:Wesley Church Community Meal
DESCRIPTION:Community Meal Every Tuesday at 5:00pm – 7:00pm\nWesley Church\n1104 Kirkwood Pike\nQuarryville\, PA 17566\nOpen to the community at no charge\nNo RSVP Required
URL:https://solanconeighborhoodministries.org/ministry-event/wesley-church-community-meal/2027-02-23/
LOCATION:Wesley Church\, 1104 Kirkwood Pike\, Quarryville\, PA\, 17566\, United States
CATEGORIES:Free Event
ORGANIZER;CN="SNM Programs":MAILTO:programs@snministries.org
END:VEVENT
BEGIN:VEVENT
DTSTART;TZID=America/New_York:20270302T170000
DTEND;TZID=America/New_York:20270302T190000
DTSTAMP:20260419T091026
CREATED:20240131T190902Z
LAST-MODIFIED:20240131T190902Z
UID:10000522-1804006800-1804014000@solanconeighborhoodministries.org
SUMMARY:Wesley Church Community Meal
DESCRIPTION:Community Meal Every Tuesday at 5:00pm – 7:00pm\nWesley Church\n1104 Kirkwood Pike\nQuarryville\, PA 17566\nOpen to the community at no charge\nNo RSVP Required
URL:https://solanconeighborhoodministries.org/ministry-event/wesley-church-community-meal/2027-03-02/
LOCATION:Wesley Church\, 1104 Kirkwood Pike\, Quarryville\, PA\, 17566\, United States
CATEGORIES:Free Event
ORGANIZER;CN="SNM Programs":MAILTO:programs@snministries.org
END:VEVENT
BEGIN:VEVENT
DTSTART;TZID=America/New_York:20270309T170000
DTEND;TZID=America/New_York:20270309T190000
DTSTAMP:20260419T091026
CREATED:20240131T190902Z
LAST-MODIFIED:20240131T190902Z
UID:10000523-1804611600-1804618800@solanconeighborhoodministries.org
SUMMARY:Wesley Church Community Meal
DESCRIPTION:Community Meal Every Tuesday at 5:00pm – 7:00pm\nWesley Church\n1104 Kirkwood Pike\nQuarryville\, PA 17566\nOpen to the community at no charge\nNo RSVP Required
URL:https://solanconeighborhoodministries.org/ministry-event/wesley-church-community-meal/2027-03-09/
LOCATION:Wesley Church\, 1104 Kirkwood Pike\, Quarryville\, PA\, 17566\, United States
CATEGORIES:Free Event
ORGANIZER;CN="SNM Programs":MAILTO:programs@snministries.org
END:VEVENT
BEGIN:VEVENT
DTSTART;TZID=America/New_York:20270316T170000
DTEND;TZID=America/New_York:20270316T190000
DTSTAMP:20260419T091026
CREATED:20240131T190902Z
LAST-MODIFIED:20240131T190902Z
UID:10000524-1805216400-1805223600@solanconeighborhoodministries.org
SUMMARY:Wesley Church Community Meal
DESCRIPTION:Community Meal Every Tuesday at 5:00pm – 7:00pm\nWesley Church\n1104 Kirkwood Pike\nQuarryville\, PA 17566\nOpen to the community at no charge\nNo RSVP Required
URL:https://solanconeighborhoodministries.org/ministry-event/wesley-church-community-meal/2027-03-16/
LOCATION:Wesley Church\, 1104 Kirkwood Pike\, Quarryville\, PA\, 17566\, United States
CATEGORIES:Free Event
ORGANIZER;CN="SNM Programs":MAILTO:programs@snministries.org
END:VEVENT
BEGIN:VEVENT
DTSTART;TZID=America/New_York:20270323T170000
DTEND;TZID=America/New_York:20270323T190000
DTSTAMP:20260419T091026
CREATED:20240131T190902Z
LAST-MODIFIED:20240131T190902Z
UID:10000525-1805821200-1805828400@solanconeighborhoodministries.org
SUMMARY:Wesley Church Community Meal
DESCRIPTION:Community Meal Every Tuesday at 5:00pm – 7:00pm\nWesley Church\n1104 Kirkwood Pike\nQuarryville\, PA 17566\nOpen to the community at no charge\nNo RSVP Required
URL:https://solanconeighborhoodministries.org/ministry-event/wesley-church-community-meal/2027-03-23/
LOCATION:Wesley Church\, 1104 Kirkwood Pike\, Quarryville\, PA\, 17566\, United States
CATEGORIES:Free Event
ORGANIZER;CN="SNM Programs":MAILTO:programs@snministries.org
END:VEVENT
BEGIN:VEVENT
DTSTART;TZID=America/New_York:20270330T170000
DTEND;TZID=America/New_York:20270330T190000
DTSTAMP:20260419T091026
CREATED:20240131T190902Z
LAST-MODIFIED:20240131T190902Z
UID:10000526-1806426000-1806433200@solanconeighborhoodministries.org
SUMMARY:Wesley Church Community Meal
DESCRIPTION:Community Meal Every Tuesday at 5:00pm – 7:00pm\nWesley Church\n1104 Kirkwood Pike\nQuarryville\, PA 17566\nOpen to the community at no charge\nNo RSVP Required
URL:https://solanconeighborhoodministries.org/ministry-event/wesley-church-community-meal/2027-03-30/
LOCATION:Wesley Church\, 1104 Kirkwood Pike\, Quarryville\, PA\, 17566\, United States
CATEGORIES:Free Event
ORGANIZER;CN="SNM Programs":MAILTO:programs@snministries.org
END:VEVENT
BEGIN:VEVENT
DTSTART;TZID=America/New_York:20270406T170000
DTEND;TZID=America/New_York:20270406T190000
DTSTAMP:20260419T091026
CREATED:20240131T190902Z
LAST-MODIFIED:20240131T190902Z
UID:10000527-1807030800-1807038000@solanconeighborhoodministries.org
SUMMARY:Wesley Church Community Meal
DESCRIPTION:Community Meal Every Tuesday at 5:00pm – 7:00pm\nWesley Church\n1104 Kirkwood Pike\nQuarryville\, PA 17566\nOpen to the community at no charge\nNo RSVP Required
URL:https://solanconeighborhoodministries.org/ministry-event/wesley-church-community-meal/2027-04-06/
LOCATION:Wesley Church\, 1104 Kirkwood Pike\, Quarryville\, PA\, 17566\, United States
CATEGORIES:Free Event
ORGANIZER;CN="SNM Programs":MAILTO:programs@snministries.org
END:VEVENT
BEGIN:VEVENT
DTSTART;TZID=America/New_York:20270413T170000
DTEND;TZID=America/New_York:20270413T190000
DTSTAMP:20260419T091026
CREATED:20240131T190902Z
LAST-MODIFIED:20240131T190902Z
UID:10000528-1807635600-1807642800@solanconeighborhoodministries.org
SUMMARY:Wesley Church Community Meal
DESCRIPTION:Community Meal Every Tuesday at 5:00pm – 7:00pm\nWesley Church\n1104 Kirkwood Pike\nQuarryville\, PA 17566\nOpen to the community at no charge\nNo RSVP Required
URL:https://solanconeighborhoodministries.org/ministry-event/wesley-church-community-meal/2027-04-13/
LOCATION:Wesley Church\, 1104 Kirkwood Pike\, Quarryville\, PA\, 17566\, United States
CATEGORIES:Free Event
ORGANIZER;CN="SNM Programs":MAILTO:programs@snministries.org
END:VEVENT
BEGIN:VEVENT
DTSTART;TZID=America/New_York:20270420T170000
DTEND;TZID=America/New_York:20270420T190000
DTSTAMP:20260419T091026
CREATED:20240131T190902Z
LAST-MODIFIED:20240131T190902Z
UID:10000529-1808240400-1808247600@solanconeighborhoodministries.org
SUMMARY:Wesley Church Community Meal
DESCRIPTION:Community Meal Every Tuesday at 5:00pm – 7:00pm\nWesley Church\n1104 Kirkwood Pike\nQuarryville\, PA 17566\nOpen to the community at no charge\nNo RSVP Required
URL:https://solanconeighborhoodministries.org/ministry-event/wesley-church-community-meal/2027-04-20/
LOCATION:Wesley Church\, 1104 Kirkwood Pike\, Quarryville\, PA\, 17566\, United States
CATEGORIES:Free Event
ORGANIZER;CN="SNM Programs":MAILTO:programs@snministries.org
END:VEVENT
BEGIN:VEVENT
DTSTART;TZID=America/New_York:20270427T170000
DTEND;TZID=America/New_York:20270427T190000
DTSTAMP:20260419T091026
CREATED:20240131T190902Z
LAST-MODIFIED:20240131T190902Z
UID:10000530-1808845200-1808852400@solanconeighborhoodministries.org
SUMMARY:Wesley Church Community Meal
DESCRIPTION:Community Meal Every Tuesday at 5:00pm – 7:00pm\nWesley Church\n1104 Kirkwood Pike\nQuarryville\, PA 17566\nOpen to the community at no charge\nNo RSVP Required
URL:https://solanconeighborhoodministries.org/ministry-event/wesley-church-community-meal/2027-04-27/
LOCATION:Wesley Church\, 1104 Kirkwood Pike\, Quarryville\, PA\, 17566\, United States
CATEGORIES:Free Event
ORGANIZER;CN="SNM Programs":MAILTO:programs@snministries.org
END:VEVENT
BEGIN:VEVENT
DTSTART;TZID=America/New_York:20270504T170000
DTEND;TZID=America/New_York:20270504T190000
DTSTAMP:20260419T091026
CREATED:20240131T190902Z
LAST-MODIFIED:20240131T190902Z
UID:10000531-1809450000-1809457200@solanconeighborhoodministries.org
SUMMARY:Wesley Church Community Meal
DESCRIPTION:Community Meal Every Tuesday at 5:00pm – 7:00pm\nWesley Church\n1104 Kirkwood Pike\nQuarryville\, PA 17566\nOpen to the community at no charge\nNo RSVP Required
URL:https://solanconeighborhoodministries.org/ministry-event/wesley-church-community-meal/2027-05-04/
LOCATION:Wesley Church\, 1104 Kirkwood Pike\, Quarryville\, PA\, 17566\, United States
CATEGORIES:Free Event
ORGANIZER;CN="SNM Programs":MAILTO:programs@snministries.org
END:VEVENT
BEGIN:VEVENT
DTSTART;TZID=America/New_York:20270511T170000
DTEND;TZID=America/New_York:20270511T190000
DTSTAMP:20260419T091026
CREATED:20240131T190902Z
LAST-MODIFIED:20240131T190902Z
UID:10000532-1810054800-1810062000@solanconeighborhoodministries.org
SUMMARY:Wesley Church Community Meal
DESCRIPTION:Community Meal Every Tuesday at 5:00pm – 7:00pm\nWesley Church\n1104 Kirkwood Pike\nQuarryville\, PA 17566\nOpen to the community at no charge\nNo RSVP Required
URL:https://solanconeighborhoodministries.org/ministry-event/wesley-church-community-meal/2027-05-11/
LOCATION:Wesley Church\, 1104 Kirkwood Pike\, Quarryville\, PA\, 17566\, United States
CATEGORIES:Free Event
ORGANIZER;CN="SNM Programs":MAILTO:programs@snministries.org
END:VEVENT
BEGIN:VEVENT
DTSTART;TZID=America/New_York:20270518T170000
DTEND;TZID=America/New_York:20270518T190000
DTSTAMP:20260419T091026
CREATED:20240131T190902Z
LAST-MODIFIED:20240131T190902Z
UID:10000533-1810659600-1810666800@solanconeighborhoodministries.org
SUMMARY:Wesley Church Community Meal
DESCRIPTION:Community Meal Every Tuesday at 5:00pm – 7:00pm\nWesley Church\n1104 Kirkwood Pike\nQuarryville\, PA 17566\nOpen to the community at no charge\nNo RSVP Required
URL:https://solanconeighborhoodministries.org/ministry-event/wesley-church-community-meal/2027-05-18/
LOCATION:Wesley Church\, 1104 Kirkwood Pike\, Quarryville\, PA\, 17566\, United States
CATEGORIES:Free Event
ORGANIZER;CN="SNM Programs":MAILTO:programs@snministries.org
END:VEVENT
BEGIN:VEVENT
DTSTART;TZID=America/New_York:20270525T170000
DTEND;TZID=America/New_York:20270525T190000
DTSTAMP:20260419T091026
CREATED:20240131T190902Z
LAST-MODIFIED:20240131T190902Z
UID:10000534-1811264400-1811271600@solanconeighborhoodministries.org
SUMMARY:Wesley Church Community Meal
DESCRIPTION:Community Meal Every Tuesday at 5:00pm – 7:00pm\nWesley Church\n1104 Kirkwood Pike\nQuarryville\, PA 17566\nOpen to the community at no charge\nNo RSVP Required
URL:https://solanconeighborhoodministries.org/ministry-event/wesley-church-community-meal/2027-05-25/
LOCATION:Wesley Church\, 1104 Kirkwood Pike\, Quarryville\, PA\, 17566\, United States
CATEGORIES:Free Event
ORGANIZER;CN="SNM Programs":MAILTO:programs@snministries.org
END:VEVENT
BEGIN:VEVENT
DTSTART;TZID=America/New_York:20270601T170000
DTEND;TZID=America/New_York:20270601T190000
DTSTAMP:20260419T091026
CREATED:20240131T190902Z
LAST-MODIFIED:20240131T190902Z
UID:10000535-1811869200-1811876400@solanconeighborhoodministries.org
SUMMARY:Wesley Church Community Meal
DESCRIPTION:Community Meal Every Tuesday at 5:00pm – 7:00pm\nWesley Church\n1104 Kirkwood Pike\nQuarryville\, PA 17566\nOpen to the community at no charge\nNo RSVP Required
URL:https://solanconeighborhoodministries.org/ministry-event/wesley-church-community-meal/2027-06-01/
LOCATION:Wesley Church\, 1104 Kirkwood Pike\, Quarryville\, PA\, 17566\, United States
CATEGORIES:Free Event
ORGANIZER;CN="SNM Programs":MAILTO:programs@snministries.org
END:VEVENT
BEGIN:VEVENT
DTSTART;TZID=America/New_York:20270608T170000
DTEND;TZID=America/New_York:20270608T190000
DTSTAMP:20260419T091026
CREATED:20240131T190902Z
LAST-MODIFIED:20240131T190902Z
UID:10000536-1812474000-1812481200@solanconeighborhoodministries.org
SUMMARY:Wesley Church Community Meal
DESCRIPTION:Community Meal Every Tuesday at 5:00pm – 7:00pm\nWesley Church\n1104 Kirkwood Pike\nQuarryville\, PA 17566\nOpen to the community at no charge\nNo RSVP Required
URL:https://solanconeighborhoodministries.org/ministry-event/wesley-church-community-meal/2027-06-08/
LOCATION:Wesley Church\, 1104 Kirkwood Pike\, Quarryville\, PA\, 17566\, United States
CATEGORIES:Free Event
ORGANIZER;CN="SNM Programs":MAILTO:programs@snministries.org
END:VEVENT
BEGIN:VEVENT
DTSTART;TZID=America/New_York:20270615T170000
DTEND;TZID=America/New_York:20270615T190000
DTSTAMP:20260419T091026
CREATED:20240131T190902Z
LAST-MODIFIED:20240131T190902Z
UID:10000537-1813078800-1813086000@solanconeighborhoodministries.org
SUMMARY:Wesley Church Community Meal
DESCRIPTION:Community Meal Every Tuesday at 5:00pm – 7:00pm\nWesley Church\n1104 Kirkwood Pike\nQuarryville\, PA 17566\nOpen to the community at no charge\nNo RSVP Required
URL:https://solanconeighborhoodministries.org/ministry-event/wesley-church-community-meal/2027-06-15/
LOCATION:Wesley Church\, 1104 Kirkwood Pike\, Quarryville\, PA\, 17566\, United States
CATEGORIES:Free Event
ORGANIZER;CN="SNM Programs":MAILTO:programs@snministries.org
END:VEVENT
BEGIN:VEVENT
DTSTART;TZID=America/New_York:20270622T170000
DTEND;TZID=America/New_York:20270622T190000
DTSTAMP:20260419T091026
CREATED:20240131T190902Z
LAST-MODIFIED:20240131T190902Z
UID:10000538-1813683600-1813690800@solanconeighborhoodministries.org
SUMMARY:Wesley Church Community Meal
DESCRIPTION:Community Meal Every Tuesday at 5:00pm – 7:00pm\nWesley Church\n1104 Kirkwood Pike\nQuarryville\, PA 17566\nOpen to the community at no charge\nNo RSVP Required
URL:https://solanconeighborhoodministries.org/ministry-event/wesley-church-community-meal/2027-06-22/
LOCATION:Wesley Church\, 1104 Kirkwood Pike\, Quarryville\, PA\, 17566\, United States
CATEGORIES:Free Event
ORGANIZER;CN="SNM Programs":MAILTO:programs@snministries.org
END:VEVENT
BEGIN:VEVENT
DTSTART;TZID=America/New_York:20270629T170000
DTEND;TZID=America/New_York:20270629T190000
DTSTAMP:20260419T091026
CREATED:20240131T190902Z
LAST-MODIFIED:20240131T190902Z
UID:10000539-1814288400-1814295600@solanconeighborhoodministries.org
SUMMARY:Wesley Church Community Meal
DESCRIPTION:Community Meal Every Tuesday at 5:00pm – 7:00pm\nWesley Church\n1104 Kirkwood Pike\nQuarryville\, PA 17566\nOpen to the community at no charge\nNo RSVP Required
URL:https://solanconeighborhoodministries.org/ministry-event/wesley-church-community-meal/2027-06-29/
LOCATION:Wesley Church\, 1104 Kirkwood Pike\, Quarryville\, PA\, 17566\, United States
CATEGORIES:Free Event
ORGANIZER;CN="SNM Programs":MAILTO:programs@snministries.org
END:VEVENT
BEGIN:VEVENT
DTSTART;TZID=America/New_York:20270706T170000
DTEND;TZID=America/New_York:20270706T190000
DTSTAMP:20260419T091026
CREATED:20240131T190902Z
LAST-MODIFIED:20240131T190902Z
UID:10000540-1814893200-1814900400@solanconeighborhoodministries.org
SUMMARY:Wesley Church Community Meal
DESCRIPTION:Community Meal Every Tuesday at 5:00pm – 7:00pm\nWesley Church\n1104 Kirkwood Pike\nQuarryville\, PA 17566\nOpen to the community at no charge\nNo RSVP Required
URL:https://solanconeighborhoodministries.org/ministry-event/wesley-church-community-meal/2027-07-06/
LOCATION:Wesley Church\, 1104 Kirkwood Pike\, Quarryville\, PA\, 17566\, United States
CATEGORIES:Free Event
ORGANIZER;CN="SNM Programs":MAILTO:programs@snministries.org
END:VEVENT
BEGIN:VEVENT
DTSTART;TZID=America/New_York:20270713T170000
DTEND;TZID=America/New_York:20270713T190000
DTSTAMP:20260419T091026
CREATED:20240131T190902Z
LAST-MODIFIED:20240131T190902Z
UID:10000541-1815498000-1815505200@solanconeighborhoodministries.org
SUMMARY:Wesley Church Community Meal
DESCRIPTION:Community Meal Every Tuesday at 5:00pm – 7:00pm\nWesley Church\n1104 Kirkwood Pike\nQuarryville\, PA 17566\nOpen to the community at no charge\nNo RSVP Required
URL:https://solanconeighborhoodministries.org/ministry-event/wesley-church-community-meal/2027-07-13/
LOCATION:Wesley Church\, 1104 Kirkwood Pike\, Quarryville\, PA\, 17566\, United States
CATEGORIES:Free Event
ORGANIZER;CN="SNM Programs":MAILTO:programs@snministries.org
END:VEVENT
BEGIN:VEVENT
DTSTART;TZID=America/New_York:20270720T170000
DTEND;TZID=America/New_York:20270720T190000
DTSTAMP:20260419T091026
CREATED:20240131T190902Z
LAST-MODIFIED:20240131T190902Z
UID:10000542-1816102800-1816110000@solanconeighborhoodministries.org
SUMMARY:Wesley Church Community Meal
DESCRIPTION:Community Meal Every Tuesday at 5:00pm – 7:00pm\nWesley Church\n1104 Kirkwood Pike\nQuarryville\, PA 17566\nOpen to the community at no charge\nNo RSVP Required
URL:https://solanconeighborhoodministries.org/ministry-event/wesley-church-community-meal/2027-07-20/
LOCATION:Wesley Church\, 1104 Kirkwood Pike\, Quarryville\, PA\, 17566\, United States
CATEGORIES:Free Event
ORGANIZER;CN="SNM Programs":MAILTO:programs@snministries.org
END:VEVENT
END:VCALENDAR