BEGIN:VCALENDAR
VERSION:2.0
PRODID:-//Solanco Neighborhood Ministries - ECPv6.15.20//NONSGML v1.0//EN
CALSCALE:GREGORIAN
METHOD:PUBLISH
X-WR-CALNAME:Solanco Neighborhood Ministries
X-ORIGINAL-URL:https://solanconeighborhoodministries.org
X-WR-CALDESC:Events for Solanco Neighborhood Ministries
REFRESH-INTERVAL;VALUE=DURATION:PT1H
X-Robots-Tag:noindex
X-PUBLISHED-TTL:PT1H
BEGIN:VTIMEZONE
TZID:America/New_York
BEGIN:DAYLIGHT
TZOFFSETFROM:-0500
TZOFFSETTO:-0400
TZNAME:EDT
DTSTART:20260308T070000
END:DAYLIGHT
BEGIN:STANDARD
TZOFFSETFROM:-0400
TZOFFSETTO:-0500
TZNAME:EST
DTSTART:20261101T060000
END:STANDARD
BEGIN:DAYLIGHT
TZOFFSETFROM:-0500
TZOFFSETTO:-0400
TZNAME:EDT
DTSTART:20270314T070000
END:DAYLIGHT
BEGIN:STANDARD
TZOFFSETFROM:-0400
TZOFFSETTO:-0500
TZNAME:EST
DTSTART:20271107T060000
END:STANDARD
BEGIN:DAYLIGHT
TZOFFSETFROM:-0500
TZOFFSETTO:-0400
TZNAME:EDT
DTSTART:20280312T070000
END:DAYLIGHT
BEGIN:STANDARD
TZOFFSETFROM:-0400
TZOFFSETTO:-0500
TZNAME:EST
DTSTART:20281105T060000
END:STANDARD
BEGIN:DAYLIGHT
TZOFFSETFROM:-0500
TZOFFSETTO:-0400
TZNAME:EDT
DTSTART:20290311T070000
END:DAYLIGHT
BEGIN:STANDARD
TZOFFSETFROM:-0400
TZOFFSETTO:-0500
TZNAME:EST
DTSTART:20291104T060000
END:STANDARD
END:VTIMEZONE
BEGIN:VEVENT
DTSTART;TZID=America/New_York:20271130T170000
DTEND;TZID=America/New_York:20271130T190000
DTSTAMP:20260419T155115
CREATED:20240131T190902Z
LAST-MODIFIED:20240131T190902Z
UID:10000561-1827594000-1827601200@solanconeighborhoodministries.org
SUMMARY:Wesley Church Community Meal
DESCRIPTION:Community Meal Every Tuesday at 5:00pm – 7:00pm\nWesley Church\n1104 Kirkwood Pike\nQuarryville\, PA 17566\nOpen to the community at no charge\nNo RSVP Required
URL:https://solanconeighborhoodministries.org/ministry-event/wesley-church-community-meal/2027-11-30/
LOCATION:Wesley Church\, 1104 Kirkwood Pike\, Quarryville\, PA\, 17566\, United States
CATEGORIES:Free Event
ORGANIZER;CN="SNM Programs":MAILTO:programs@snministries.org
END:VEVENT
BEGIN:VEVENT
DTSTART;TZID=America/New_York:20271207T170000
DTEND;TZID=America/New_York:20271207T190000
DTSTAMP:20260419T155115
CREATED:20240131T190902Z
LAST-MODIFIED:20240131T190902Z
UID:10000562-1828198800-1828206000@solanconeighborhoodministries.org
SUMMARY:Wesley Church Community Meal
DESCRIPTION:Community Meal Every Tuesday at 5:00pm – 7:00pm\nWesley Church\n1104 Kirkwood Pike\nQuarryville\, PA 17566\nOpen to the community at no charge\nNo RSVP Required
URL:https://solanconeighborhoodministries.org/ministry-event/wesley-church-community-meal/2027-12-07/
LOCATION:Wesley Church\, 1104 Kirkwood Pike\, Quarryville\, PA\, 17566\, United States
CATEGORIES:Free Event
ORGANIZER;CN="SNM Programs":MAILTO:programs@snministries.org
END:VEVENT
BEGIN:VEVENT
DTSTART;TZID=America/New_York:20271214T170000
DTEND;TZID=America/New_York:20271214T190000
DTSTAMP:20260419T155115
CREATED:20240131T190902Z
LAST-MODIFIED:20240131T190902Z
UID:10000563-1828803600-1828810800@solanconeighborhoodministries.org
SUMMARY:Wesley Church Community Meal
DESCRIPTION:Community Meal Every Tuesday at 5:00pm – 7:00pm\nWesley Church\n1104 Kirkwood Pike\nQuarryville\, PA 17566\nOpen to the community at no charge\nNo RSVP Required
URL:https://solanconeighborhoodministries.org/ministry-event/wesley-church-community-meal/2027-12-14/
LOCATION:Wesley Church\, 1104 Kirkwood Pike\, Quarryville\, PA\, 17566\, United States
CATEGORIES:Free Event
ORGANIZER;CN="SNM Programs":MAILTO:programs@snministries.org
END:VEVENT
BEGIN:VEVENT
DTSTART;TZID=America/New_York:20271221T170000
DTEND;TZID=America/New_York:20271221T190000
DTSTAMP:20260419T155115
CREATED:20240131T190902Z
LAST-MODIFIED:20240131T190902Z
UID:10000564-1829408400-1829415600@solanconeighborhoodministries.org
SUMMARY:Wesley Church Community Meal
DESCRIPTION:Community Meal Every Tuesday at 5:00pm – 7:00pm\nWesley Church\n1104 Kirkwood Pike\nQuarryville\, PA 17566\nOpen to the community at no charge\nNo RSVP Required
URL:https://solanconeighborhoodministries.org/ministry-event/wesley-church-community-meal/2027-12-21/
LOCATION:Wesley Church\, 1104 Kirkwood Pike\, Quarryville\, PA\, 17566\, United States
CATEGORIES:Free Event
ORGANIZER;CN="SNM Programs":MAILTO:programs@snministries.org
END:VEVENT
BEGIN:VEVENT
DTSTART;TZID=America/New_York:20271228T170000
DTEND;TZID=America/New_York:20271228T190000
DTSTAMP:20260419T155115
CREATED:20240131T190902Z
LAST-MODIFIED:20240131T190902Z
UID:10000565-1830013200-1830020400@solanconeighborhoodministries.org
SUMMARY:Wesley Church Community Meal
DESCRIPTION:Community Meal Every Tuesday at 5:00pm – 7:00pm\nWesley Church\n1104 Kirkwood Pike\nQuarryville\, PA 17566\nOpen to the community at no charge\nNo RSVP Required
URL:https://solanconeighborhoodministries.org/ministry-event/wesley-church-community-meal/2027-12-28/
LOCATION:Wesley Church\, 1104 Kirkwood Pike\, Quarryville\, PA\, 17566\, United States
CATEGORIES:Free Event
ORGANIZER;CN="SNM Programs":MAILTO:programs@snministries.org
END:VEVENT
BEGIN:VEVENT
DTSTART;TZID=America/New_York:20280104T170000
DTEND;TZID=America/New_York:20280104T190000
DTSTAMP:20260419T155115
CREATED:20240131T190902Z
LAST-MODIFIED:20240131T190902Z
UID:10000566-1830618000-1830625200@solanconeighborhoodministries.org
SUMMARY:Wesley Church Community Meal
DESCRIPTION:Community Meal Every Tuesday at 5:00pm – 7:00pm\nWesley Church\n1104 Kirkwood Pike\nQuarryville\, PA 17566\nOpen to the community at no charge\nNo RSVP Required
URL:https://solanconeighborhoodministries.org/ministry-event/wesley-church-community-meal/2028-01-04/
LOCATION:Wesley Church\, 1104 Kirkwood Pike\, Quarryville\, PA\, 17566\, United States
CATEGORIES:Free Event
ORGANIZER;CN="SNM Programs":MAILTO:programs@snministries.org
END:VEVENT
BEGIN:VEVENT
DTSTART;TZID=America/New_York:20280111T170000
DTEND;TZID=America/New_York:20280111T190000
DTSTAMP:20260419T155115
CREATED:20240131T190902Z
LAST-MODIFIED:20240131T190902Z
UID:10000567-1831222800-1831230000@solanconeighborhoodministries.org
SUMMARY:Wesley Church Community Meal
DESCRIPTION:Community Meal Every Tuesday at 5:00pm – 7:00pm\nWesley Church\n1104 Kirkwood Pike\nQuarryville\, PA 17566\nOpen to the community at no charge\nNo RSVP Required
URL:https://solanconeighborhoodministries.org/ministry-event/wesley-church-community-meal/2028-01-11/
LOCATION:Wesley Church\, 1104 Kirkwood Pike\, Quarryville\, PA\, 17566\, United States
CATEGORIES:Free Event
ORGANIZER;CN="SNM Programs":MAILTO:programs@snministries.org
END:VEVENT
BEGIN:VEVENT
DTSTART;TZID=America/New_York:20280118T170000
DTEND;TZID=America/New_York:20280118T190000
DTSTAMP:20260419T155115
CREATED:20240131T190902Z
LAST-MODIFIED:20240131T190902Z
UID:10000568-1831827600-1831834800@solanconeighborhoodministries.org
SUMMARY:Wesley Church Community Meal
DESCRIPTION:Community Meal Every Tuesday at 5:00pm – 7:00pm\nWesley Church\n1104 Kirkwood Pike\nQuarryville\, PA 17566\nOpen to the community at no charge\nNo RSVP Required
URL:https://solanconeighborhoodministries.org/ministry-event/wesley-church-community-meal/2028-01-18/
LOCATION:Wesley Church\, 1104 Kirkwood Pike\, Quarryville\, PA\, 17566\, United States
CATEGORIES:Free Event
ORGANIZER;CN="SNM Programs":MAILTO:programs@snministries.org
END:VEVENT
BEGIN:VEVENT
DTSTART;TZID=America/New_York:20280125T170000
DTEND;TZID=America/New_York:20280125T190000
DTSTAMP:20260419T155115
CREATED:20240131T190902Z
LAST-MODIFIED:20240131T190902Z
UID:10000569-1832432400-1832439600@solanconeighborhoodministries.org
SUMMARY:Wesley Church Community Meal
DESCRIPTION:Community Meal Every Tuesday at 5:00pm – 7:00pm\nWesley Church\n1104 Kirkwood Pike\nQuarryville\, PA 17566\nOpen to the community at no charge\nNo RSVP Required
URL:https://solanconeighborhoodministries.org/ministry-event/wesley-church-community-meal/2028-01-25/
LOCATION:Wesley Church\, 1104 Kirkwood Pike\, Quarryville\, PA\, 17566\, United States
CATEGORIES:Free Event
ORGANIZER;CN="SNM Programs":MAILTO:programs@snministries.org
END:VEVENT
BEGIN:VEVENT
DTSTART;TZID=America/New_York:20280201T170000
DTEND;TZID=America/New_York:20280201T190000
DTSTAMP:20260419T155115
CREATED:20240131T190902Z
LAST-MODIFIED:20240131T190902Z
UID:10000570-1833037200-1833044400@solanconeighborhoodministries.org
SUMMARY:Wesley Church Community Meal
DESCRIPTION:Community Meal Every Tuesday at 5:00pm – 7:00pm\nWesley Church\n1104 Kirkwood Pike\nQuarryville\, PA 17566\nOpen to the community at no charge\nNo RSVP Required
URL:https://solanconeighborhoodministries.org/ministry-event/wesley-church-community-meal/2028-02-01/
LOCATION:Wesley Church\, 1104 Kirkwood Pike\, Quarryville\, PA\, 17566\, United States
CATEGORIES:Free Event
ORGANIZER;CN="SNM Programs":MAILTO:programs@snministries.org
END:VEVENT
BEGIN:VEVENT
DTSTART;TZID=America/New_York:20280208T170000
DTEND;TZID=America/New_York:20280208T190000
DTSTAMP:20260419T155115
CREATED:20240131T190902Z
LAST-MODIFIED:20240131T190902Z
UID:10000571-1833642000-1833649200@solanconeighborhoodministries.org
SUMMARY:Wesley Church Community Meal
DESCRIPTION:Community Meal Every Tuesday at 5:00pm – 7:00pm\nWesley Church\n1104 Kirkwood Pike\nQuarryville\, PA 17566\nOpen to the community at no charge\nNo RSVP Required
URL:https://solanconeighborhoodministries.org/ministry-event/wesley-church-community-meal/2028-02-08/
LOCATION:Wesley Church\, 1104 Kirkwood Pike\, Quarryville\, PA\, 17566\, United States
CATEGORIES:Free Event
ORGANIZER;CN="SNM Programs":MAILTO:programs@snministries.org
END:VEVENT
BEGIN:VEVENT
DTSTART;TZID=America/New_York:20280215T170000
DTEND;TZID=America/New_York:20280215T190000
DTSTAMP:20260419T155115
CREATED:20240131T190902Z
LAST-MODIFIED:20240131T190902Z
UID:10000572-1834246800-1834254000@solanconeighborhoodministries.org
SUMMARY:Wesley Church Community Meal
DESCRIPTION:Community Meal Every Tuesday at 5:00pm – 7:00pm\nWesley Church\n1104 Kirkwood Pike\nQuarryville\, PA 17566\nOpen to the community at no charge\nNo RSVP Required
URL:https://solanconeighborhoodministries.org/ministry-event/wesley-church-community-meal/2028-02-15/
LOCATION:Wesley Church\, 1104 Kirkwood Pike\, Quarryville\, PA\, 17566\, United States
CATEGORIES:Free Event
ORGANIZER;CN="SNM Programs":MAILTO:programs@snministries.org
END:VEVENT
BEGIN:VEVENT
DTSTART;TZID=America/New_York:20280222T170000
DTEND;TZID=America/New_York:20280222T190000
DTSTAMP:20260419T155115
CREATED:20240131T190902Z
LAST-MODIFIED:20240131T190902Z
UID:10000573-1834851600-1834858800@solanconeighborhoodministries.org
SUMMARY:Wesley Church Community Meal
DESCRIPTION:Community Meal Every Tuesday at 5:00pm – 7:00pm\nWesley Church\n1104 Kirkwood Pike\nQuarryville\, PA 17566\nOpen to the community at no charge\nNo RSVP Required
URL:https://solanconeighborhoodministries.org/ministry-event/wesley-church-community-meal/2028-02-22/
LOCATION:Wesley Church\, 1104 Kirkwood Pike\, Quarryville\, PA\, 17566\, United States
CATEGORIES:Free Event
ORGANIZER;CN="SNM Programs":MAILTO:programs@snministries.org
END:VEVENT
BEGIN:VEVENT
DTSTART;TZID=America/New_York:20280229T170000
DTEND;TZID=America/New_York:20280229T190000
DTSTAMP:20260419T155115
CREATED:20240131T190902Z
LAST-MODIFIED:20240131T190902Z
UID:10000574-1835456400-1835463600@solanconeighborhoodministries.org
SUMMARY:Wesley Church Community Meal
DESCRIPTION:Community Meal Every Tuesday at 5:00pm – 7:00pm\nWesley Church\n1104 Kirkwood Pike\nQuarryville\, PA 17566\nOpen to the community at no charge\nNo RSVP Required
URL:https://solanconeighborhoodministries.org/ministry-event/wesley-church-community-meal/2028-02-29/
LOCATION:Wesley Church\, 1104 Kirkwood Pike\, Quarryville\, PA\, 17566\, United States
CATEGORIES:Free Event
ORGANIZER;CN="SNM Programs":MAILTO:programs@snministries.org
END:VEVENT
BEGIN:VEVENT
DTSTART;TZID=America/New_York:20280307T170000
DTEND;TZID=America/New_York:20280307T190000
DTSTAMP:20260419T155115
CREATED:20240131T190902Z
LAST-MODIFIED:20240131T190902Z
UID:10000575-1836061200-1836068400@solanconeighborhoodministries.org
SUMMARY:Wesley Church Community Meal
DESCRIPTION:Community Meal Every Tuesday at 5:00pm – 7:00pm\nWesley Church\n1104 Kirkwood Pike\nQuarryville\, PA 17566\nOpen to the community at no charge\nNo RSVP Required
URL:https://solanconeighborhoodministries.org/ministry-event/wesley-church-community-meal/2028-03-07/
LOCATION:Wesley Church\, 1104 Kirkwood Pike\, Quarryville\, PA\, 17566\, United States
CATEGORIES:Free Event
ORGANIZER;CN="SNM Programs":MAILTO:programs@snministries.org
END:VEVENT
BEGIN:VEVENT
DTSTART;TZID=America/New_York:20280314T170000
DTEND;TZID=America/New_York:20280314T190000
DTSTAMP:20260419T155115
CREATED:20240131T190902Z
LAST-MODIFIED:20240131T190902Z
UID:10000576-1836666000-1836673200@solanconeighborhoodministries.org
SUMMARY:Wesley Church Community Meal
DESCRIPTION:Community Meal Every Tuesday at 5:00pm – 7:00pm\nWesley Church\n1104 Kirkwood Pike\nQuarryville\, PA 17566\nOpen to the community at no charge\nNo RSVP Required
URL:https://solanconeighborhoodministries.org/ministry-event/wesley-church-community-meal/2028-03-14/
LOCATION:Wesley Church\, 1104 Kirkwood Pike\, Quarryville\, PA\, 17566\, United States
CATEGORIES:Free Event
ORGANIZER;CN="SNM Programs":MAILTO:programs@snministries.org
END:VEVENT
BEGIN:VEVENT
DTSTART;TZID=America/New_York:20280321T170000
DTEND;TZID=America/New_York:20280321T190000
DTSTAMP:20260419T155115
CREATED:20240131T190902Z
LAST-MODIFIED:20240131T190902Z
UID:10000577-1837270800-1837278000@solanconeighborhoodministries.org
SUMMARY:Wesley Church Community Meal
DESCRIPTION:Community Meal Every Tuesday at 5:00pm – 7:00pm\nWesley Church\n1104 Kirkwood Pike\nQuarryville\, PA 17566\nOpen to the community at no charge\nNo RSVP Required
URL:https://solanconeighborhoodministries.org/ministry-event/wesley-church-community-meal/2028-03-21/
LOCATION:Wesley Church\, 1104 Kirkwood Pike\, Quarryville\, PA\, 17566\, United States
CATEGORIES:Free Event
ORGANIZER;CN="SNM Programs":MAILTO:programs@snministries.org
END:VEVENT
BEGIN:VEVENT
DTSTART;TZID=America/New_York:20280328T170000
DTEND;TZID=America/New_York:20280328T190000
DTSTAMP:20260419T155115
CREATED:20240131T190902Z
LAST-MODIFIED:20240131T190902Z
UID:10000578-1837875600-1837882800@solanconeighborhoodministries.org
SUMMARY:Wesley Church Community Meal
DESCRIPTION:Community Meal Every Tuesday at 5:00pm – 7:00pm\nWesley Church\n1104 Kirkwood Pike\nQuarryville\, PA 17566\nOpen to the community at no charge\nNo RSVP Required
URL:https://solanconeighborhoodministries.org/ministry-event/wesley-church-community-meal/2028-03-28/
LOCATION:Wesley Church\, 1104 Kirkwood Pike\, Quarryville\, PA\, 17566\, United States
CATEGORIES:Free Event
ORGANIZER;CN="SNM Programs":MAILTO:programs@snministries.org
END:VEVENT
BEGIN:VEVENT
DTSTART;TZID=America/New_York:20280404T170000
DTEND;TZID=America/New_York:20280404T190000
DTSTAMP:20260419T155115
CREATED:20240131T190902Z
LAST-MODIFIED:20240131T190902Z
UID:10000579-1838480400-1838487600@solanconeighborhoodministries.org
SUMMARY:Wesley Church Community Meal
DESCRIPTION:Community Meal Every Tuesday at 5:00pm – 7:00pm\nWesley Church\n1104 Kirkwood Pike\nQuarryville\, PA 17566\nOpen to the community at no charge\nNo RSVP Required
URL:https://solanconeighborhoodministries.org/ministry-event/wesley-church-community-meal/2028-04-04/
LOCATION:Wesley Church\, 1104 Kirkwood Pike\, Quarryville\, PA\, 17566\, United States
CATEGORIES:Free Event
ORGANIZER;CN="SNM Programs":MAILTO:programs@snministries.org
END:VEVENT
BEGIN:VEVENT
DTSTART;TZID=America/New_York:20280411T170000
DTEND;TZID=America/New_York:20280411T190000
DTSTAMP:20260419T155115
CREATED:20240131T190902Z
LAST-MODIFIED:20240131T190902Z
UID:10000580-1839085200-1839092400@solanconeighborhoodministries.org
SUMMARY:Wesley Church Community Meal
DESCRIPTION:Community Meal Every Tuesday at 5:00pm – 7:00pm\nWesley Church\n1104 Kirkwood Pike\nQuarryville\, PA 17566\nOpen to the community at no charge\nNo RSVP Required
URL:https://solanconeighborhoodministries.org/ministry-event/wesley-church-community-meal/2028-04-11/
LOCATION:Wesley Church\, 1104 Kirkwood Pike\, Quarryville\, PA\, 17566\, United States
CATEGORIES:Free Event
ORGANIZER;CN="SNM Programs":MAILTO:programs@snministries.org
END:VEVENT
BEGIN:VEVENT
DTSTART;TZID=America/New_York:20280418T170000
DTEND;TZID=America/New_York:20280418T190000
DTSTAMP:20260419T155115
CREATED:20240131T190902Z
LAST-MODIFIED:20240131T190902Z
UID:10000581-1839690000-1839697200@solanconeighborhoodministries.org
SUMMARY:Wesley Church Community Meal
DESCRIPTION:Community Meal Every Tuesday at 5:00pm – 7:00pm\nWesley Church\n1104 Kirkwood Pike\nQuarryville\, PA 17566\nOpen to the community at no charge\nNo RSVP Required
URL:https://solanconeighborhoodministries.org/ministry-event/wesley-church-community-meal/2028-04-18/
LOCATION:Wesley Church\, 1104 Kirkwood Pike\, Quarryville\, PA\, 17566\, United States
CATEGORIES:Free Event
ORGANIZER;CN="SNM Programs":MAILTO:programs@snministries.org
END:VEVENT
BEGIN:VEVENT
DTSTART;TZID=America/New_York:20280425T170000
DTEND;TZID=America/New_York:20280425T190000
DTSTAMP:20260419T155115
CREATED:20240131T190902Z
LAST-MODIFIED:20240131T190902Z
UID:10000582-1840294800-1840302000@solanconeighborhoodministries.org
SUMMARY:Wesley Church Community Meal
DESCRIPTION:Community Meal Every Tuesday at 5:00pm – 7:00pm\nWesley Church\n1104 Kirkwood Pike\nQuarryville\, PA 17566\nOpen to the community at no charge\nNo RSVP Required
URL:https://solanconeighborhoodministries.org/ministry-event/wesley-church-community-meal/2028-04-25/
LOCATION:Wesley Church\, 1104 Kirkwood Pike\, Quarryville\, PA\, 17566\, United States
CATEGORIES:Free Event
ORGANIZER;CN="SNM Programs":MAILTO:programs@snministries.org
END:VEVENT
BEGIN:VEVENT
DTSTART;TZID=America/New_York:20280502T170000
DTEND;TZID=America/New_York:20280502T190000
DTSTAMP:20260419T155115
CREATED:20240131T190902Z
LAST-MODIFIED:20240131T190902Z
UID:10000583-1840899600-1840906800@solanconeighborhoodministries.org
SUMMARY:Wesley Church Community Meal
DESCRIPTION:Community Meal Every Tuesday at 5:00pm – 7:00pm\nWesley Church\n1104 Kirkwood Pike\nQuarryville\, PA 17566\nOpen to the community at no charge\nNo RSVP Required
URL:https://solanconeighborhoodministries.org/ministry-event/wesley-church-community-meal/2028-05-02/
LOCATION:Wesley Church\, 1104 Kirkwood Pike\, Quarryville\, PA\, 17566\, United States
CATEGORIES:Free Event
ORGANIZER;CN="SNM Programs":MAILTO:programs@snministries.org
END:VEVENT
BEGIN:VEVENT
DTSTART;TZID=America/New_York:20280509T170000
DTEND;TZID=America/New_York:20280509T190000
DTSTAMP:20260419T155115
CREATED:20240131T190902Z
LAST-MODIFIED:20240131T190902Z
UID:10000584-1841504400-1841511600@solanconeighborhoodministries.org
SUMMARY:Wesley Church Community Meal
DESCRIPTION:Community Meal Every Tuesday at 5:00pm – 7:00pm\nWesley Church\n1104 Kirkwood Pike\nQuarryville\, PA 17566\nOpen to the community at no charge\nNo RSVP Required
URL:https://solanconeighborhoodministries.org/ministry-event/wesley-church-community-meal/2028-05-09/
LOCATION:Wesley Church\, 1104 Kirkwood Pike\, Quarryville\, PA\, 17566\, United States
CATEGORIES:Free Event
ORGANIZER;CN="SNM Programs":MAILTO:programs@snministries.org
END:VEVENT
BEGIN:VEVENT
DTSTART;TZID=America/New_York:20280516T170000
DTEND;TZID=America/New_York:20280516T190000
DTSTAMP:20260419T155115
CREATED:20240131T190902Z
LAST-MODIFIED:20240131T190902Z
UID:10000585-1842109200-1842116400@solanconeighborhoodministries.org
SUMMARY:Wesley Church Community Meal
DESCRIPTION:Community Meal Every Tuesday at 5:00pm – 7:00pm\nWesley Church\n1104 Kirkwood Pike\nQuarryville\, PA 17566\nOpen to the community at no charge\nNo RSVP Required
URL:https://solanconeighborhoodministries.org/ministry-event/wesley-church-community-meal/2028-05-16/
LOCATION:Wesley Church\, 1104 Kirkwood Pike\, Quarryville\, PA\, 17566\, United States
CATEGORIES:Free Event
ORGANIZER;CN="SNM Programs":MAILTO:programs@snministries.org
END:VEVENT
BEGIN:VEVENT
DTSTART;TZID=America/New_York:20280523T170000
DTEND;TZID=America/New_York:20280523T190000
DTSTAMP:20260419T155115
CREATED:20240131T190902Z
LAST-MODIFIED:20240131T190902Z
UID:10000586-1842714000-1842721200@solanconeighborhoodministries.org
SUMMARY:Wesley Church Community Meal
DESCRIPTION:Community Meal Every Tuesday at 5:00pm – 7:00pm\nWesley Church\n1104 Kirkwood Pike\nQuarryville\, PA 17566\nOpen to the community at no charge\nNo RSVP Required
URL:https://solanconeighborhoodministries.org/ministry-event/wesley-church-community-meal/2028-05-23/
LOCATION:Wesley Church\, 1104 Kirkwood Pike\, Quarryville\, PA\, 17566\, United States
CATEGORIES:Free Event
ORGANIZER;CN="SNM Programs":MAILTO:programs@snministries.org
END:VEVENT
BEGIN:VEVENT
DTSTART;TZID=America/New_York:20280530T170000
DTEND;TZID=America/New_York:20280530T190000
DTSTAMP:20260419T155115
CREATED:20240131T190902Z
LAST-MODIFIED:20240131T190902Z
UID:10000587-1843318800-1843326000@solanconeighborhoodministries.org
SUMMARY:Wesley Church Community Meal
DESCRIPTION:Community Meal Every Tuesday at 5:00pm – 7:00pm\nWesley Church\n1104 Kirkwood Pike\nQuarryville\, PA 17566\nOpen to the community at no charge\nNo RSVP Required
URL:https://solanconeighborhoodministries.org/ministry-event/wesley-church-community-meal/2028-05-30/
LOCATION:Wesley Church\, 1104 Kirkwood Pike\, Quarryville\, PA\, 17566\, United States
CATEGORIES:Free Event
ORGANIZER;CN="SNM Programs":MAILTO:programs@snministries.org
END:VEVENT
BEGIN:VEVENT
DTSTART;TZID=America/New_York:20280606T170000
DTEND;TZID=America/New_York:20280606T190000
DTSTAMP:20260419T155115
CREATED:20240131T190902Z
LAST-MODIFIED:20240131T190902Z
UID:10000588-1843923600-1843930800@solanconeighborhoodministries.org
SUMMARY:Wesley Church Community Meal
DESCRIPTION:Community Meal Every Tuesday at 5:00pm – 7:00pm\nWesley Church\n1104 Kirkwood Pike\nQuarryville\, PA 17566\nOpen to the community at no charge\nNo RSVP Required
URL:https://solanconeighborhoodministries.org/ministry-event/wesley-church-community-meal/2028-06-06/
LOCATION:Wesley Church\, 1104 Kirkwood Pike\, Quarryville\, PA\, 17566\, United States
CATEGORIES:Free Event
ORGANIZER;CN="SNM Programs":MAILTO:programs@snministries.org
END:VEVENT
BEGIN:VEVENT
DTSTART;TZID=America/New_York:20280613T170000
DTEND;TZID=America/New_York:20280613T190000
DTSTAMP:20260419T155115
CREATED:20240131T190902Z
LAST-MODIFIED:20240131T190902Z
UID:10000589-1844528400-1844535600@solanconeighborhoodministries.org
SUMMARY:Wesley Church Community Meal
DESCRIPTION:Community Meal Every Tuesday at 5:00pm – 7:00pm\nWesley Church\n1104 Kirkwood Pike\nQuarryville\, PA 17566\nOpen to the community at no charge\nNo RSVP Required
URL:https://solanconeighborhoodministries.org/ministry-event/wesley-church-community-meal/2028-06-13/
LOCATION:Wesley Church\, 1104 Kirkwood Pike\, Quarryville\, PA\, 17566\, United States
CATEGORIES:Free Event
ORGANIZER;CN="SNM Programs":MAILTO:programs@snministries.org
END:VEVENT
BEGIN:VEVENT
DTSTART;TZID=America/New_York:20280620T170000
DTEND;TZID=America/New_York:20280620T190000
DTSTAMP:20260419T155115
CREATED:20240131T190902Z
LAST-MODIFIED:20240131T190902Z
UID:10000590-1845133200-1845140400@solanconeighborhoodministries.org
SUMMARY:Wesley Church Community Meal
DESCRIPTION:Community Meal Every Tuesday at 5:00pm – 7:00pm\nWesley Church\n1104 Kirkwood Pike\nQuarryville\, PA 17566\nOpen to the community at no charge\nNo RSVP Required
URL:https://solanconeighborhoodministries.org/ministry-event/wesley-church-community-meal/2028-06-20/
LOCATION:Wesley Church\, 1104 Kirkwood Pike\, Quarryville\, PA\, 17566\, United States
CATEGORIES:Free Event
ORGANIZER;CN="SNM Programs":MAILTO:programs@snministries.org
END:VEVENT
END:VCALENDAR